Workbook
Name _: "="
Name ___________q45: {"'용역비'!$A$4:$C$8"}
Name _________q45: {"'용역비'!$A$4:$C$8"}
Name _______q45: {"'용역비'!$A$4:$C$8"}
Name ______q45: {"'용역비'!$A$4:$C$8"}
Name _____q45: {"'용역비'!$A$4:$C$8"}
Name ____q45: {"'용역비'!$A$4:$C$8"}
Name ___q45: {"'용역비'!$A$4:$C$8"}
Name __DemandLoad: TRUE
Name __IntlFixup: TRUE
Name __q45: {"'용역비'!$A$4:$C$8"}
Name _Order1: 255
Name _Order2: 255
Name _q45: {"'용역비'!$A$4:$C$8"}
Name _Regression_Int: 1
Name _tt1: "tt1"
Name \b: #N/A
Name \c: #N/A
Name \d: #N/A
Name \p: #N/A
Name aaa.: #REF!
Name aaaa: BlankMacro1
Name aaaa: BlankMacro1
Name aaaaaaa: {"Book1","상동3BL옥외설계계산서(1차검토분).xls"}
Name Access_Button: "업체현황_카드발송_List"
Name Access_Button1: "업체현황_카드발송_List"
Name Access_Button2: "업체현황_카드발송_List"
Name Access_Button3: "카드발송_카드발송_List1"
Name Access_Button4: "업체현황_카드발송_List"
Name AccessDatabase: "C:\dnkim\협력업체\카드발송.mdb"
Name adfvvv: {"'Firr(선)'!$AS$1:$AY$62","'Firr(사)'!$AS$1:$AY$62","'Firr(회)'!$AS$1:$AY$62","'Firr(선)'!$L$1:$V$62","'Firr(사)'!$L$1:$V$62","'Firr(회)'!$L$1:$V$62"}
Name ÀÎ¼â: [2]!ÀÎ¼â
Name anscount: 1
Name Áö¿ì±â: [2]!Áö¿ì±â
Name asfwe: {"'Firr(선)'!$AS$1:$AY$62","'Firr(사)'!$AS$1:$AY$62","'Firr(회)'!$AS$1:$AY$62","'Firr(선)'!$L$1:$V$62","'Firr(사)'!$L$1:$V$62","'Firr(회)'!$L$1:$V$62"}
Name awer: {"'Firr(선)'!$AS$1:$AY$62","'Firr(사)'!$AS$1:$AY$62","'Firr(회)'!$AS$1:$AY$62","'Firr(선)'!$L$1:$V$62","'Firr(사)'!$L$1:$V$62","'Firr(회)'!$L$1:$V$62"}
Name cgmh: {"'용역비'!$A$4:$C$8"}
Name cxee: {"'Firr(선)'!$AS$1:$AY$62","'Firr(사)'!$AS$1:$AY$62","'Firr(회)'!$AS$1:$AY$62","'Firr(선)'!$L$1:$V$62","'Firr(사)'!$L$1:$V$62","'Firr(회)'!$L$1:$V$62"}
Name DANGA: '[3]Y-WORK'!$D$19:$D$19,'[3]Y-WORK'!$F$19:$BD$19
Name database2: #REF!
Name DDDDA: BlankMacro1
Name DDDDA: BlankMacro1
Name derwr: {"'Firr(선)'!$AS$1:$AY$62","'Firr(사)'!$AS$1:$AY$62","'Firr(회)'!$AS$1:$AY$62","'Firr(선)'!$L$1:$V$62","'Firr(사)'!$L$1:$V$62","'Firr(회)'!$L$1:$V$62"}
Name dfwer: {"'Firr(선)'!$AS$1:$AY$62","'Firr(사)'!$AS$1:$AY$62","'Firr(회)'!$AS$1:$AY$62","'Firr(선)'!$L$1:$V$62","'Firr(사)'!$L$1:$V$62","'Firr(회)'!$L$1:$V$62"}
Name dhj: {"'용역비'!$A$4:$C$8"}
Name Document_array: {"서울냉천 3차( 5. 6-7).xls","Sheet1"}
Name dsds: [4]DATA1!$A$3:$B$9
Name DW: {"'용역비'!$A$4:$C$8"}
Name EFG: {"'용역비'!$A$4:$C$8"}
Name EGE: {"'용역비'!$A$4:$C$8"}
Name ertyertye: {"'용역비'!$A$4:$C$8"}
Name ETYETY: {"'용역비'!$A$4:$C$8"}
Name etyj: {"'용역비'!$A$4:$C$8"}
Name etyjj: {"'용역비'!$A$4:$C$8"}
Name ETYJTYJ: {"'용역비'!$A$4:$C$8"}
Name EWEF: [0]!EWEF
Name ewq: {"'Firr(선)'!$AS$1:$AY$62","'Firr(사)'!$AS$1:$AY$62","'Firr(회)'!$AS$1:$AY$62","'Firr(선)'!$L$1:$V$62","'Firr(사)'!$L$1:$V$62","'Firr(회)'!$L$1:$V$62"}
Name FIX: #REF!
Name FK: {"'용역비'!$A$4:$C$8"}
Name gcfj: BlankMacro1

Sheet 원가
A1: 공 사 원 가 계 산 서
A2: 공 사 명 : | D2: 계명대 성서캠퍼스 장애인편의시설 개선공사 | J2: (단위:원)
A3: 구 분 | E3: 금 액 | F3: 구 성 비 | J3: 비 고
B4: 1. 순 공 사 원 가 | E4: =E5+E7+E10 -> 0
C5: 가. 재 료 비 | E5: =E6 -> 0
C6: 가-1. 직접재료비 | E6: =동별집계표!F5 -> 0
C7: 나. 노 무 비 | E7: =SUM(E8:E9) -> 0
C8: 나-1. 직접노무비 | E8: =동별집계표!H5 -> 0
C9: 나-2. 간접노무비 | E9: =TRUNC(E8*$I$9) -> 0 | F9: [나1] 의 | I9: 0.06 | K9: (가+나-1+다-1)금액
C10: 다. 경 비 | E10: =SUM(E11:E23) -> 0
C11: 다-1. 산출경비 | E11: =동별집계표!J5-동별집계표!J20 -> 0
C12: 다-2. 산재보험료 | E12: =TRUNC(E7*$I$12) -> 0 | F12: [나]의 | I12: 0.0356
C13: 다-3. 고용보험료 | E13: =TRUNC(E7*$I$13) -> 0 | F13: [나]의 | I13: 0.0101
C14: 다-4. 건강보험료 | E14: =TRUNC(E8*$I$14) -> 0 | F14: [나1]의 | I14: 0.03545
C15: 다-5. 노인장기요양보험 | E15: =TRUNC(E14*$I$15) -> 0 | F15: [다4]의 | I15: 0.1295
C16: 다-6. 연금보험료 | E16: =TRUNC(E8*$I$16) -> 0 | F16: [나1]의 | I16: 0.045
C17: 다-7. 퇴직공제부금 | E17: - | F17: [나1]의
C18: 다-8. 산업안전보건관리비 | E18: =TRUNC((E6+E8)*$I$18) -> 0 | F18: [가+나1]의 | I18: 0.0311 | K18: 5억미만
C19: 다-9. 기타경비 | E19: =TRUNC((E5+E7)*$I$19) -> 0 | F19: [가+나]의 | I19: 0.03 | K19: (가+나-1+다-1)금액
C20: 다-10. 공사이행보증수수료 | F20: (([가+나-1+다-1]의)×0.02%)×년수공기(년)
C21: 다-11. 하도급대금지금 보증수수료 | E21: =TRUNC((E5+E8+E11)*$I$21) -> 0 | F21: [가+나1+다1]의 | I21: 0.00081 | K21: 추정가격
C22: 다-12. 건설기계대여대금 지급보증서 발급금액 | E22: =TRUNC((E5+E8+E11)*$I$22) -> 0 | F22: [가+나1+다1]의 | I22: 0.0007
C23: 다-13. 환경보전비 | E23: =TRUNC((E6+E8+E11)*$I$23) -> 0 | F23: [가+나1+다1]의 | I23: 0.003 | K23: 개보수공사
A24: 2. 일 반 관 리 비 | E24: =TRUNC((E4)*$I$24) -> 0 | F24: [1]의 | I24: 0.03 | K24: 추정가격
A25: 3. 이 윤 | E25: =TRUNC((E7+E10+E24)*$I$25) -> 0 | F25: [1나+1다+2]의 | I25: 0.1 | K25: 추정가격
A26: 4. 주 요 자 재 비 | E26: 0
A27: 5. 총 원 가 | E27: =SUM(E4,E24:E26) -> 0 | F27: [1+2+3+4]
A28: 6. 부 가 가 치 세 | E28: =TRUNC(E27*$I$28) -> 0 | F28: [5]의 | I28: 0.1
A29: 7. 도 급 금 액 | E29: =ROUNDDOWN((E27+E28),0) -> 0 | F29: [5+6]
A30: 8. 폐기물처리비 | E30: =(동별집계표!L20*1.1) -> 0 | J30: 부가세포함
A31: 총 공 사 비 | E31: =E29+E30 -> 0
E34: =동별집계표!L5 -> 0

Sheet 동별집계표
A1: 공 종 별 집 계 표
A2: [ 계명대 성서캠퍼스 장애인편의시설 개선공사 ]
A3: 품 명 | B3: 규 격 | C3: 단위 | D3: 수량 | E3: 재 료 비 | G3: 노 무 비 | I3: 경 비 | K3: 합 계 | M3: 비 고 | N3: 공종코드 | O3: 변수 | P3: 상위공종 | Q3: 공종구분 | R3: 공종레벨 | S3: 공종소계 | T3: 원가계산서 연결금액
E4: 단 가 | F4: 금 액 | G4: 단 가 | H4: 금 액 | I4: 단 가 | J4: 금 액 | K4: 단 가 | L4: 금 액
A5: 01 계명대 성서캠퍼스 장애인편의시설 개선공사 | D5: 1 | E5: =F6+F7+F8+F9+F10+F11+F12+F13+F14+F15+F16+F17+F18+F19+F20 -> 0 | F5: =E5*D5 -> 0 | G5: =H6+H7+H8+H9+H10+H11+H12+H13+H14+H15+H16+H17+H18+H19+H20 -> 0 | H5: =G5*D5 -> 0 | I5: =J6+J7+J8+J9+J10+J11+J12+J13+J14+J15+J16+J17+J18+J19+J20 -> 0 | J5: =I5*D5 -> 0 | K5: =E5+G5+I5 -> 0 | L5: =F5+H5+J5 -> 0 | N5: 01 | R5: 1
A6: 0101 01.체육관 | D6: 1 | E6: =VLOOKUP($A6,공종별집계표!$A:$L,6,FALSE) -> 0 | F6: =E6*D6 -> 0 | G6: =VLOOKUP($A6,공종별집계표!$A:$L,8,FALSE) -> 0 | H6: =G6*D6 -> 0 | I6: =VLOOKUP($A6,공종별집계표!$A:$L,10,FALSE) -> 0 | J6: =I6*D6 -> 0 | K6: =E6+G6+I6 -> 0 | L6: =F6+H6+J6 -> 0 | N6: 0101 | P6: 01 | R6: 2
A7: 0102 02.바우어관 | D7: 1 | E7: =VLOOKUP($A7,공종별집계표!$A:$L,6,FALSE) -> 0 | F7: =E7*D7 -> 0 | G7: =VLOOKUP($A7,공종별집계표!$A:$L,8,FALSE) -> 0 | H7: =G7*D7 -> 0 | I7: =VLOOKUP($A7,공종별집계표!$A:$L,10,FALSE) -> 0 | J7: =I7*D7 -> 0 | K7: =E7+G7+I7 -> 0 | L7: =F7+H7+J7 -> 0 | N7: 0102 | P7: 01 | R7: 2
A8: 0103 03.동산도서관 | D8: 1 | E8: =VLOOKUP($A8,공종별집계표!$A:$L,6,FALSE) -> 0 | F8: =E8*D8 -> 0 | G8: =VLOOKUP($A8,공종별집계표!$A:$L,8,FALSE) -> 0 | H8: =G8*D8 -> 0 | I8: =VLOOKUP($A8,공종별집계표!$A:$L,10,FALSE) -> 0 | J8: =I8*D8 -> 0 | K8: =E8+G8+I8 -> 0 | L8: =F8+H8+J8 -> 0 | N8: 0103 | P8: 01 | R8: 2
A9: 0104 04.행소관 | D9: 1 | E9: =VLOOKUP($A9,공종별집계표!$A:$L,6,FALSE) -> 0 | F9: =E9*D9 -> 0 | G9: =VLOOKUP($A9,공종별집계표!$A:$L,8,FALSE) -> 0 | H9: =G9*D9 -> 0 | I9: =VLOOKUP($A9,공종별집계표!$A:$L,10,FALSE) -> 0 | J9: =I9*D9 -> 0 | K9: =E9+G9+I9 -> 0 | L9: =F9+H9+J9 -> 0 | N9: 0104 | P9: 01 | R9: 2
A10: 0105 05.아담스채플 | D10: 1 | E10: =VLOOKUP($A10,공종별집계표!$A:$L,6,FALSE) -> 0 | F10: =E10*D10 -> 0 | G10: =VLOOKUP($A10,공종별집계표!$A:$L,8,FALSE) -> 0 | H10: =G10*D10 -> 0 | I10: =VLOOKUP($A10,공종별집계표!$A:$L,10,FALSE) -> 0 | J10: =I10*D10 -> 0 | K10: =E10+G10+I10 -> 0 | L10: =F10+H10+J10 -> 0 | N10: 0105 | P10: 01 | R10: 2
A11: 0106 06.산학협력관 | D11: 1 | E11: =VLOOKUP($A11,공종별집계표!$A:$L,6,FALSE) -> 0 | F11: =E11*D11 -> 0 | G11: =VLOOKUP($A11,공종별집계표!$A:$L,8,FALSE) -> 0 | H11: =G11*D11 -> 0 | I11: =VLOOKUP($A11,공종별집계표!$A:$L,10,FALSE) -> 0 | J11: =I11*D11 -> 0 | K11: =E11+G11+I11 -> 0 | L11: =F11+H11+J11 -> 0 | N11: 0106 | P11: 01 | R11: 2
A12: 0107 07.대운동장 화장실 | D12: 1 | E12: =VLOOKUP($A12,공종별집계표!$A:$L,6,FALSE) -> 0 | F12: =E12*D12 -> 0 | G12: =VLOOKUP($A12,공종별집계표!$A:$L,8,FALSE) -> 0 | H12: =G12*D12 -> 0 | I12: =VLOOKUP($A12,공종별집계표!$A:$L,10,FALSE) -> 0 | J12: =I12*D12 -> 0 | K12: =E12+G12+I12 -> 0 | L12: =F12+H12+J12 -> 0 | N12: 0107 | P12: 01 | R12: 2
A13: 0108 08.대운동장본부석및스탠드 | D13: 1 | E13: =VLOOKUP($A13,공종별집계표!$A:$L,6,FALSE) -> 0 | F13: =E13*D13 -> 0 | G13: =VLOOKUP($A13,공종별집계표!$A:$L,8,FALSE) -> 0 | H13: =G13*D13 -> 0 | I13: =VLOOKUP($A13,공종별집계표!$A:$L,10,FALSE) -> 0 | J13: =I13*D13 -> 0 | K13: =E13+G13+I13 -> 0 | L13: =F13+H13+J13 -> 0 | N13: 0108 | P13: 01 | R13: 2
A14: 0109 09.행소박물관 | D14: 1 | E14: =VLOOKUP($A14,공종별집계표!$A:$L,6,FALSE) -> 0 | F14: =E14*D14 -> 0 | G14: =VLOOKUP($A14,공종별집계표!$A:$L,8,FALSE) -> 0 | H14: =G14*D14 -> 0 | I14: =VLOOKUP($A14,공종별집계표!$A:$L,10,FALSE) -> 0 | J14: =I14*D14 -> 0 | K14: =E14+G14+I14 -> 0 | L14: =F14+H14+J14 -> 0 | N14: 0109 | P14: 01 | R14: 2
A15: 0110 10.바우어 신관 | D15: 1 | E15: =VLOOKUP($A15,공종별집계표!$A:$L,6,FALSE) -> 0 | F15: =E15*D15 -> 0 | G15: =VLOOKUP($A15,공종별집계표!$A:$L,8,FALSE) -> 0 | H15: =G15*D15 -> 0 | I15: =VLOOKUP($A15,공종별집계표!$A:$L,10,FALSE) -> 0 | J15: =I15*D15 -> 0 | K15: =E15+G15+I15 -> 0 | L15: =F15+H15+J15 -> 0 | N15: 0110 | P15: 01 | R15: 2
A16: 0111 11.계명아트센터 | D16: 1 | E16: =VLOOKUP($A16,공종별집계표!$A:$L,6,FALSE) -> 0 | F16: =E16*D16 -> 0 | G16: =VLOOKUP($A16,공종별집계표!$A:$L,8,FALSE) -> 0 | H16: =G16*D16 -> 0 | I16: =VLOOKUP($A16,공종별집계표!$A:$L,10,FALSE) -> 0 | J16: =I16*D16 -> 0 | K16: =E16+G16+I16 -> 0 | L16: =F16+H16+J16 -> 0 | N16: 0111 | P16: 01 | R16: 2
A17: 0112 12.복지관 | D17: 1 | E17: =VLOOKUP($A17,공종별집계표!$A:$L,6,FALSE) -> 0 | F17: =E17*D17 -> 0 | G17: =VLOOKUP($A17,공종별집계표!$A:$L,8,FALSE) -> 0 | H17: =G17*D17 -> 0 | I17: =VLOOKUP($A17,공종별집계표!$A:$L,10,FALSE) -> 0 | J17: =I17*D17 -> 0 | K17: =E17+G17+I17 -> 0 | L17: =F17+H17+J17 -> 0 | N17: 011501 | P17: 0115 | R17: 3
... A20: 0115 폐기물처리비 | D20: 1 | E20: =VLOOKUP($A20,공종별집계표!$A:$L,6,FALSE) -> 0 | F20: =E20*D20 -> 0 | G20: =VLOOKUP($A20,공종별집계표!$A:$L,8,FALSE) -> 0 | H20: =G20*D20 -> 0 | I20: =VLOOKUP($A20,공종별집계표!$A:$L,10,FALSE) -> 0 | J20: =I20*D20 -> 0 | K20: =E20+G20+I20 -> 0 | L20: =F20+H20+J20 -> 0 | N20: 0115 | P20: 01 | R20: 2
J21: =I21*D21 -> 0 | K21: =E21+G21+I21 -> 0 | L21: =F21+H21+J21 -> 0 | N21: 011502 | P21: 0115 | R21: 3
J22: =I22*D22 -> 0 | K22: =E22+G22+I22 -> 0 | L22: =F22+H22+J22 -> 0 | N22: 011503 | P22: 0115 | R22: 3
J23: =I23*D23 -> 0 | K23: =E23+G23+I23 -> 0 | L23: =F23+H23+J23 -> 0 | N23: 011504 | P23: 0115 | R23: 3
J24: =I24*D24 -> 0 | K24: =E24+G24+I24 -> 0 | L24: =F24+H24+J24 -> 0 | N24: 011505 | P24: 0115 | R24: 3
J25: =I25*D25 -> 0 | K25: =E25+G25+I25 -> 0 | L25: =F25+H25+J25 -> 0 | N25: 011506 | P25: 0115 | R25: 3
J26: =I26*D26 -> 0 | K26: =E26+G26+I26 -> 0 | L26: =F26+H26+J26 -> 0 | N26: 011507 | P26: 0115 | R26: 3
A27: [ 합 계 ] | F27: =F5 -> 0 | H27: =H5 -> 0 | J27: =J5 -> 0 | L27: =L5 -> 0

Sheet 공종별집계표
A1: 공 종 별 집 계 표
A2: [ 계명대 성서캠퍼스 장애인편의시설 개선공사 ]
A3: 품 명 | B3: 규 격 | C3: 단위 | D3: 수량 | E3: 재 료 비 | G3: 노 무 비 | I3: 경 비 | K3: 합 계 | M3: 비 고 | N3: 공종코드 | O3: 변수 | P3: 상위공종 | Q3: 공종구분 | R3: 공종레벨 | S3: 공종소계 | T3: 원가계산서 연결금액
E4: 단 가 | F4: 금 액 | G4: 단 가 | H4: 금 액 | I4: 단 가 | J4: 금 액 | K4: 단 가 | L4: 금 액
A5: 01 계명대 성서캠퍼스 장애인편의시설 개선공사 | D5: 1 | E5: =F6+F10+F14+F18+F22+F26+F30+F34+F37+F41+F45+F49+F53+F57+F60 -> 0 | F5: =E5*D5 -> 0 | G5: =H6+H10+H14+H18+H22+H26+H30+H34+H37+H41+H45+H49+H53+H57+H60 -> 0 | H5: =G5*D5 -> 0 | I5: =J6+J10+J14+J18+J22+J26+J30+J34+J37+J41+J45+J49+J53+J57+J60 -> 0 | J5: =I5*D5 -> 0 | K5: =E5+G5+I5 -> 0 | L5: =F5+H5+J5 -> 0 | N5: 01 | R5: 1
A6: 0101 01.체육관 | D6: 1 | F6: =E6*D6 -> 0 | G6: =H7+H8+H9 -> 0 | H6: =G6*D6 -> 0 | I6: =J7+J8+J9 -> 0 | J6: =I6*D6 -> 0 | K6: =E6+G6+I6 -> 0 | L6: =F6+H6+J6 -> 0 | N6: 0101 | P6: 01 | R6: 2
A7: 010101 기 타 공 사 | D7: 1 | E7: =공종별내역서!F27 -> 0 | F7: =E7*D7 -> 0 | G7: =공종별내역서!H27 -> 0 | H7: =G7*D7 -> 0 | I7: =공종별내역서!J27 -> 0 | J7: =I7*D7 -> 0 | K7: =E7+G7+I7 -> 0 | L7: =F7+H7+J7 -> 0 | N7: 010101 | P7: 0101 | R7: 3
A8: 010102 철 거 공 사 | D8: 1 | E8: =공종별내역서!F51 -> 0 | F8: =E8*D8 -> 0 | G8: =공종별내역서!H51 -> 0 | H8: =G8*D8 -> 0 | I8: =공종별내역서!J51 -> 0 | J8: =I8*D8 -> 0 | K8: =E8+G8+I8 -> 0 | L8: =F8+H8+J8 -> 0 | N8: 010102 | P8: 0101 | R8: 3
A9: 010103 장애인시설공사 | D9: 1 | E9: =공종별내역서!F75 -> 0 | F9: =E9*D9 -> 0 | G9: =공종별내역서!H75 -> 0 | H9: =G9*D9 -> 0 | I9: =공종별내역서!J75 -> 0 | J9: =I9*D9 -> 0 | K9: =E9+G9+I9 -> 0 | L9: =F9+H9+J9 -> 0 | N9: 010103 | P9: 0101 | R9: 3
A10: 0102 02.바우어관 | D10: 1 | E10: =F11+F12+F13 -> 0 | F10: =E10*D10 -> 0 | G10: =H11+H12+H13 -> 0 | H10: =G10*D10 -> 0 | I10: =J11+J12+J13 -> 0 | J10: =I10*D10 -> 0 | K10: =E10+G10+I10 -> 0 | L10: =F10+H10+J10 -> 0 | N10: 0102 | P10: 01 | R10: 2
A11: 010201 기 타 공 사 | D11: 1 | E11: =공종별내역서!F99 -> 0 | F11: =E11*D11 -> 0 | G11: =공종별내역서!H99 -> 0 | H11: =G11*D11 -> 0 | I11: =공종별내역서!J99 -> 0 | J11: =I11*D11 -> 0 | K11: =E11+G11+I11 -> 0 | L11: =F11+H11+J11 -> 0 | N11: 010201 | P11: 0102 | R11: 3
A12: 010202 철 거 공 사 | D12: 1 | E12: =공종별내역서!F123 -> 0 | F12: =E12*D12 -> 0 | G12: =공종별내역서!H123 -> 0 | H12: =G12*D12 -> 0 | I12: =공종별내역서!J123 -> 0 | J12: =I12*D12 -> 0 | K12: =E12+G12+I12 -> 0 | L12: =F12+H12+J12 -> 0 | N12: 010202 | P12: 0102 | R12: 3
A13: 010203 장애인시설공사 | D13: 1 | E13: =공종별내역서!F147 -> 0 | F13: =E13*D13 -> 0 | G13: =공종별내역서!H147 -> 0 | H13: =G13*D13 -> 0 | I13: =공종별내역서!J147 -> 0 | J13: =I13*D13 -> 0 | K13: =E13+G13+I13 -> 0 | L13: =F13+H13+J13 -> 0 | N13: 010203 | P13: 0102 | R13: 3
A14: 0103 03.동산도서관 | D14: 1 | E14: =F15+F16+F17 -> 0 | F14: =E14*D14 -> 0 | G14: =H15+H16+H17 -> 0 | H14: =G14*D14 -> 0 | I14: =J15+J16+J17 -> 0 | J14: =I14*D14 -> 0 | K14: =E14+G14+I14 -> 0 | L14: =F14+H14+J14 -> 0 | N14: 0103 | P14: 01 | R14: 2
A15: 010301 기 타 공 사 | D15: 1 | E15: =공종별내역서!F171 -> 0 | F15: =E15*D15 -> 0 | G15: =공종별내역서!H171 -> 0 | H15: =G15*D15 -> 0 | I15: =공종별내역서!J171 -> 0 | J15: =I15*D15 -> 0 | K15: =E15+G15+I15 -> 0 | L15: =F15+H15+J15 -> 0 | N15: 010301 | P15: 0103 | R15: 3
A16: 010302 철 거 공 사 | D16: 1 | E16: =공종별내역서!F195 -> 0 | F16: =E16*D16 -> 0 | G16: =공종별내역서!H195 -> 0 | H16: =G16*D16 -> 0 | I16: =공종별내역서!J195 -> 0 | J16: =I16*D16 -> 0 | K16: =E16+G16+I16 -> 0 | L16: =F16+H16+J16 -> 0 | N16: 010302 | P16: 0103 | R16: 3
A17: 010303 장애인시설공사 | D17: 1 | E17: =공종별내역서!F219 -> 0 | F17: =E17*D17 -> 0 | G17: =공종별내역서!H219 -> 0 | H17: =G17*D17 -> 0 | I17: =공종별내역서!J219 -> 0 | J17: =I17*D17 -> 0 | K17: =E17+G17+I17 -> 0 | L17: =F17+H17+J17 -> 0 | N17: 010303 | P17: 0103 | R17: 3
A18: 0104 04.행소관 | D18: 1 | E18: =F19+F20+F21 -> 0 | F18: =E18*D18 -> 0 | G18: =H19+H20+H21 -> 0 | H18: =G18*D18 -> 0 | I18: =J19+J20+J21 -> 0 | J18: =I18*D18 -> 0 | K18: =E18+G18+I18 -> 0 | L18: =F18+H18+J18 -> 0 | N18: 0104 | P18: 01 | R18: 2
A19: 010401 기 타 공 사 | D19: 1 | E19: =공종별내역서!F243 -> 0 | F19: =E19*D19 -> 0 | G19: =공종별내역서!H243 -> 0 | H19: =G19*D19 -> 0 | I19: =공종별내역서!J243 -> 0 | J19: =I19*D19 -> 0 | K19: =E19+G19+I19 -> 0 | L19: =F19+H19+J19 -> 0 | N19: 010401 | P19: 0104 | R19: 3
A20: 010402 철 거 공 사 | D20: 1 | E20: =공종별내역서!F267 -> 0 | F20: =E20*D20 -> 0 | G20: =공종별내역서!H267 -> 0 | H20: =G20*D20 -> 0 | I20: =공종별내역서!J267 -> 0 | J20: =I20*D20 -> 0 | K20: =E20+G20+I20 -> 0 | L20: =F20+H20+J20 -> 0 | N20: 010402 | P20: 0104 | R20: 3
A21: 010403 장애인시설공사 | D21: 1 | E21: =공종별내역서!F291 -> 0 | F21: =E21*D21 -> 0 | G21: =공종별내역서!H291 -> 0 | H21: =G21*D21 -> 0 | I21: =공종별내역서!J291 -> 0 | J21: =I21*D21 -> 0 | K21: =E21+G21+I21 -> 0 | L21: =F21+H21+J21 -> 0 | N21: 010403 | P21: 0104 | R21: 3
A22: 0105 05.아담스채플 | D22: 1 | E22: =F23+F24+F25 -> 0 | F22: =E22*D22 -> 0 | G22: =H23+H24+H25 -> 0 | H22: =G22*D22 -> 0 | I22: =J23+J24+J25 -> 0 | J22: =I22*D22 -> 0 | K22: =E22+G22+I22 -> 0 | L22: =F22+H22+J22 -> 0 | N22: 0105 | P22: 01 | R22: 2
A23: 010501 기 타 공 사 | D23: 1 | E23: =공종별내역서!F315 -> 0 | F23: =E23*D23 -> 0 | G23: =공종별내역서!H315 -> 0 | H23: =G23*D23 -> 0 | I23: =공종별내역서!J315 -> 0 | J23: =I23*D23 -> 0 | K23: =E23+G23+I23 -> 0 | L23: =F23+H23+J23 -> 0 | N23: 010501 | P23: 0105 | R23: 3
A24: 010502 철 거 공 사 | D24: 1 | E24: =공종별내역서!F339 -> 0 | F24: =E24*D24 -> 0 | G24: =공종별내역서!H339 -> 0 | H24: =G24*D24 -> 0 | I24: =공종별내역서!J339 -> 0 | J24: =I24*D24 -> 0 | K24: =E24+G24+I24 -> 0 | L24: =F24+H24+J24 -> 0 | N24: 010502 | P24: 0105 | R24: 3
A25: 010503 장애인시설공사 | D25: 1 | E25: =공종별내역서!F363 -> 0 | F25: =E25*D25 -> 0 | G25: =공종별내역서!H363 -> 0 | H25: =G25*D25 -> 0 | I25: =공종별내역서!J363 -> 0 | J25: =I25*D25 -> 0 | K25: =E25+G25+I25 -> 0 | L25: =F25+H25+J25 -> 0 | N25: 010503 | P25: 0105 | R25: 3
A26: 0106 06.산학협력관 | D26: 1 | E26: =F27+F28+F29 -> 0 | F26: =E26*D26 -> 0 | G26: =H27+H28+H29 -> 0 | H26: =G26*D26 -> 0 | I26: =J27+J28+J29 -> 0 | J26: =I26*D26 -> 0 | K26: =E26+G26+I26 -> 0 | L26: =F26+H26+J26 -> 0 | N26: 0106 | P26: 01 | R26: 2
A27: 010601 기 타 공 사 | D27: 1 | E27: =공종별내역서!F387 -> 0 | F27: =E27*D27 -> 0 | G27: =공종별내역서!H387 -> 0 | H27: =G27*D27 -> 0 | I27: =공종별내역서!J387 -> 0 | J27: =I27*D27 -> 0 | K27: =E27+G27+I27 -> 0 | L27: =F27+H27+J27 -> 0 | N27: 010601 | P27: 0106 | R27: 3
A28: 010602 철 거 공 사 | D28: 1 | E28: =공종별내역서!F411 -> 0 | F28: =E28*D28 -> 0 | G28: =공종별내역서!H411 -> 0 | H28: =G28*D28 -> 0 | I28: =공종별내역서!J411 -> 0 | J28: =I28*D28 -> 0 | K28: =E28+G28+I28 -> 0 | L28: =F28+H28+J28 -> 0 | N28: 010602 | P28: 0106 | R28: 3
A29: 010603 장애인시설공사 | D29: 1 | E29: =공종별내역서!F435 -> 0 | F29: =E29*D29 -> 0 | G29: =공종별내역서!H435 -> 0 | H29: =G29*D29 -> 0 | I29: =공종별내역서!J435 -> 0 | J29: =I29*D29 -> 0 | K29: =E29+G29+I29 -> 0 | L29: =F29+H29+J29 -> 0 | N29: 010603 | P29: 0106 | R29: 3
A30: 0107 07.대운동장 화장실 | D30: 1 | E30: =F31+F32+F33 -> 0 | F30: =E30*D30 -> 0 | G30: =H31+H32+H33 -> 0 | H30: =G30*D30 -> 0 | I30: =J31+J32+J33 -> 0 | J30: =I30*D30 -> 0 | K30: =E30+G30+I30 -> 0 | L30: =F30+H30+J30 -> 0 | N30: 0107 | P30: 01 | R30: 2
A31: 010701 기 타 공 사 | D31: 1 | E31: =공종별내역서!F459 -> 0 | F31: =E31*D31 -> 0 | G31: =공종별내역서!H459 -> 0 | H31: =G31*D31 -> 0 | I31: =공종별내역서!J459 -> 0 | J31: =I31*D31 -> 0 | K31: =E31+G31+I31 -> 0 | L31: =F31+H31+J31 -> 0 | N31: 010701 | P31: 0107 | R31: 3
A32: 010702 철 거 공 사 | D32: 1 | E32: =공종별내역서!F483 -> 0 | F32: =E32*D32 -> 0 | G32: =공종별내역서!H483 -> 0 | H32: =G32*D32 -> 0 | I32: =공종별내역서!J483 -> 0 | J32: =I32*D32 -> 0 | K32: =E32+G32+I32 -> 0 | L32: =F32+H32+J32 -> 0 | N32: 010702 | P32: 0107 | R32: 3
A33: 010703 장애인시설공사 | D33: 1 | E33: =공종별내역서!F507 -> 0 | F33: =E33*D33 -> 0 | G33: =공종별내역서!H507 -> 0 | H33: =G33*D33 -> 0 | I33: =공종별내역서!J507 -> 0 | J33: =I33*D33 -> 0 | K33: =E33+G33+I33 -> 0 | L33: =F33+H33+J33 -> 0 | N33: 010703 | P33: 0107 | R33: 3
A34: 0108 08.대운동장본부석및스탠드 | D34: 1 | E34: =F35+F36 -> 0 | F34: =E34*D34 -> 0 | G34: =H35+H36 -> 0 | H34: =G34*D34 -> 0 | I34: =J35+J36 -> 0 | J34: =I34*D34 -> 0 | K34: =E34+G34+I34 -> 0 | L34: =F34+H34+J34 -> 0 | N34: 0108 | P34: 01 | R34: 2
A35: 010801 기 타 공 사 | D35: 1 | E35: =공종별내역서!F531 -> 0 | F35: =E35*D35 -> 0 | G35: =공종별내역서!H531 -> 0 | H35: =G35*D35 -> 0 | I35: =공종별내역서!J531 -> 0 | J35: =I35*D35 -> 0 | K35: =E35+G35+I35 -> 0 | L35: =F35+H35+J35 -> 0 | N35: 010801 | P35: 0108 | R35: 3
A36: 010802 장애인시설공사 | D36: 1 | E36: =공종별내역서!F555 -> 0 | F36: =E36*D36 -> 0 | G36: =공종별내역서!H555 -> 0 | H36: =G36*D36 -> 0 | I36: =공종별내역서!J555 -> 0 | J36: =I36*D36 -> 0 | K36: =E36+G36+I36 -> 0 | L36: =F36+H36+J36 -> 0 | N36: 010802 | P36: 0108 | R36: 3
A37: 0109 09.행소박물관 | D37: 1 | E37: =F38+F39+F40 -> 0 | F37: =E37*D37 -> 0 | G37: =H38+H39+H40 -> 0 | H37: =G37*D37 -> 0 | I37: =J38+J39+J40 -> 0 | J37: =I37*D37 -> 0 | K37: =E37+G37+I37 -> 0 | L37: =F37+H37+J37 -> 0 | N37: 0109 | P37: 01 | R37: 2
A38: 010901 기 타 공 사 | D38: 1 | E38: =공종별내역서!F579 -> 0 | F38: =E38*D38 -> 0 | G38: =공종별내역서!H579 -> 0 | H38: =G38*D38 -> 0 | I38: =공종별내역서!J579 -> 0 | J38: =I38*D38 -> 0 | K38: =E38+G38+I38 -> 0 | L38: =F38+H38+J38 -> 0 | N38: 010901 | P38: 0109 | R38: 3
A39: 010902 철 거 공 사 | D39: 1 | E39: =공종별내역서!F603 -> 0 | F39: =E39*D39 -> 0 | G39: =공종별내역서!H603 -> 0 | H39: =G39*D39 -> 0 | I39: =공종별내역서!J603 -> 0 | J39: =I39*D39 -> 0 | K39: =E39+G39+I39 -> 0 | L39: =F39+H39+J39 -> 0 | N39: 010902 | P39: 0109 | R39: 3
A40: 010903 장애인시설공사 | D40: 1 | E40: =공종별내역서!F627 -> 0 | F40: =E40*D40 -> 0 | G40: =공종별내역서!H627 -> 0 | H40: =G40*D40 -> 0 | I40: =공종별내역서!J627 -> 0 | J40: =I40*D40 -> 0 | K40: =E40+G40+I40 -> 0 | L40: =F40+H40+J40 -> 0 | N40: 010903 | P40: 0109 | R40: 3
A41: 0110 10.바우어 신관 | D41: 1 | E41: =F42+F43+F44 -> 0 | F41: =E41*D41 -> 0 | G41: =H42+H43+H44 -> 0 | H41: =G41*D41 -> 0 | I41: =J42+J43+J44 -> 0 | J41: =I41*D41 -> 0 | K41: =E41+G41+I41 -> 0 | L41: =F41+H41+J41 -> 0 | N41: 0110 | P41: 01 | R41: 2
A42: 011001 기 타 공 사 | D42: 1 | E42: =공종별내역서!F651 -> 0 | F42: =E42*D42 -> 0 | G42: =공종별내역서!H651 -> 0 | H42: =G42*D42 -> 0 | I42: =공종별내역서!J651 -> 0 | J42: =I42*D42 -> 0 | K42: =E42+G42+I42 -> 0 | L42: =F42+H42+J42 -> 0 | N42: 011001 | P42: 0110 | R42: 3
A43: 011002 철 거 공 사 | D43: 1 | E43: =공종별내역서!F675 -> 0 | F43: =E43*D43 -> 0 | G43: =공종별내역서!H675 -> 0 | H43: =G43*D43 -> 0 | I43: =공종별내역서!J675 -> 0 | J43: =I43*D43 -> 0 | K43: =E43+G43+I43 -> 0 | L43: =F43+H43+J43 -> 0 | N43: 011002 | P43: 0110 | R43: 3
A44: 011003 장애인시설공사 | D44: 1 | E44: =공종별내역서!F699 -> 0 | F44: =E44*D44 -> 0 | G44: =공종별내역서!H699 -> 0 | H44: =G44*D44 -> 0 | I44: =공종별내역서!J699 -> 0 | J44: =I44*D44 -> 0 | K44: =E44+G44+I44 -> 0 | L44: =F44+H44+J44 -> 0 | N44: 011003 | P44: 0110 | R44: 3
A45: 0111 11.계명아트센터 | D45: 1 | E45: =F46+F47+F48 -> 0 | F45: =E45*D45 -> 0 | G45: =H46+H47+H48 -> 0 | H45: =G45*D45 -> 0 | I45: =J46+J47+J48 -> 0 | J45: =I45*D45 -> 0 | K45: =E45+G45+I45 -> 0 | L45: =F45+H45+J45 -> 0 | N45: 0111 | P45: 01 | R45: 2
A46: 011101 기 타 공 사 | D46: 1 | E46: =공종별내역서!F723 -> 0 | F46: =E46*D46 -> 0 | G46: =공종별내역서!H723 -> 0 | H46: =G46*D46 -> 0 | I46: =공종별내역서!J723 -> 0 | J46: =I46*D46 -> 0 | K46: =E46+G46+I46 -> 0 | L46: =F46+H46+J46 -> 0 | N46: 011101 | P46: 0111 | R46: 3
A47: 011102 철 거 공 사 | D47: 1 | E47: =공종별내역서!F747 -> 0 | F47: =E47*D47 -> 0 | G47: =공종별내역서!H747 -> 0 | H47: =G47*D47 -> 0 | I47: =공종별내역서!J747 -> 0 | J47: =I47*D47 -> 0 | K47: =E47+G47+I47 -> 0 | L47: =F47+H47+J47 -> 0 | N47: 011102 | P47: 0111 | R47: 3
A48: 011103 장애인시설공사 | D48: 1 | E48: =공종별내역서!F771 -> 0 | F48: =E48*D48 -> 0 | G48: =공종별내역서!H771 -> 0 | H48: =G48*D48 -> 0 | I48: =공종별내역서!J771 -> 0 | J48: =I48*D48 -> 0 | K48: =E48+G48+I48 -> 0 | L48: =F48+H48+J48 -> 0 | N48: 011103 | P48: 0111 | R48: 3
A49: 0112 12.복지관 | D49: 1 | E49: =F50+F51+F52 -> 0 | F49: =E49*D49 -> 0 | G49: =H50+H51+H52 -> 0 | H49: =G49*D49 -> 0 | I49: =J50+J51+J52 -> 0 | J49: =I49*D49 -> 0 | K49: =E49+G49+I49 -> 0 | L49: =F49+H49+J49 -> 0 | N49: 0112 | P49: 01 | R49: 2
A50: 011201 기 타 공 사 | D50: 1 | E50: =공종별내역서!F795 -> 0 | F50: =E50*D50 -> 0 | G50: =공종별내역서!H795 -> 0 | H50: =G50*D50 -> 0 | I50: =공종별내역서!J795 -> 0 | J50: =I50*D50 -> 0 | K50: =E50+G50+I50 -> 0 | L50: =F50+H50+J50 -> 0 | N50: 011201 | P50: 0112 | R50: 3
A51: 011202 철 거 공 사 | D51: 1 | E51: =공종별내역서!F819 -> 0 | F51: =E51*D51 -> 0 | G51: =공종별내역서!H819 -> 0 | H51: =G51*D51 -> 0 | I51: =공종별내역서!J819 -> 0 | J51: =I51*D51 -> 0 | K51: =E51+G51+I51 -> 0 | L51: =F51+H51+J51 -> 0 | N51: 011202 | P51: 0112 | R51: 3
A52: 011203 장애인시설공사 | D52: 1 | E52: =공종별내역서!F843 -> 0 | F52: =E52*D52 -> 0 | G52: =공종별내역서!H843 -> 0 | H52: =G52*D52 -> 0 | I52: =공종별내역서!J843 -> 0 | J52: =I52*D52 -> 0 | K52: =E52+G52+I52 -> 0 | L52: =F52+H52+J52 -> 0 | N52: 011203 | P52: 0112 | R52: 3
A53: 0113 13.아람관 | D53: 1 | E53: =F54+F55+F56 -> 0 | F53: =E53*D53 -> 0 | G53: =H54+H55+H56 -> 0 | H53: =G53*D53 -> 0 | I53: =J54+J55+J56 -> 0 | J53: =I53*D53 -> 0 | K53: =E53+G53+I53 -> 0 | L53: =F53+H53+J53 -> 0 | N53: 0113 | P53: 01 | R53: 2
A54: 011301 기 타 공 사 | D54: 1 | E54: =공종별내역서!F867 -> 0 | F54: =E54*D54 -> 0 | G54: =공종별내역서!H867 -> 0 | H54: =G54*D54 -> 0 | I54: =공종별내역서!J867 -> 0 | J54: =I54*D54 -> 0 | K54: =E54+G54+I54 -> 0 | L54: =F54+H54+J54 -> 0 | N54: 011301 | P54: 0113 | R54: 3
A55: 011302 철 거 공 사 | D55: 1 | E55: =공종별내역서!F891 -> 0 | F55: =E55*D55 -> 0 | G55: =공종별내역서!H891 -> 0 | H55: =G55*D55 -> 0 | I55: =공종별내역서!J891 -> 0 | J55: =I55*D55 -> 0 | K55: =E55+G55+I55 -> 0 | L55: =F55+H55+J55 -> 0 | N55: 011302 | P55: 0113 | R55: 3
A56: 011303 장애인시설공사 | D56: 1 | E56: =공종별내역서!F915 -> 0 | F56: =E56*D56 -> 0 | G56: =공종별내역서!H915 -> 0 | H56: =G56*D56 -> 0 | I56: =공종별내역서!J915 -> 0 | J56: =I56*D56 -> 0 | K56: =E56+G56+I56 -> 0 | L56: =F56+H56+J56 -> 0 | N56: 011303 | P56: 0113 | R56: 3
A57: 0114 14.다목적홀 | D57: 1 | E57: =F58+F59 -> 0 | F57: =E57*D57 -> 0 | G57: =H58+H59 -> 0 | H57: =G57*D57 -> 0 | I57: =J58+J59 -> 0 | J57: =I57*D57 -> 0 | K57: =E57+G57+I57 -> 0 | L57: =F57+H57+J57 -> 0 | N57: 0114 | P57: 01 | R57: 2
A58: 011401 철 거 공 사 | D58: 1 | E58: =공종별내역서!F939 -> 0 | F58: =E58*D58 -> 0 | G58: =공종별내역서!H939 -> 0 | H58: =G58*D58 -> 0 | I58: =공종별내역서!J939 -> 0 | J58: =I58*D58 -> 0 | K58: =E58+G58+I58 -> 0 | L58: =F58+H58+J58 -> 0 | N58: 011401 | P58: 0114 | R58: 3
A59: 011402 장애인시설공사 | D59: 1 | E59: =공종별내역서!F963 -> 0 | F59: =E59*D59 -> 0 | G59: =공종별내역서!H963 -> 0 | H59: =G59*D59 -> 0 | I59: =공종별내역서!J963 -> 0 | J59: =I59*D59 -> 0 | K59: =E59+G59+I59 -> 0 | L59: =F59+H59+J59 -> 0 | N59: 011402 | P59: 0114 | R59: 3
A60: 0115 폐기물처리비 | D60: 1 | E60: =F61+F62+F63+F64+F65+F66+F67+F68+F69+F70+F71+F72+F73 -> 0 | F60: =E60*D60 -> 0 | G60: =H61+H62+H63+H64+H65+H66+H67+H68+H69+H70+H71+H72+H73 -> 0 | H60: =G60*D60 -> 0 | I60: =J61+J62+J63+J64+J65+J66+J67+J68+J69+J70+J71+J72+J73 -> 0 | J60: =I60*D60 -> 0 | K60: =E60+G60+I60 -> 0 | L60: =F60+H60+J60 -> 0 | N60: 0115 | P60: 01 | R60: 2
A61: 011501 01.체육관 | D61: 1 | E61: =공종별내역서!F987 -> 0 | F61: =E61*D61 -> 0 | G61: =공종별내역서!H987 -> 0 | H61: =G61*D61 -> 0 | I61: =공종별내역서!J987 -> 0 | J61: =I61*D61 -> 0 | K61: =E61+G61+I61 -> 0 | L61: =F61+H61+J61 -> 0 | N61: 011501 | P61: 0115 | R61: 3
A62: 011502 02.바우어관 | D62: 1 | E62: =공종별내역서!F1011 -> 0 | F62: =E62*D62 -> 0 | G62: =공종별내역서!H1011 -> 0 | H62: =G62*D62 -> 0 | I62: =공종별내역서!J1011 -> 0 | J62: =I62*D62 -> 0 | K62: =E62+G62+I62 -> 0 | L62: =F62+H62+J62 -> 0 | N62: 011502 | P62: 0115 | R62: 3
A63: 011503 03.동산도서관 | D63: 1 | E63: =공종별내역서!F1035 -> 0 | F63: =E63*D63 -> 0 | G63: =공종별내역서!H1035 -> 0 | H63: =G63*D63 -> 0 | I63: =공종별내역서!J1035 -> 0 | J63: =I63*D63 -> 0 | K63: =E63+G63+I63 -> 0 | L63: =F63+H63+J63 -> 0 | N63: 011503 | P63: 0115 | R63: 3
A64: 011504 04.행소관 | D64: 1 | E64: =공종별내역서!F1059 -> 0 | F64: =E64*D64 -> 0 | G64: =공종별내역서!H1059 -> 0 | H64: =G64*D64 -> 0 | I64: =공종별내역서!J1059 -> 0 | J64: =I64*D64 -> 0 | K64: =E64+G64+I64 -> 0 | L64: =F64+H64+J64 -> 0 | N64: 011504 | P64: 0115 | R64: 3
A65: 011505 05.아담스채플 | D65: 1 | E65: =공종별내역서!F1083 -> 0 | F65: =E65*D65 -> 0 | G65: =공종별내역서!H1083 -> 0 | H65: =G65*D65 -> 0 | I65: =공종별내역서!J1083 -> 0 | J65: =I65*D65 -> 0 | K65: =E65+G65+I65 -> 0 | L65: =F65+H65+J65 -> 0 | N65: 011505 | P65: 0115 | R65: 3
A66: 011506 06.산학협력관 | D66: 1 | E66: =공종별내역서!F1107 -> 0 | F66: =E66*D66 -> 0 | G66: =공종별내역서!H1107 -> 0 | H66: =G66*D66 -> 0 | I66: =공종별내역서!J1107 -> 0 | J66: =I66*D66 -> 0 | K66: =E66+G66+I66 -> 0 | L66: =F66+H66+J66 -> 0 | N66: 011506 | P66: 0115 | R66: 3
A67: 011507 07.대운동장 화장실 | D67: 1 | E67: =공종별내역서!F1131 -> 0 | F67: =E67*D67 -> 0 | G67: =공종별내역서!H1131 -> 0 | H67: =G67*D67 -> 0 | I67: =공종별내역서!J1131 -> 0 | J67: =I67*D67 -> 0 | K67: =E67+G67+I67 -> 0 | L67: =F67+H67+J67 -> 0 | N67: 011507 | P67: 0115 | R67: 3
A68: 011508 09.행소박물관 | D68: 1 | E68: =공종별내역서!F1155 -> 0 | F68: =E68*D68 -> 0 | G68: =공종별내역서!H1155 -> 0 | H68: =G68*D68 -> 0 | I68: =공종별내역서!J1155 -> 0 | J68: =I68*D68 -> 0 | K68: =E68+G68+I68 -> 0 | L68: =F68+H68+J68 -> 0 | N68: 011508 | P68: 0115 | R68: 3
A69: 011509 10.바우어 신관 | D69: 1 | E69: =공종별내역서!F1179 -> 0 | F69: =E69*D69 -> 0 | G69: =공종별내역서!H1179 -> 0 | H69: =G69*D69 -> 0 | I69: =공종별내역서!J1179 -> 0 | J69: =I69*D69 -> 0 | K69: =E69+G69+I69 -> 0 | L69: =F69+H69+J69 -> 0 | N69: 011509 | P69: 0115 | R69: 3
A70: 011510 11.계명아트센터 | D70: 1 | E70: =공종별내역서!F1203 -> 0 | F70: =E70*D70 -> 0 | G70: =공종별내역서!H1203 -> 0 | H70: =G70*D70 -> 0 | I70: =공종별내역서!J1203 -> 0 | J70: =I70*D70 -> 0 | K70: =E70+G70+I70 -> 0 | L70: =F70+H70+J70 -> 0 | N70: 011510 | P70: 0115 | R70: 3
A71: 011511 12.복지관 | D71: 1 | E71: =공종별내역서!F1227 -> 0 | F71: =E71*D71 -> 0 | G71: =공종별내역서!H1227 -> 0 | H71: =G71*D71 -> 0 | I71: =공종별내역서!J1227 -> 0 | J71: =I71*D71 -> 0 | K71: =E71+G71+I71 -> 0 | L71: =F71+H71+J71 -> 0 | N71: 011511 | P71: 0115 | R71: 3
A72: 011512 13.아람관 | D72: 1 | E72: =공종별내역서!F1251 -> 0 | F72: =E72*D72 -> 0 | G72: =공종별내역서!H1251 -> 0 | H72: =G72*D72 -> 0 | I72: =공종별내역서!J1251 -> 0 | J72: =I72*D72 -> 0 | K72: =E72+G72+I72 -> 0 | L72: =F72+H72+J72 -> 0 | N72: 011512 | P72: 0115 | R72: 3
A73: 011513 14.다목적홀 | D73: 1 | E73: =공종별내역서!F1275 -> 0 | F73: =E73*D73 -> 0 | G73: =공종별내역서!H1275 -> 0 | H73: =G73*D73 -> 0 | I73: =공종별내역서!J1275 -> 0 | J73: =I73*D73 -> 0 | K73: =E73+G73+I73 -> 0 | L73: =F73+H73+J73 -> 0 | N73: 011513 | P73: 0115 | R73: 3
A92: [ 합 계 ] | F92: =F5 -> 0 | H92: =H5 -> 0 | J92: =J5 -> 0 | L92: =L5 -> 0

Sheet 공종별내역서
A1: [ 계명대 성서캠퍼스 장애인편의시설 개선공사 ]
A2: 품 명 | B2: 규 격 | C2: 단위 | D2: 수량 | E2: 재 료 비 | G2: 노 무 비 | I2: 경 비 | K2: 합 계 | M2: 비 고 | N2: 품목코드 | O2: 변수 | P2: 설정 | Q2: 공종코드 | R2: 일위 | S2: 단산 | T2: 자재 | U2: 손료적용 | V2: 손료저장 | W2: 적용율 | X2: JUK1 | Y2: JUK2 | Z2: JUK3 | AA2: JUK4 | AB2: JUK5 | AC2: JUK6 | AD2: JUK7 | AE2: JUK8 | AF2: JUK9 | AG2: JUK10 | AH2: JUK11 | AI2: JUK12 | AJ2: JUK13 | AK2: JUK14 | AL2: JUK15 | AM2: JUK16 | AN2: JUK17 | AO2: JUK18 | AP2: JUK19 | AQ2: JUK20 | AR2: 자재구분 | AS2: 공종구분 | AT2: 공종레벨 | AU2: 공종+자재 | AV2: 고유번호
E3: 단 가 | F3: 금 액 | G3: 단 가 | H3: 금 액 | I3: 단 가 | J3: 금 액 | K3: 단 가 | L3: 금 액
A4: 010101 기 타 공 사 | B4: 01.체육관 | Q4: 010101
A5: 스테인리스핸드레일/벽부형 | B5: D38.1+25.4*1.5t, H:200 @ 1200 | C5: M | D5: 54 | F5: =TRUNC(E5*D5, 0) -> 0 | H5: =TRUNC(G5*D5, 0) -> 0 | J5: =TRUNC(I5*D5, 0) -> 0 | K5: =TRUNC(E5+G5+I5, 0) -> 0 | L5: =TRUNC(F5+H5+J5, 0) -> 0 | M5: 호표 1 | N5: 5C68F3FA4142786DF3A7CF460619D8 | Q5: 010101 | R5: T | S5: F | T5: F | AU5: 0101015C68F3FA4142786DF3A7CF460619D8 | AV5: 4
A6: 모르타르 바름 / 폭 30cm 이하 | B6: 내벽, 11mm, 3.6m 이하 | C6: M2 | D6: 2 | F6: =TRUNC(E6*D6, 0) -> 0 | H6: =TRUNC(G6*D6, 0) -> 0 | J6: =TRUNC(I6*D6, 0) -> 0 | K6: =TRUNC(E6+G6+I6, 0) -> 0 | L6: =TRUNC(F6+H6+J6, 0) -> 0 | M6: 호표 2 | N6: 5C6823404AF774BE4BE7E04F9C11A3 | Q6: 010101 | R6: T | S6: F | T6: F | AU6: 0101015C6823404AF774BE4BE7E04F9C11A3 | AV6: 7
A7: 수성페인트 붓칠 | B7: 내부 2회, 친환경 | C7: M2 | D7: 2 | F7: =TRUNC(E7*D7, 0) -> 0 | H7: =TRUNC(G7*D7, 0) -> 0 | J7: =TRUNC(I7*D7, 0) -> 0 | K7: =TRUNC(E7+G7+I7, 0) -> 0 | L7: =TRUNC(F7+H7+J7, 0) -> 0 | M7: 호표 3 | N7: 5C68B35D4A937FAD3D97E5E1911FA1 | Q7: 010101 | R7: T | S7: F | T7: F | AU7: 0101015C68B35D4A937FAD3D97E5E1911FA1 | AV7: 9
A8: 라인마킹 | C8: M | D8: 15 | F8: =TRUNC(E8*D8, 0) -> 0 | H8: =TRUNC(G8*D8, 0) -> 0 | J8: =TRUNC(I8*D8, 0) -> 0 | K8: =TRUNC(E8+G8+I8, 0) -> 0 | L8: =TRUNC(F8+H8+J8, 0) -> 0 | M8: 호표 4 | N8: 5C68B3514F707C8830470557A5173E | Q8: 010101 | R8: T | S8: F | T8: F | AU8: 0101015C68B3514F707C8830470557A5173E | AV8: 10
A9: 안전페인트 | C9: M2 | D9: 10 | F9: =TRUNC(E9*D9, 0) -> 0 | H9: =TRUNC(G9*D9, 0) -> 0 | J9: =TRUNC(I9*D9, 0) -> 0 | K9: =TRUNC(E9+G9+I9, 0) -> 0 | L9: =TRUNC(F9+H9+J9, 0) -> 0 | M9: 호표 5 | N9: 5C68B3514F707C8830470557A5173F | Q9: 010101 | R9: T | S9: F | T9: F | AU9: 0101015C68B3514F707C8830470557A5173F | AV9: 11
A10: 장애인주차구역그리기 | B10: 3300*5000 | C10: 면 | D10: 1 | F10: =TRUNC(E10*D10, 0) -> 0 | H10: =TRUNC(G10*D10, 0) -> 0 | J10: =TRUNC(I10*D10, 0) -> 0 | K10: =TRUNC(E10+G10+I10, 0) -> 0 | L10: =TRUNC(F10+H10+J10, 0) -> 0 | M10: 호표 6 | N10: 5C68B3514F707C8830470557A5173C | Q10: 010101 | R10: T | S10: F | T10: F | AU10: 0101015C68B3514F707C8830470557A5173C | AV10: 12
A27: [ 합 계 ] | F27: =SUMIF(AR5:AR26,"",F5:F26) -> 0 | H27: =SUMIF(AR5:AR26,"",H5:H26) -> 0 | J27: =SUMIF(AR5:AR26,"",J5:J26) -> 0 | L27: =SUMIF(AR5:AR26,"",L5:L26) -> 0 | N27: TOTAL
A28: 010102 철 거 공 사 | B28: 01.체육관 | Q28: 010102
A29: 바닥재 커팅 | C29: M | D29: 208 | F29: =TRUNC(E29*D29, 0) -> 0 | H29: =TRUNC(G29*D29, 0) -> 0 | J29: =TRUNC(I29*D29, 0) -> 0 | K29: =TRUNC(E29+G29+I29, 0) -> 0 | L29: =TRUNC(F29+H29+J29, 0) -> 0 | M29: 호표 7 | N29: 5C69437A4AB3780DFCB7F6693E1AFB | Q29: 010102 | R29: T | S29: F | T29: F | AU29: 0101025C69437A4AB3780DFCB7F6693E1AFB | AV29: 14
A30: 바닥재 철거 | C30: M2 | D30: 16 | F30: =TRUNC(E30*D30, 0) -> 0 | H30: =TRUNC(G30*D30, 0) -> 0 | J30: =TRUNC(I30*D30, 0) -> 0 | K30: =TRUNC(E30+G30+I30, 0) -> 0 | L30: =TRUNC(F30+H30+J30, 0) -> 0 | M30: 호표 8 | N30: 5C69437A4AB3780DFCB7F6693E1D4F | Q30: 010102 | R30: T | S30: F | T30: F | AU30: 0101025C69437A4AB3780DFCB7F6693E1D4F | AV30: 15
A31: 스텐도어 철거 | B31: 900*2100 | C31: EA | D31: 2 | F31: =TRUNC(E31*D31, 0) -> 0 | H31: =TRUNC(G31*D31, 0) -> 0 | J31: =TRUNC(I31*D31, 0) -> 0 | K31: =TRUNC(E31+G31+I31, 0) -> 0 | L31: =TRUNC(F31+H31+J31, 0) -> 0 | M31: 호표 9 | N31: 5C69437A4AB3780DFCB7F67BAF10E9 | Q31: 010102 | R31: T | S31: F | T31: F | AU31: 0101025C69437A4AB3780DFCB7F67BAF10E9 | AV31: 16
A32: 건설폐재류 상차비 | C32: TON | D32: 2.289 | F32: =TRUNC(E32*D32, 0) -> 0 | H32: =TRUNC(G32*D32, 0) -> 0 | J32: =TRUNC(I32*D32, 0) -> 0 | K32: =TRUNC(E32+G32+I32, 0) -> 0 | L32: =TRUNC(F32+H32+J32, 0) -> 0 | N32: 5C68438B48C87B495757EA9EF51493 | Q32: 010102 | R32: F | S32: F | T32: T | AU32: 0101025C68438B48C87B495757EA9EF51493 | AV32: 29
A51: [ 합 계 ] | F51: =SUMIF(AR29:AR50,"",F29:F50) -> 0 | H51: =SUMIF(AR29:AR50,"",H29:H50) -> 0 | J51: =SUMIF(AR29:AR50,"",J29:J50) -> 0 | L51: =SUMIF(AR29:AR50,"",L29:L50) -> 0 | N51: TOTAL
A52: 010103 장애인시설공사 | B52: 01.체육관 | Q52: 010103
A53: 핸드레일촉지판 - 인쇄+점자타공 | B53: AL 120*∮38 | C53: EA | D53: 8 | F53: =TRUNC(E53*D53, 0) -> 0 | H53: =TRUNC(G53*D53, 0) -> 0 | J53: =TRUNC(I53*D53, 0) -> 0 | K53: =TRUNC(E53+G53+I53, 0) -> 0 | L53: =TRUNC(F53+H53+J53, 0) -> 0 | N53: 5B4BD3B34FB775991697C01CB81197571BC898 | Q53: 010103 | R53: F | S53: F | T53: T | AU53: 0101035B4BD3B34FB775991697C01CB81197571BC898 | AV53: 18
A54: 화장실 점자표시판 | B54: 200*200 | C54: EA | D54: 8 | F54: =TRUNC(E54*D54, 0) -> 0 | H54: =TRUNC(G54*D54, 0) -> 0 | J54: =TRUNC(I54*D54, 0) -> 0 | K54: =TRUNC(E54+G54+I54, 0) -> 0 | L54: =TRUNC(F54+H54+J54, 0) -> 0 | N54: 5B4BD3B34FB775991697FD56A51C589D11F109 | Q54: 010103 | R54: F | S54: F | T54: T | AU54: 0101035B4BD3B34FB775991697FD56A51C589D11F109 | AV54: 19
A55: 촉지도 안내판 | B55: 800*700*H1200, 음성안내, 스탠드형 | C55: EA | D55: 1 | F55: =TRUNC(E55*D55, 0) -> 0 | H55: =TRUNC(G55*D55, 0) -> 0 | J55: =TRUNC(I55*D55, 0) -> 0 | K55: =TRUNC(E55+G55+I55, 0) -> 0 | L55: =TRUNC(F55+H55+J55, 0) -> 0 | N55: 5B4BD3B34FB775991697FD56A51C589D10ECC2 | Q55: 010103 | R55: F | S55: F | T55: T | AU55: 0101035B4BD3B34FB775991697FD56A51C589D10ECC2 | AV55: 20
A56: 카스톱퍼 | B56: 네오프렌계, 150*120*750mm | C56: 개소 | D56: 2 | F56: =TRUNC(E56*D56, 0) -> 0 | H56: =TRUNC(G56*D56, 0) -> 0 | J56: =TRUNC(I56*D56, 0) -> 0 | K56: =TRUNC(E56+G56+I56, 0) -> 0 | L56: =TRUNC(F56+H56+J56, 0) -> 0 | M56: 호표 10 | N56: 5C68A379422A7EFDD8F7742CB319B9 | Q56: 010103 | R56: T | S56: F | T56: F | AU56: 0101035C68A379422A7EFDD8F7742CB319B9 | AV56: 21
A57: 장애인주차 표지판 | B57: 700*600*H1500 | C57: EA | D57: 1 | F57: =TRUNC(E57*D57, 0) -> 0 | H57: =TRUNC(G57*D57, 0) -> 0 | J57: =TRUNC(I57*D57, 0) -> 0 | K57: =TRUNC(E57+G57+I57, 0) -> 0 | L57: =TRUNC(F57+H57+J57, 0) -> 0 | M57: 호표 11 | N57: 5C68A379422A7DD40667338AB61B6A | Q57: 010103 | R57: T | S57: F | T57: F | AU57: 0101035C68A379422A7DD40667338AB61B6A | AV57: 22
A58: 안내 표지판 | B58: 700*600*H1500 | C58: EA | D58: 1 | F58: =TRUNC(E58*D58, 0) -> 0 | H58: =TRUNC(G58*D58, 0) -> 0 | J58: =TRUNC(I58*D58, 0) -> 0 | K58: =TRUNC(E58+G58+I58, 0) -> 0 | L58: =TRUNC(F58+H58+J58, 0) -> 0 | M58: 호표 12 | N58: 5C68A379422A7DD40667338AB61896 | Q58: 010103 | R58: T | S58: F | T58: F | AU58: 0101035C68A379422A7DD40667338AB61896 | AV58: 23
A59: 장애인점자블럭 | B59: 외부, 300*300*35mm, 고강도 콘크리트 | C59: EA | D59: 79 | F59: =TRUNC(E59*D59, 0) -> 0 | H59: =TRUNC(G59*D59, 0) -> 0 | J59: =TRUNC(I59*D59, 0) -> 0 | K59: =TRUNC(E59+G59+I59, 0) -> 0 | L59: =TRUNC(F59+H59+J59, 0) -> 0 | M59: 호표 13 | N59: 5C6953614FDC715227672627561234 | Q59: 010103 | R59: T | S59: F | T59: F | AU59: 0101035C6953614FDC715227672627561234 | AV59: 24
A60: 장애인점자블럭 | B60: 내부, 300*300*18mm, 논스립 자기질 | C60: EA | D60: 93 | F60: =TRUNC(E60*D60, 0) -> 0 | H60: =TRUNC(G60*D60, 0) -> 0 | J60: =TRUNC(I60*D60, 0) -> 0 | K60: =TRUNC(E60+G60+I60, 0) -> 0 | L60: =TRUNC(F60+H60+J60, 0) -> 0 | M60: 호표 14 | N60: 5C6953614FDC715227672627561237 | Q60: 010103 | R60: T | S60: F | T60: F | AU60: 0101035C6953614FDC715227672627561237 | AV60: 25
N61: 5C6953614FDC7152276726275613DC | Q61: 010103 | R61: T | S61: F | T61: F | AU61: 0101035C6953614FDC7152276726275613DC | AV61: 26
A75: [ 합 계 ] | F75: =SUMIF(AR53:AR74,"",F53:F74) -> 0 | H75: =SUMIF(AR53:AR74,"",H53:H74) -> 0 | J75: =SUMIF(AR53:AR74,"",J53:J74) -> 0 | L75: =SUMIF(AR53:AR74,"",L53:L74) -> 0 | N75: TOTAL
A76: 010201 기 타 공 사 | B76: 02.바우어관 | Q76: 010201
A77: 스테인리스핸드레일/벽부형 | B77: D38.1+25.4*1.5t, H:200 @ 1200 | C77: M | D77: 14 | F77: =TRUNC(E77*D77, 0) -> 0 | H77: =TRUNC(G77*D77, 0) -> 0 | J77: =TRUNC(I77*D77, 0) -> 0 | K77: =TRUNC(E77+G77+I77, 0) -> 0 | L77: =TRUNC(F77+H77+J77, 0) -> 0 | M77: 호표 1 | N77: 5C68F3FA4142786DF3A7CF460619D8 | Q77: 010201 | R77: T | S77: F | T77: F | AU77: 0102015C68F3FA4142786DF3A7CF460619D8 | AV77: 33
A78: 스테인리스핸드레일 | B78: D38.1+25.4*1.5t, H:850 @ 900 | C78: M | D78: 8 | F78: =TRUNC(E78*D78, 0) -> 0 | H78: =TRUNC(G78*D78, 0) -> 0 | J78: =TRUNC(I78*D78, 0) -> 0 | K78: =TRUNC(E78+G78+I78, 0) -> 0 | L78: =TRUNC(F78+H78+J78, 0) -> 0 | M78: 호표 16 | N78: 5C68F3FA4142786DF0D7815812147D | Q78: 010201 | R78: T | S78: F | T78: F | AU78: 0102015C68F3FA4142786DF0D7815812147D | AV78: 34
A99: [ 합 계 ] | F99: =SUMIF(AR77:AR98,"",F77:F98) -> 0 | H99: =SUMIF(AR77:AR98,"",H77:H98) -> 0 | J99: =SUMIF(AR77:AR98,"",J77:J98) -> 0 | L99: =SUMIF(AR77:AR98,"",L77:L98) -> 0 | N99: TOTAL
A100: 010202 철 거 공 사 | B100: 02.바우어관 | Q100: 010202
A101: 바닥재 커팅 | C101: M | D101: 71 | F101: =TRUNC(E101*D101, 0) -> 0 | H101: =TRUNC(G101*D101, 0) -> 0 | J101: =TRUNC(I101*D101, 0) -> 0 | K101: =TRUNC(E101+G101+I101, 0) -> 0 | L101: =TRUNC(F101+H101+J101, 0) -> 0 | M101: 호표 7 | N101: 5C69437A4AB3780DFCB7F6693E1AFB | Q101: 010202 | R101: T | S101: F | T101: F | AU101: 0102025C69437A4AB3780DFCB7F6693E1AFB | AV101: 40
A102: 바닥재 철거 | C102: M2 | D102: 6 | F102: =TRUNC(E102*D102, 0) -> 0 | H102: =TRUNC(G102*D102, 0) -> 0 | J102: =TRUNC(I102*D102, 0) -> 0 | K102: =TRUNC(E102+G102+I102, 0) -> 0 | L102: =TRUNC(F102+H102+J102, 0) -> 0 | M102: 호표 8 | N102: 5C69437A4AB3780DFCB7F6693E1D4F | Q102: 010202 | R102: T | S102: F | T102: F | AU102: 0102025C69437A4AB3780DFCB7F6693E1D4F | AV102: 41
A103: 건설폐재류 상차비 | C103: TON | D103: 0.748 | F103: =TRUNC(E103*D103, 0) -> 0 | H103: =TRUNC(G103*D103, 0) -> 0 | J103: =TRUNC(I103*D103, 0) -> 0 | K103: =TRUNC(E103+G103+I103, 0) -> 0 | L103: =TRUNC(F103+H103+J103, 0) -> 0 | N103: 5C68438B48C87B495757EA9EF51493 | Q103: 010202 | R103: F | S103: F | T103: T | AU103: 0102025C68438B48C87B495757EA9EF51493 | AV103: 51
A123: [ 합 계 ] | F123: =SUMIF(AR101:AR122,"",F101:F122) -> 0 | H123: =SUMIF(AR101:AR122,"",H101:H122) -> 0 | J123: =SUMIF(AR101:AR122,"",J101:J122) -> 0 | L123: =SUMIF(AR101:AR122,"",L101:L122) -> 0 | N123: TOTAL
A124: 010203 장애인시설공사 | B124: 02.바우어관 | Q124: 010203
A125: 핸드레일촉지판 - 인쇄+점자타공 | B125: AL 120*∮38 | C125: EA | D125: 10 | F125: =TRUNC(E125*D125, 0) -> 0 | H125: =TRUNC(G125*D125, 0) -> 0 | J125: =TRUNC(I125*D125, 0) -> 0 | K125: =TRUNC(E125+G125+I125, 0) -> 0 | L125: =TRUNC(F125+H125+J125, 0) -> 0 | N125: 5B4BD3B34FB775991697C01CB81197571BC898 | Q125: 010203 | R125: F | S125: F | T125: T | AU125: 0102035B4BD3B34FB775991697C01CB81197571BC898 | AV125: 43
A126: 화장실 점자표시판 | B126: 200*200 | C126: EA | D126: 10 | F126: =TRUNC(E126*D126, 0) -> 0 | H126: =TRUNC(G126*D126, 0) -> 0 | J126: =TRUNC(I126*D126, 0) -> 0 | K126: =TRUNC(E126+G126+I126, 0) -> 0 | L126: =TRUNC(F126+H126+J126, 0) -> 0 | N126: 5B4BD3B34FB775991697FD56A51C589D11F109 | Q126: 010203 | R126: F | S126: F | T126: T | AU126: 0102035B4BD3B34FB775991697FD56A51C589D11F109 | AV126: 44
A127: 장애인점자블럭 | B127: 내부, 300*300*18mm, 논스립 자기질 | C127: EA | D127: 63 | F127: =TRUNC(E127*D127, 0) -> 0 | H127: =TRUNC(G127*D127, 0) -> 0 | J127: =TRUNC(I127*D127, 0) -> 0 | K127: =TRUNC(E127+G127+I127, 0) -> 0 | L127: =TRUNC(F127+H127+J127, 0) -> 0 | M127: 호표 14 | N127: 5C6953614FDC715227672627561237 | Q127: 010203 | R127: T | S127: F | T127: F | AU127: 0102035C6953614FDC715227672627561237 | AV127: 47
N128: 5C6953614FDC7152276726275613DC | Q128: 010203 | R128: T | S128: F | T128: F | AU128: 0102035C6953614FDC7152276726275613DC | AV128: 48
A147: [ 합 계 ] | F147: =SUMIF(AR125:AR146,"",F125:F146) -> 0 | H147: =SUMIF(AR125:AR146,"",H125:H146) -> 0 | J147: =SUMIF(AR125:AR146,"",J125:J146) -> 0 | L147: =SUMIF(AR125:AR146,"",L125:L146) -> 0 | N147: TOTAL
A148: 010301 기 타 공 사 | B148: 03.동산도서관 | Q148: 010301
A149: 화강석붙임(습식, 혼드) | B149: 바닥, 포천석 30mm, 모르타르 50mm | C149: M2 | D149: 11 | F149: =TRUNC(E149*D149, 0) -> 0 | H149: =TRUNC(G149*D149, 0) -> 0 | J149: =TRUNC(I149*D149, 0) -> 0 | K149: =TRUNC(E149+G149+I149, 0) -> 0 | L149: =TRUNC(F149+H149+J149, 0) -> 0 | M149: 호표 17 | N149: 5C6883284B8772FD88A7D827071742 | Q149: 010301 | R149: T | S149: F | T149: F | AU149: 0103015C6883284B8772FD88A7D827071742 | AV149: 55
A150: 스테인리스핸드레일 | B150: D38.1+15*1.1*3EA+FB(40*9+30*9)*9t, H:850 @ 1200 | C150: M | D150: 12 | F150: =TRUNC(E150*D150, 0) -> 0 | H150: =TRUNC(G150*D150, 0) -> 0 | J150: =TRUNC(I150*D150, 0) -> 0 | K150: =TRUNC(E150+G150+I150, 0) -> 0 | L150: =TRUNC(F150+H150+J150, 0) -> 0 | M150: 호표 18 | N150: 5C68F3FA4142786DF0D78158121732 | Q150: 010301 | R150: T | S150: F | T150: F | AU150: 0103015C68F3FA4142786DF0D78158121732 | AV150: 329
A151: 스틸도어 보강판 및 도어록 타공 | B151: 90*300*1.6t | C151: EA | D151: 6 | F151: =TRUNC(E151*D151, 0) -> 0 | H151: =TRUNC(G151*D151, 0) -> 0 | J151: =TRUNC(I151*D151, 0) -> 0 | K151: =TRUNC(E151+G151+I151, 0) -> 0 | L151: =TRUNC(F151+H151+J151, 0) -> 0 | M151: 호표 19 | N151: 5C68F3F4489C7CCC61978A6A0A1679 | Q151: 010301 | R151: T | S151: F | T151: F | AU151: 0103015C68F3F4489C7CCC61978A6A0A1679 | AV151: 58
A152: 라인마킹 | C152: M | D152: 15 | F152: =TRUNC(E152*D152, 0) -> 0 | H152: =TRUNC(G152*D152, 0) -> 0 | J152: =TRUNC(I152*D152, 0) -> 0 | K152: =TRUNC(E152+G152+I152, 0) -> 0 | L152: =TRUNC(F152+H152+J152, 0) -> 0 | M152: 호표 4 | N152: 5C68B3514F707C8830470557A5173E | Q152: 010301 | R152: T | S152: F | T152: F | AU152: 0103015C68B3514F707C8830470557A5173E | AV152: 60
A153: 안전페인트 | C153: M2 | D153: 7 | F153: =TRUNC(E153*D153, 0) -> 0 | H153: =TRUNC(G153*D153, 0) -> 0 | J153: =TRUNC(I153*D153, 0) -> 0 | K153: =TRUNC(E153+G153+I153, 0) -> 0 | L153: =TRUNC(F153+H153+J153, 0) -> 0 | M153: 호표 5 | N153: 5C68B3514F707C8830470557A5173F | Q153: 010301 | R153: T | S153: F | T153: F | AU153: 0103015C68B3514F707C8830470557A5173F | AV153: 61
A154: 장애인주차구역그리기 | B154: 3300*5000 | C154: 면 | D154: 1 | F154: =TRUNC(E154*D154, 0) -> 0 | H154: =TRUNC(G154*D154, 0) -> 0 | J154: =TRUNC(I154*D154, 0) -> 0 | K154: =TRUNC(E154+G154+I154, 0) -> 0 | L154: =TRUNC(F154+H154+J154, 0) -> 0 | M154: 호표 6 | N154: 5C68B3514F707C8830470557A5173C | Q154: 010301 | R154: T | S154: F | T154: F | AU154: 0103015C68B3514F707C8830470557A5173C | AV154: 62
A171: [ 합 계 ] | F171: =SUMIF(AR149:AR170,"",F149:F170) -> 0 | H171: =SUMIF(AR149:AR170,"",H149:H170) -> 0 | J171: =SUMIF(AR149:AR170,"",J149:J170) -> 0 | L171: =SUMIF(AR149:AR170,"",L149:L170) -> 0 | N171: TOTAL
A172: 010302 철 거 공 사 | B172: 03.동산도서관 | Q172: 010302
A173: 바닥재 커팅 | C173: M | D173: 72 | F173: =TRUNC(E173*D173, 0) -> 0 | H173: =TRUNC(G173*D173, 0) -> 0 | J173: =TRUNC(I173*D173, 0) -> 0 | K173: =TRUNC(E173+G173+I173, 0) -> 0 | L173: =TRUNC(F173+H173+J173, 0) -> 0 | M173: 호표 7 | N173: 5C69437A4AB3780DFCB7F6693E1AFB | Q173: 010302 | R173: T | S173: F | T173: F | AU173: 0103025C69437A4AB3780DFCB7F6693E1AFB | AV173: 64
A174: 바닥재 철거 | C174: M2 | D174: 13 | F174: =TRUNC(E174*D174, 0) -> 0 | H174: =TRUNC(G174*D174, 0) -> 0 | J174: =TRUNC(I174*D174, 0) -> 0 | K174: =TRUNC(E174+G174+I174, 0) -> 0 | L174: =TRUNC(F174+H174+J174, 0) -> 0 | M174: 호표 8 | N174: 5C69437A4AB3780DFCB7F6693E1D4F | Q174: 010302 | R174: T | S174: F | T174: F | AU174: 0103025C69437A4AB3780DFCB7F6693E1D4F | AV174: 65
A175: 건설폐재류 상차비 | C175: TON | D175: 2.106 | F175: =TRUNC(E175*D175, 0) -> 0 | H175: =TRUNC(G175*D175, 0) -> 0 | J175: =TRUNC(I175*D175, 0) -> 0 | K175: =TRUNC(E175+G175+I175, 0) -> 0 | L175: =TRUNC(F175+H175+J175, 0) -> 0 | N175: 5C68438B48C87B495757EA9EF51493 | Q175: 010302 | R175: F | S175: F | T175: T | AU175: 0103025C68438B48C87B495757EA9EF51493 | AV175: 75
A195: [ 합 계 ] | F195: =SUMIF(AR173:AR194,"",F173:F194) -> 0 | H195: =SUMIF(AR173:AR194,"",H173:H194) -> 0 | J195: =SUMIF(AR173:AR194,"",J173:J194) -> 0 | L195: =SUMIF(AR173:AR194,"",L173:L194) -> 0 | N195: TOTAL
A196: 010303 장애인시설공사 | B196: 03.동산도서관 | Q196: 010303
A197: 핸드레일촉지판 - 인쇄+점자타공 | B197: AL 120*∮38 | C197: EA | D197: 4 | F197: =TRUNC(E197*D197, 0) -> 0 | H197: =TRUNC(G197*D197, 0) -> 0 | J197: =TRUNC(I197*D197, 0) -> 0 | K197: =TRUNC(E197+G197+I197, 0) -> 0 | L197: =TRUNC(F197+H197+J197, 0) -> 0 | N197: 5B4BD3B34FB775991697C01CB81197571BC898 | Q197: 010303 | R197: F | S197: F | T197: T | AU197: 0103035B4BD3B34FB775991697C01CB81197571BC898 | AV197: 67
A198: 카스톱퍼 | B198: 네오프렌계, 150*120*750mm | C198: 개소 | D198: 2 | F198: =TRUNC(E198*D198, 0) -> 0 | H198: =TRUNC(G198*D198, 0) -> 0 | J198: =TRUNC(I198*D198, 0) -> 0 | K198: =TRUNC(E198+G198+I198, 0) -> 0 | L198: =TRUNC(F198+H198+J198, 0) -> 0 | M198: 호표 10 | N198: 5C68A379422A7EFDD8F7742CB319B9 | Q198: 010303 | R198: T | S198: F | T198: F | AU198: 0103035C68A379422A7EFDD8F7742CB319B9 | AV198: 68
A199: 장애인주차 표지판 | B199: 700*600*H1500 | C199: EA | D199: 1 | F199: =TRUNC(E199*D199, 0) -> 0 | H199: =TRUNC(G199*D199, 0) -> 0 | J199: =TRUNC(I199*D199, 0) -> 0 | K199: =TRUNC(E199+G199+I199, 0) -> 0 | L199: =TRUNC(F199+H199+J199, 0) -> 0 | M199: 호표 11 | N199: 5C68A379422A7DD40667338AB61B6A | Q199: 010303 | R199: T | S199: F | T199: F | AU199: 0103035C68A379422A7DD40667338AB61B6A | AV199: 69
A200: 장애인점자블럭 | B200: 외부, 300*300*35mm, 고강도 콘크리트 | C200: EA | D200: 36 | F200: =TRUNC(E200*D200, 0) -> 0 | H200: =TRUNC(G200*D200, 0) -> 0 | J200: =TRUNC(I200*D200, 0) -> 0 | K200: =TRUNC(E200+G200+I200, 0) -> 0 | L200: =TRUNC(F200+H200+J200, 0) -> 0 | M200: 호표 13 | N200: 5C6953614FDC715227672627561234 | Q200: 010303 | R200: T | S200: F | T200: F | AU200: 0103035C6953614FDC715227672627561234 | AV200: 70
A201: 장애인점자블럭 | B201: 내부, 300*300*18mm, 논스립 자기질 | C201: EA | D201: 24 | F201: =TRUNC(E201*D201, 0) -> 0 | H201: =TRUNC(G201*D201, 0) -> 0 | J201: =TRUNC(I201*D201, 0) -> 0 | K201: =TRUNC(E201+G201+I201, 0) -> 0 | L201: =TRUNC(F201+H201+J201, 0) -> 0 | M201: 호표 14 | N201: 5C6953614FDC715227672627561237 | Q201: 010303 | R201: T | S201: F | T201: F | AU201: 0103035C6953614FDC715227672627561237 | AV201: 71
N202: 5C6953614FDC7152276726275613DC | Q202: 010303 | R202: T | S202: F | T202: F | AU202: 0103035C6953614FDC7152276726275613DC | AV202: 72
A219: [ 합 계 ] | F219: =SUMIF(AR197:AR218,"",F197:F218) -> 0 | H219: =SUMIF(AR197:AR218,"",H197:H218) -> 0 | J219: =SUMIF(AR197:AR218,"",J197:J218) -> 0 | L219: =SUMIF(AR197:AR218,"",L197:L218) -> 0 | N219: TOTAL
A220: 010401 기 타 공 사 | B220: 04.행소관 | Q220: 010401
A221: 스테인리스핸드레일/벽부형 | B221: D38.1+25.4*1.5t, H:200 @ 1200 | C221: M | D221: 27 | F221: =TRUNC(E221*D221, 0) -> 0 | H221: =TRUNC(G221*D221, 0) -> 0 | J221: =TRUNC(I221*D221, 0) -> 0 | K221: =TRUNC(E221+G221+I221, 0) -> 0 | L221: =TRUNC(F221+H221+J221, 0) -> 0 | M221: 호표 1 | N221: 5C68F3FA4142786DF3A7CF460619D8 | Q221: 010401 | R221: T | S221: F | T221: F | AU221: 0104015C68F3FA4142786DF3A7CF460619D8 | AV221: 79
A222: 스테인리스핸드레일 | B222: D38.1+15*1.1*2EA+FB(40*9+30*9)*9t, H:850 @ 600 | C222: M | D222: 6 | F222: =TRUNC(E222*D222, 0) -> 0 | H222: =TRUNC(G222*D222, 0) -> 0 | J222: =TRUNC(I222*D222, 0) -> 0 | K222: =TRUNC(E222+G222+I222, 0) -> 0 | L222: =TRUNC(F222+H222+J222, 0) -> 0 | M222: 호표 20 | N222: 5C68F3FA4142786DF0D7815812162B | Q222: 010401 | R222: T | S222: F | T222: F | AU222: 0104015C68F3FA4142786DF0D7815812162B | AV222: 330
A223: 경사로 설치 | B223: W:1500, L:3000, AL CH'PL 4.5t | C223: EA | D223: 1 | F223: =TRUNC(E223*D223, 0) -> 0 | H223: =TRUNC(G223*D223, 0) -> 0 | J223: =TRUNC(I223*D223, 0) -> 0 | K223: =TRUNC(E223+G223+I223, 0) -> 0 | L223: =TRUNC(F223+H223+J223, 0) -> 0 | M223: 호표 21 | N223: 5C68F3F4489C7CCC61978A6A141CDC | Q223: 010401 | R223: T | S223: F | T223: F | AU223: 0104015C68F3F4489C7CCC61978A6A141CDC | AV223: 81
A224: 라인마킹 | C224: M | D224: 15 | F224: =TRUNC(E224*D224, 0) -> 0 | H224: =TRUNC(G224*D224, 0) -> 0 | J224: =TRUNC(I224*D224, 0) -> 0 | K224: =TRUNC(E224+G224+I224, 0) -> 0 | L224: =TRUNC(F224+H224+J224, 0) -> 0 | M224: 호표 4 | N224: 5C68B3514F707C8830470557A5173E | Q224: 010401 | R224: T | S224: F | T224: F | AU224: 0104015C68B3514F707C8830470557A5173E | AV224: 83
A225: 안전페인트 | C225: M2 | D225: 7 | F225: =TRUNC(E225*D225, 0) -> 0 | H225: =TRUNC(G225*D225, 0) -> 0 | J225: =TRUNC(I225*D225, 0) -> 0 | K225: =TRUNC(E225+G225+I225, 0) -> 0 | L225: =TRUNC(F225+H225+J225, 0) -> 0 | M225: 호표 5 | N225: 5C68B3514F707C8830470557A5173F | Q225: 010401 | R225: T | S225: F | T225: F | AU225: 0104015C68B3514F707C8830470557A5173F | AV225: 84
A226: 장애인주차구역그리기 | B226: 3300*5000 | C226: 면 | D226: 1 | F226: =TRUNC(E226*D226, 0) -> 0 | H226: =TRUNC(G226*D226, 0) -> 0 | J226: =TRUNC(I226*D226, 0) -> 0 | K226: =TRUNC(E226+G226+I226, 0) -> 0 | L226: =TRUNC(F226+H226+J226, 0) -> 0 | M226: 호표 6 | N226: 5C68B3514F707C8830470557A5173C | Q226: 010401 | R226: T | S226: F | T226: F | AU226: 0104015C68B3514F707C8830470557A5173C | AV226: 85
A243: [ 합 계 ] | F243: =SUMIF(AR221:AR242,"",F221:F242) -> 0 | H243: =SUMIF(AR221:AR242,"",H221:H242) -> 0 | J243: =SUMIF(AR221:AR242,"",J221:J242) -> 0 | L243: =SUMIF(AR221:AR242,"",L221:L242) -> 0 | N243: TOTAL
A244: 010402 철 거 공 사 | B244: 04.행소관 | Q244: 010402
A245: 바닥재 커팅 | C245: M | D245: 104 | F245: =TRUNC(E245*D245, 0) -> 0 | H245: =TRUNC(G245*D245, 0) -> 0 | J245: =TRUNC(I245*D245, 0) -> 0 | K245: =TRUNC(E245+G245+I245, 0) -> 0 | L245: =TRUNC(F245+H245+J245, 0) -> 0 | M245: 호표 7 | N245: 5C69437A4AB3780DFCB7F6693E1AFB | Q245: 010402 | R245: T | S245: F | T245: F | AU245: 0104025C69437A4AB3780DFCB7F6693E1AFB | AV245: 87
A246: 바닥재 철거 | C246: M2 | D246: 8 | F246: =TRUNC(E246*D246, 0) -> 0 | H246: =TRUNC(G246*D246, 0) -> 0 | J246: =TRUNC(I246*D246, 0) -> 0 | K246: =TRUNC(E246+G246+I246, 0) -> 0 | L246: =TRUNC(F246+H246+J246, 0) -> 0 | M246: 호표 8 | N246: 5C69437A4AB3780DFCB7F6693E1D4F | Q246: 010402 | R246: T | S246: F | T246: F | AU246: 0104025C69437A4AB3780DFCB7F6693E1D4F | AV246: 88
A247: 건설폐재류 상차비 | C247: TON | D247: 1.104 | F247: =TRUNC(E247*D247, 0) -> 0 | H247: =TRUNC(G247*D247, 0) -> 0 | J247: =TRUNC(I247*D247, 0) -> 0 | K247: =TRUNC(E247+G247+I247, 0) -> 0 | L247: =TRUNC(F247+H247+J247, 0) -> 0 | N247: 5C68438B48C87B495757EA9EF51493 | Q247: 010402 | R247: F | S247: F | T247: T | AU247: 0104025C68438B48C87B495757EA9EF51493 | AV247: 101
A267: [ 합 계 ] | F267: =SUMIF(AR245:AR266,"",F245:F266) -> 0 | H267: =SUMIF(AR245:AR266,"",H245:H266) -> 0 | J267: =SUMIF(AR245:AR266,"",J245:J266) -> 0 | L267: =SUMIF(AR245:AR266,"",L245:L266) -> 0 | N267: TOTAL
A268: 010403 장애인시설공사 | B268: 04.행소관 | Q268: 010403
A269: 손잡이 | B269: 손잡이, 장애자용손잡이, 소변기용, STS304 ∮38,1.5t | C269: 조 | D269: 1 | F269: =TRUNC(E269*D269, 0) -> 0 | H269: =TRUNC(G269*D269, 0) -> 0 | J269: =TRUNC(I269*D269, 0) -> 0 | K269: =TRUNC(E269+G269+I269, 0) -> 0 | L269: =TRUNC(F269+H269+J269, 0) -> 0 | N269: 5B4BD3B34FB775991697C01CB811975713824F | Q269: 010403 | R269: F | S269: F | T269: T | AU269: 0104035B4BD3B34FB775991697C01CB811975713824F | AV269: 90
A270: 핸드레일촉지판 - 인쇄+점자타공 | B270: AL 120*∮38 | C270: EA | D270: 12 | F270: =TRUNC(E270*D270, 0) -> 0 | H270: =TRUNC(G270*D270, 0) -> 0 | J270: =TRUNC(I270*D270, 0) -> 0 | K270: =TRUNC(E270+G270+I270, 0) -> 0 | L270: =TRUNC(F270+H270+J270, 0) -> 0 | N270: 5B4BD3B34FB775991697C01CB81197571BC898 | Q270: 010403 | R270: F | S270: F | T270: T | AU270: 0104035B4BD3B34FB775991697C01CB81197571BC898 | AV270: 91
A271: 화장실 점자표시판 | B271: 200*200 | C271: EA | D271: 6 | F271: =TRUNC(E271*D271, 0) -> 0 | H271: =TRUNC(G271*D271, 0) -> 0 | J271: =TRUNC(I271*D271, 0) -> 0 | K271: =TRUNC(E271+G271+I271, 0) -> 0 | L271: =TRUNC(F271+H271+J271, 0) -> 0 | N271: 5B4BD3B34FB775991697FD56A51C589D11F109 | Q271: 010403 | R271: F | S271: F | T271: T | AU271: 0104035B4BD3B34FB775991697FD56A51C589D11F109 | AV271: 92
A272: 촉지도 안내판 | B272: 800*700*H1200, 음성안내, 스탠드형 | C272: EA | D272: 1 | F272: =TRUNC(E272*D272, 0) -> 0 | H272: =TRUNC(G272*D272, 0) -> 0 | J272: =TRUNC(I272*D272, 0) -> 0 | K272: =TRUNC(E272+G272+I272, 0) -> 0 | L272: =TRUNC(F272+H272+J272, 0) -> 0 | N272: 5B4BD3B34FB775991697FD56A51C589D10ECC2 | Q272: 010403 | R272: F | S272: F | T272: T | AU272: 0104035B4BD3B34FB775991697FD56A51C589D10ECC2 | AV272: 93
A273: 카스톱퍼 | B273: 네오프렌계, 150*120*750mm | C273: 개소 | D273: 2 | F273: =TRUNC(E273*D273, 0) -> 0 | H273: =TRUNC(G273*D273, 0) -> 0 | J273: =TRUNC(I273*D273, 0) -> 0 | K273: =TRUNC(E273+G273+I273, 0) -> 0 | L273: =TRUNC(F273+H273+J273, 0) -> 0 | M273: 호표 10 | N273: 5C68A379422A7EFDD8F7742CB319B9 | Q273: 010403 | R273: T | S273: F | T273: F | AU273: 0104035C68A379422A7EFDD8F7742CB319B9 | AV273: 94
A274: 장애인주차 표지판 | B274: 700*600*H1500 | C274: EA | D274: 1 | F274: =TRUNC(E274*D274, 0) -> 0 | H274: =TRUNC(G274*D274, 0) -> 0 | J274: =TRUNC(I274*D274, 0) -> 0 | K274: =TRUNC(E274+G274+I274, 0) -> 0 | L274: =TRUNC(F274+H274+J274, 0) -> 0 | M274: 호표 11 | N274: 5C68A379422A7DD40667338AB61B6A | Q274: 010403 | R274: T | S274: F | T274: F | AU274: 0104035C68A379422A7DD40667338AB61B6A | AV274: 95
A275: 장애인점자블럭 | B275: 외부, 300*300*35mm, 고강도 콘크리트 | C275: EA | D275: 32 | F275: =TRUNC(E275*D275, 0) -> 0 | H275: =TRUNC(G275*D275, 0) -> 0 | J275: =TRUNC(I275*D275, 0) -> 0 | K275: =TRUNC(E275+G275+I275, 0) -> 0 | L275: =TRUNC(F275+H275+J275, 0) -> 0 | M275: 호표 13 | N275: 5C6953614FDC715227672627561234 | Q275: 010403 | R275: T | S275: F | T275: F | AU275: 0104035C6953614FDC715227672627561234 | AV275: 96
A276: 장애인점자블럭 | B276: 내부, 300*300*18mm, 논스립 자기질 | C276: EA | D276: 55 | F276: =TRUNC(E276*D276, 0) -> 0 | H276: =TRUNC(G276*D276, 0) -> 0 | J276: =TRUNC(I276*D276, 0) -> 0 | K276: =TRUNC(E276+G276+I276, 0) -> 0 | L276: =TRUNC(F276+H276+J276, 0) -> 0 | M276: 호표 14 | N276: 5C6953614FDC715227672627561237 | Q276: 010403 | R276: T | S276: F | T276: F | AU276: 0104035C6953614FDC715227672627561237 | AV276: 97
N277: 5C6953614FDC7152276726275613DC | Q277: 010403 | R277: T | S277: F | T277: F | AU277: 0104035C6953614FDC7152276726275613DC | AV277: 98
A291: [ 합 계 ] | F291: =SUMIF(AR269:AR290,"",F269:F290) -> 0 | H291: =SUMIF(AR269:AR290,"",H269:H290) -> 0 | J291: =SUMIF(AR269:AR290,"",J269:J290) -> 0 | L291: =SUMIF(AR269:AR290,"",L269:L290) -> 0 | N291: TOTAL
A292: 010501 기 타 공 사 | B292: 05.아담스채플 | Q292: 010501
A293: 목재손스침핸드레일/벽부형 | B293: 라왕D38+25.4*1.5t, H:200 | C293: M | D293: 29 | F293: =TRUNC(E293*D293, 0) -> 0 | H293: =TRUNC(G293*D293, 0) -> 0 | J293: =TRUNC(I293*D293, 0) -> 0 | K293: =TRUNC(E293+G293+I293, 0) -> 0 | L293: =TRUNC(F293+H293+J293, 0) -> 0 | M293: 호표 22 | N293: 5C68F3FA4142786DF3A7CF46061831 | Q293: 010501 | R293: T | S293: F | T293: F | AU293: 0105015C68F3FA4142786DF3A7CF46061831 | AV293: 105
A294: 스테인리스핸드레일 | B294: D38.1+15*1.1*3EA+FB(40*9+30*9)*9t, H:850 @ 1200 | C294: M | D294: 41 | F294: =TRUNC(E294*D294, 0) -> 0 | H294: =TRUNC(G294*D294, 0) -> 0 | J294: =TRUNC(I294*D294, 0) -> 0 | K294: =TRUNC(E294+G294+I294, 0) -> 0 | L294: =TRUNC(F294+H294+J294, 0) -> 0 | M294: 호표 18 | N294: 5C68F3FA4142786DF0D78158121732 | Q294: 010501 | R294: T | S294: F | T294: F | AU294: 0105015C68F3FA4142786DF0D78158121732 | AV294: 106
A295: 스틸도어 보강판 및 도어록 타공 | B295: 90*300*1.6t | C295: EA | D295: 2 | F295: =TRUNC(E295*D295, 0) -> 0 | H295: =TRUNC(G295*D295, 0) -> 0 | J295: =TRUNC(I295*D295, 0) -> 0 | K295: =TRUNC(E295+G295+I295, 0) -> 0 | L295: =TRUNC(F295+H295+J295, 0) -> 0 | M295: 호표 19 | N295: 5C68F3F4489C7CCC61978A6A0A1679 | Q295: 010501 | R295: T | S295: F | T295: F | AU295: 0105015C68F3F4489C7CCC61978A6A0A1679 | AV295: 107
A296: 라인마킹 | C296: M | D296: 29 | F296: =TRUNC(E296*D296, 0) -> 0 | H296: =TRUNC(G296*D296, 0) -> 0 | J296: =TRUNC(I296*D296, 0) -> 0 | K296: =TRUNC(E296+G296+I296, 0) -> 0 | L296: =TRUNC(F296+H296+J296, 0) -> 0 | M296: 호표 4 | N296: 5C68B3514F707C8830470557A5173E | Q296: 010501 | R296: T | S296: F | T296: F | AU296: 0105015C68B3514F707C8830470557A5173E | AV296: 109
A297: 안전페인트 | C297: M2 | D297: 14 | F297: =TRUNC(E297*D297, 0) -> 0 | H297: =TRUNC(G297*D297, 0) -> 0 | J297: =TRUNC(I297*D297, 0) -> 0 | K297: =TRUNC(E297+G297+I297, 0) -> 0 | L297: =TRUNC(F297+H297+J297, 0) -> 0 | M297: 호표 5 | N297: 5C68B3514F707C8830470557A5173F | Q297: 010501 | R297: T | S297: F | T297: F | AU297: 0105015C68B3514F707C8830470557A5173F | AV297: 110
A298: 장애인주차구역그리기 | B298: 3300*5000 | C298: 면 | D298: 2 | F298: =TRUNC(E298*D298, 0) -> 0 | H298: =TRUNC(G298*D298, 0) -> 0 | J298: =TRUNC(I298*D298, 0) -> 0 | K298: =TRUNC(E298+G298+I298, 0) -> 0 | L298: =TRUNC(F298+H298+J298, 0) -> 0 | M298: 호표 6 | N298: 5C68B3514F707C8830470557A5173C | Q298: 010501 | R298: T | S298: F | T298: F | AU298: 0105015C68B3514F707C8830470557A5173C | AV298: 111
A315: [ 합 계 ] | F315: =SUMIF(AR293:AR314,"",F293:F314) -> 0 | H315: =SUMIF(AR293:AR314,"",H293:H314) -> 0 | J315: =SUMIF(AR293:AR314,"",J293:J314) -> 0 | L315: =SUMIF(AR293:AR314,"",L293:L314) -> 0 | N315: TOTAL
A316: 010502 철 거 공 사 | B316: 05.아담스채플 | Q316: 010502
A317: 바닥재 커팅 | C317: M | D317: 212 | F317: =TRUNC(E317*D317, 0) -> 0 | H317: =TRUNC(G317*D317, 0) -> 0 | J317: =TRUNC(I317*D317, 0) -> 0 | K317: =TRUNC(E317+G317+I317, 0) -> 0 | L317: =TRUNC(F317+H317+J317, 0) -> 0 | M317: 호표 7 | N317: 5C69437A4AB3780DFCB7F6693E1AFB | Q317: 010502 | R317: T | S317: F | T317: F | AU317: 0105025C69437A4AB3780DFCB7F6693E1AFB | AV317: 113
A318: 바닥재 철거 | C318: M2 | D318: 16 | F318: =TRUNC(E318*D318, 0) -> 0 | H318: =TRUNC(G318*D318, 0) -> 0 | J318: =TRUNC(I318*D318, 0) -> 0 | K318: =TRUNC(E318+G318+I318, 0) -> 0 | L318: =TRUNC(F318+H318+J318, 0) -> 0 | M318: 호표 8 | N318: 5C69437A4AB3780DFCB7F6693E1D4F | Q318: 010502 | R318: T | S318: F | T318: F | AU318: 0105025C69437A4AB3780DFCB7F6693E1D4F | AV318: 114
A319: 건설폐재류 상차비 | C319: TON | D319: 2.246 | F319: =TRUNC(E319*D319, 0) -> 0 | H319: =TRUNC(G319*D319, 0) -> 0 | J319: =TRUNC(I319*D319, 0) -> 0 | K319: =TRUNC(E319+G319+I319, 0) -> 0 | L319: =TRUNC(F319+H319+J319, 0) -> 0 | N319: 5C68438B48C87B495757EA9EF51493 | Q319: 010502 | R319: F | S319: F | T319: T | AU319: 0105025C68438B48C87B495757EA9EF51493 | AV319: 126
...
