Workbook
Name _: "="
Name ___________q45: {"'용역비'!$A$4:$C$8"}
Name _________q45: {"'용역비'!$A$4:$C$8"}
Name _______q45: {"'용역비'!$A$4:$C$8"}
Name ______q45: {"'용역비'!$A$4:$C$8"}
Name _____q45: {"'용역비'!$A$4:$C$8"}
Name ____q45: {"'용역비'!$A$4:$C$8"}
Name ___q45: {"'용역비'!$A$4:$C$8"}
Name __DemandLoad: TRUE
Name __IntlFixup: TRUE
Name __q45: {"'용역비'!$A$4:$C$8"}
Name _Order1: 255
Name _Order2: 255
Name _q45: {"'용역비'!$A$4:$C$8"}
Name _Regression_Int: 1
Name _tt1: "tt1"
Name \b: #N/A
Name \c: #N/A
Name \d: #N/A
Name \p: #N/A
Name aaa.: #REF!
Name aaaa: BlankMacro1
Name aaaa: BlankMacro1
Name aaaaaaa: {"Book1","상동3BL옥외설계계산서(1차검토분).xls"}
Name Access_Button: "업체현황_카드발송_List"
Name Access_Button1: "업체현황_카드발송_List"
Name Access_Button2: "업체현황_카드발송_List"
Name Access_Button3: "카드발송_카드발송_List1"
Name Access_Button4: "업체현황_카드발송_List"
Name AccessDatabase: "C:\dnkim\협력업체\카드발송.mdb"
Name adfvvv: {"'Firr(선)'!$AS$1:$AY$62","'Firr(사)'!$AS$1:$AY$62","'Firr(회)'!$AS$1:$AY$62","'Firr(선)'!$L$1:$V$62","'Firr(사)'!$L$1:$V$62","'Firr(회)'!$L$1:$V$62"}
Name ÀÎ¼â: [2]!ÀÎ¼â
Name anscount: 1
Name Áö¿ì±â: [2]!Áö¿ì±â
Name asfwe: {"'Firr(선)'!$AS$1:$AY$62","'Firr(사)'!$AS$1:$AY$62","'Firr(회)'!$AS$1:$AY$62","'Firr(선)'!$L$1:$V$62","'Firr(사)'!$L$1:$V$62","'Firr(회)'!$L$1:$V$62"}
Name awer: {"'Firr(선)'!$AS$1:$AY$62","'Firr(사)'!$AS$1:$AY$62","'Firr(회)'!$AS$1:$AY$62","'Firr(선)'!$L$1:$V$62","'Firr(사)'!$L$1:$V$62","'Firr(회)'!$L$1:$V$62"}
Name cgmh: {"'용역비'!$A$4:$C$8"}
Name cxee: {"'Firr(선)'!$AS$1:$AY$62","'Firr(사)'!$AS$1:$AY$62","'Firr(회)'!$AS$1:$AY$62","'Firr(선)'!$L$1:$V$62","'Firr(사)'!$L$1:$V$62","'Firr(회)'!$L$1:$V$62"}
Name DANGA: '[3]Y-WORK'!$D$19:$D$19,'[3]Y-WORK'!$F$19:$BD$19
Name database2: #REF!
Name DDDDA: BlankMacro1
Name DDDDA: BlankMacro1
Name derwr: {"'Firr(선)'!$AS$1:$AY$62","'Firr(사)'!$AS$1:$AY$62","'Firr(회)'!$AS$1:$AY$62","'Firr(선)'!$L$1:$V$62","'Firr(사)'!$L$1:$V$62","'Firr(회)'!$L$1:$V$62"}
Name dfwer: {"'Firr(선)'!$AS$1:$AY$62","'Firr(사)'!$AS$1:$AY$62","'Firr(회)'!$AS$1:$AY$62","'Firr(선)'!$L$1:$V$62","'Firr(사)'!$L$1:$V$62","'Firr(회)'!$L$1:$V$62"}
Name dhj: {"'용역비'!$A$4:$C$8"}
Name Document_array: {"서울냉천 3차( 5. 6-7).xls","Sheet1"}
Name dsds: [4]DATA1!$A$3:$B$9
Name DW: {"'용역비'!$A$4:$C$8"}
Name EFG: {"'용역비'!$A$4:$C$8"}
Name EGE: {"'용역비'!$A$4:$C$8"}
Name ertyertye: {"'용역비'!$A$4:$C$8"}
Name ETYETY: {"'용역비'!$A$4:$C$8"}
Name etyj: {"'용역비'!$A$4:$C$8"}
Name etyjj: {"'용역비'!$A$4:$C$8"}
Name ETYJTYJ: {"'용역비'!$A$4:$C$8"}
Name EWEF: [0]!EWEF
Name ewq: {"'Firr(선)'!$AS$1:$AY$62","'Firr(사)'!$AS$1:$AY$62","'Firr(회)'!$AS$1:$AY$62","'Firr(선)'!$L$1:$V$62","'Firr(사)'!$L$1:$V$62","'Firr(회)'!$L$1:$V$62"}
Name FIX: #REF!
Name FK: {"'용역비'!$A$4:$C$8"}
Name gcfj: BlankMacro1

Sheet 원가
A1: 공 사 원 가 계 산 서
A2: 공 사 명 : | D2: 계명대 성서캠퍼스 장애인편의시설 개선공사 | J2: (단위:원)
A3: 구 분 | E3: 금 액 | F3: 구 성 비 | J3: 비 고
B4: 1. 순 공 사 원 가 | E4: =E5+E7+E10 -> 0
C5: 가. 재 료 비 | E5: =E6 -> 0
C6: 가-1. 직접재료비 | E6: =동별집계표!F5 -> 0
C7: 나. 노 무 비 | E7: =SUM(E8:E9) -> 0
C8: 나-1. 직접노무비 | E8: =동별집계표!H5 -> 0
C9: 나-2. 간접노무비 | E9: =TRUNC(E8*$I$9) -> 0 | F9: [나1] 의 | I9: 0.06 | K9: (가+나-1+다-1)금액
C10: 다. 경 비 | E10: =SUM(E11:E23) -> 0
C11: 다-1. 산출경비 | E11: =동별집계표!J5-동별집계표!J20 -> 0
C12: 다-2. 산재보험료 | E12: =TRUNC(E7*$I$12) -> 0 | F12: [나]의 | I12: 0.0356
C13: 다-3. 고용보험료 | E13: =TRUNC(E7*$I$13) -> 0 | F13: [나]의 | I13: 0.0101
C14: 다-4. 건강보험료 | E14: =TRUNC(E8*$I$14) -> 0 | F14: [나1]의 | I14: 0.03545
C15: 다-5. 노인장기요양보험 | E15: =TRUNC(E14*$I$15) -> 0 | F15: [다4]의 | I15: 0.1295
C16: 다-6. 연금보험료 | E16: =TRUNC(E8*$I$16) -> 0 | F16: [나1]의 | I16: 0.045
C17: 다-7. 퇴직공제부금 | E17: - | F17: [나1]의
C18: 다-8. 산업안전보건관리비 | E18: =TRUNC((E6+E8)*$I$18) -> 0 | F18: [가+나1]의 | I18: 0.0311 | K18: 5억미만
C19: 다-9. 기타경비 | E19: =TRUNC((E5+E7)*$I$19) -> 0 | F19: [가+나]의 | I19: 0.03 | K19: (가+나-1+다-1)금액
C20: 다-10. 공사이행보증수수료 | F20: (([가+나-1+다-1]의)×0.02%)×년수공기(년)
C21: 다-11. 하도급대금지금 보증수수료 | E21: =TRUNC((E5+E8+E11)*$I$21) -> 0 | F21: [가+나1+다1]의 | I21: 0.00081 | K21: 추정가격
C22: 다-12. 건설기계대여대금 지급보증서 발급금액 | E22: =TRUNC((E5+E8+E11)*$I$22) -> 0 | F22: [가+나1+다1]의 | I22: 0.0007
C23: 다-13. 환경보전비 | E23: =TRUNC((E6+E8+E11)*$I$23) -> 0 | F23: [가+나1+다1]의 | I23: 0.003 | K23: 개보수공사
A24: 2. 일 반 관 리 비 | E24: =TRUNC((E4)*$I$24) -> 0 | F24: [1]의 | I24: 0.03 | K24: 추정가격
A25: 3. 이 윤 | E25: =TRUNC((E7+E10+E24)*$I$25) -> 0 | F25: [1나+1다+2]의 | I25: 0.1 | K25: 추정가격
A26: 4. 주 요 자 재 비 | E26: 0
A27: 5. 총 원 가 | E27: =SUM(E4,E24:E26) -> 0 | F27: [1+2+3+4]
A28: 6. 부 가 가 치 세 | E28: =TRUNC(E27*$I$28) -> 0 | F28: [5]의 | I28: 0.1
A29: 7. 도 급 금 액 | E29: =ROUNDDOWN((E27+E28),0) -> 0 | F29: [5+6]
A30: 8. 폐기물처리비 | E30: =(동별집계표!L20*1.1) -> 0 | J30: 부가세포함
A31: 총 공 사 비 | E31: =E29+E30 -> 0
E34: =동별집계표!L5 -> 0

Sheet 동별집계표
A1: 공 종 별 집 계 표
A2: [ 계명대 성서캠퍼스 장애인편의시설 개선공사 ]
A3: 품 명 | B3: 규 격 | C3: 단위 | D3: 수량 | E3: 재 료 비 | G3: 노 무 비 | I3: 경 비 | K3: 합 계 | M3: 비 고 | N3: 공종코드 | O3: 변수 | P3: 상위공종 | Q3: 공종구분 | R3: 공종레벨 | S3: 공종소계 | T3: 원가계산서 연결금액
E4: 단 가 | F4: 금 액 | G4: 단 가 | H4: 금 액 | I4: 단 가 | J4: 금 액 | K4: 단 가 | L4: 금 액
A5: 01 계명대 성서캠퍼스 장애인편의시설 개선공사 | D5: 1 | E5: =F6+F7+F8+F9+F10+F11+F12+F13+F14+F15+F16+F17+F18+F19+F20 -> 0 | F5: =E5*D5 -> 0 | G5: =H6+H7+H8+H9+H10+H11+H12+H13+H14+H15+H16+H17+H18+H19+H20 -> 0 | H5: =G5*D5 -> 0 | I5: =J6+J7+J8+J9+J10+J11+J12+J13+J14+J15+J16+J17+J18+J19+J20 -> 0 | J5: =I5*D5 -> 0 | K5: =E5+G5+I5 -> 0 | L5: =F5+H5+J5 -> 0 | N5: 01 | R5: 1
A6: 0101 01.체육관 | D6: 1 | E6: =VLOOKUP($A6,공종별집계표!$A:$L,6,FALSE) -> 0 | F6: =E6*D6 -> 0 | G6: =VLOOKUP($A6,공종별집계표!$A:$L,8,FALSE) -> 0 | H6: =G6*D6 -> 0 | I6: =VLOOKUP($A6,공종별집계표!$A:$L,10,FALSE) -> 0 | J6: =I6*D6 -> 0 | K6: =E6+G6+I6 -> 0 | L6: =F6+H6+J6 -> 0 | N6: 0101 | P6: 01 | R6: 2
A7: 0102 02.바우어관 | D7: 1 | E7: =VLOOKUP($A7,공종별집계표!$A:$L,6,FALSE) -> 0 | F7: =E7*D7 -> 0 | G7: =VLOOKUP($A7,공종별집계표!$A:$L,8,FALSE) -> 0 | H7: =G7*D7 -> 0 | I7: =VLOOKUP($A7,공종별집계표!$A:$L,10,FALSE) -> 0 | J7: =I7*D7 -> 0 | K7: =E7+G7+I7 -> 0 | L7: =F7+H7+J7 -> 0 | N7: 0102 | P7: 01 | R7: 2
A8: 0103 03.동산도서관 | D8: 1 | E8: =VLOOKUP($A8,공종별집계표!$A:$L,6,FALSE) -> 0 | F8: =E8*D8 -> 0 | G8: =VLOOKUP($A8,공종별집계표!$A:$L,8,FALSE) -> 0 | H8: =G8*D8 -> 0 | I8: =VLOOKUP($A8,공종별집계표!$A:$L,10,FALSE) -> 0 | J8: =I8*D8 -> 0 | K8: =E8+G8+I8 -> 0 | L8: =F8+H8+J8 -> 0 | N8: 0103 | P8: 01 | R8: 2
A9: 0104 04.행소관 | D9: 1 | E9: =VLOOKUP($A9,공종별집계표!$A:$L,6,FALSE) -> 0 | F9: =E9*D9 -> 0 | G9: =VLOOKUP($A9,공종별집계표!$A:$L,8,FALSE) -> 0 | H9: =G9*D9 -> 0 | I9: =VLOOKUP($A9,공종별집계표!$A:$L,10,FALSE) -> 0 | J9: =I9*D9 -> 0 | K9: =E9+G9+I9 -> 0 | L9: =F9+H9+J9 -> 0 | N9: 0104 | P9: 01 | R9: 2
A10: 0105 05.아담스채플 | D10: 1 | E10: =VLOOKUP($A10,공종별집계표!$A:$L,6,FALSE) -> 0 | F10: =E10*D10 -> 0 | G10: =VLOOKUP($A10,공종별집계표!$A:$L,8,FALSE) -> 0 | H10: =G10*D10 -> 0 | I10: =VLOOKUP($A10,공종별집계표!$A:$L,10,FALSE) -> 0 | J10: =I10*D10 -> 0 | K10: =E10+G10+I10 -> 0 | L10: =F10+H10+J10 -> 0 | N10: 0105 | P10: 01 | R10: 2
A11: 0106 06.산학협력관 | D11: 1 | E11: =VLOOKUP($A11,공종별집계표!$A:$L,6,FALSE) -> 0 | F11: =E11*D11 -> 0 | G11: =VLOOKUP($A11,공종별집계표!$A:$L,8,FALSE) -> 0 | H11: =G11*D11 -> 0 | I11: =VLOOKUP($A11,공종별집계표!$A:$L,10,FALSE) -> 0 | J11: =I11*D11 -> 0 | K11: =E11+G11+I11 -> 0 | L11: =F11+H11+J11 -> 0 | N11: 0106 | P11: 01 | R11: 2
A12: 0107 07.대운동장 화장실 | D12: 1 | E12: =VLOOKUP($A12,공종별집계표!$A:$L,6,FALSE) -> 0 | F12: =E12*D12 -> 0 | G12: =VLOOKUP($A12,공종별집계표!$A:$L,8,FALSE) -> 0 | H12: =G12*D12 -> 0 | I12: =VLOOKUP($A12,공종별집계표!$A:$L,10,FALSE) -> 0 | J12: =I12*D12 -> 0 | K12: =E12+G12+I12 -> 0 | L12: =F12+H12+J12 -> 0 | N12: 0107 | P12: 01 | R12: 2
A13: 0108 08.대운동장본부석및스탠드 | D13: 1 | E13: =VLOOKUP($A13,공종별집계표!$A:$L,6,FALSE) -> 0 | F13: =E13*D13 -> 0 | G13: =VLOOKUP($A13,공종별집계표!$A:$L,8,FALSE) -> 0 | H13: =G13*D13 -> 0 | I13: =VLOOKUP($A13,공종별집계표!$A:$L,10,FALSE) -> 0 | J13: =I13*D13 -> 0 | K13: =E13+G13+I13 -> 0 | L13: =F13+H13+J13 -> 0 | N13: 0108 | P13: 01 | R13: 2
A14: 0109 09.행소박물관 | D14: 1 | E14: =VLOOKUP($A14,공종별집계표!$A:$L,6,FALSE) -> 0 | F14: =E14*D14 -> 0 | G14: =VLOOKUP($A14,공종별집계표!$A:$L,8,FALSE) -> 0 | H14: =G14*D14 -> 0 | I14: =VLOOKUP($A14,공종별집계표!$A:$L,10,FALSE) -> 0 | J14: =I14*D14 -> 0 | K14: =E14+G14+I14 -> 0 | L14: =F14+H14+J14 -> 0 | N14: 0109 | P14: 01 | R14: 2
A15: 0110 10.바우어 신관 | D15: 1 | E15: =VLOOKUP($A15,공종별집계표!$A:$L,6,FALSE) -> 0 | F15: =E15*D15 -> 0 | G15: =VLOOKUP($A15,공종별집계표!$A:$L,8,FALSE) -> 0 | H15: =G15*D15 -> 0 | I15: =VLOOKUP($A15,공종별집계표!$A:$L,10,FALSE) -> 0 | J15: =I15*D15 -> 0 | K15: =E15+G15+I15 -> 0 | L15: =F15+H15+J15 -> 0 | N15: 0110 | P15: 01 | R15: 2
A16: 0111 11.계명아트센터 | D16: 1 | E16: =VLOOKUP($A16,공종별집계표!$A:$L,6,FALSE) -> 0 | F16: =E16*D16 -> 0 | G16: =VLOOKUP($A16,공종별집계표!$A:$L,8,FALSE) -> 0 | H16: =G16*D16 -> 0 | I16: =VLOOKUP($A16,공종별집계표!$A:$L,10,FALSE) -> 0 | J16: =I16*D16 -> 0 | K16: =E16+G16+I16 -> 0 | L16: =F16+H16+J16 -> 0 | N16: 0111 | P16: 01 | R16: 2
A17: 0112 12.복지관 | D17: 1 | E17: =VLOOKUP($A17,공종별집계표!$A:$L,6,FALSE) -> 0 | F17: =E17*D17 -> 0 | G17: =VLOOKUP($A17,공종별집계표!$A:$L,8,FALSE) -> 0 | H17: =G17*D17 -> 0 | I17: =VLOOKUP($A17,공종별집계표!$A:$L,10,FALSE) -> 0 | J17: =I17*D17 -> 0 | K17: =E17+G17+I17 -> 0 | L17: =F17+H17+J17 -> 0 | N17: 011501 | P17: 0115 | R17: 3
... A20: 0115 폐기물처리비 | D20: 1 | E20: =VLOOKUP($A20,공종별집계표!$A:$L,6,FALSE) -> 0 | F20: =E20*D20 -> 0 | G20: =VLOOKUP($A20,공종별집계표!$A:$L,8,FALSE) -> 0 | H20: =G20*D20 -> 0 | I20: =VLOOKUP($A20,공종별집계표!$A:$L,10,FALSE) -> 0 | J20: =I20*D20 -> 0 | K20: =E20+G20+I20 -> 0 | L20: =F20+H20+J20 -> 0 | N20: 0115 | P20: 01 | R20: 2
J21: =I21*D21 -> 0 | K21: =E21+G21+I21 -> 0 | L21: =F21+H21+J21 -> 0 | N21: 011502 | P21: 0115 | R21: 3
J22: =I22*D22 -> 0 | K22: =E22+G22+I22 -> 0 | L22: =F22+H22+J22 -> 0 | N22: 011503 | P22: 0115 | R22: 3
J23: =I23*D23 -> 0 | K23: =E23+G23+I23 -> 0 | L23: =F23+H23+J23 -> 0 | N23: 011504 | P23: 0115 | R23: 3
J24: =I24*D24 -> 0 | K24: =E24+G24+I24 -> 0 | L24: =F24+H24+J24 -> 0 | N24: 011505 | P24: 0115 | R24: 3
J25: =I25*D25 -> 0 | K25: =E25+G25+I25 -> 0 | L25: =F25+H25+J25 -> 0 | N25: 011506 | P25: 0115 | R25: 3
J26: =I26*D26 -> 0 | K26: =E26+G26+I26 -> 0 | L26: =F26+H26+J26 -> 0 | N26: 011507 | P26: 0115 | R26: 3
A27: [ 합 계 ] | F27: =F5 -> 0 | H27: =H5 -> 0 | J27: =J5 -> 0 | L27: =L5 -> 0

Sheet 공종별집계표
A1: 공 종 별 집 계 표
A2: [ 계명대 성서캠퍼스 장애인편의시설 개선공사 ]
A3: 품 명 | B3: 규 격 | C3: 단위 | D3: 수량 | E3: 재 료 비 | G3: 노 무 비 | I3: 경 비 | K3: 합 계 | M3: 비 고 | N3: 공종코드 | O3: 변수 | P3: 상위공종 | Q3: 공종구분 | R3: 공종레벨 | S3: 공종소계 | T3: 원가계산서 연결금액
E4: 단 가 | F4: 금 액 | G4: 단 가 | H4: 금 액 | I4: 단 가 | J4: 금 액 | K4: 단 가 | L4: 금 액
A5: 01 계명대 성서캠퍼스 장애인편의시설 개선공사 | D5: 1 | E5: =F6+F10+F14+F18+F22+F26+F30+F34+F37+F41+F45+F49+F53+F57+F60 -> 0 | F5: =E5*D5 -> 0 | G5: =H6+H10+H14+H18+H22+H26+H30+H34+H37+H41+H45+H49+H53+H57+H60 -> 0 | H5: =G5*D5 -> 0 | I5: =J6+J10+J14+J18+J22+J26+J30+J34+J37+J41+J45+J49+J53+J57+J60 -> 0 | J5: =I5*D5 -> 0 | K5: =E5+G5+I5 -> 0 | L5: =F5+H5+J5 -> 0 | N5: 01 | R5: 1
A6: 0101 01.체육관 | D6: 1 | F6: =E6*D6 -> 0 | G6: =H7+H8+H9 -> 0 | H6: =G6*D6 -> 0 | I6: =J7+J8+J9 -> 0 | J6: =I6*D6 -> 0 | K6: =E6+G6+I6 -> 0 | L6: =F6+H6+J6 -> 0 | N6: 0101 | P6: 01 | R6: 2
A7: 010101 기 타 공 사 | D7: 1 | E7: =공종별내역서!F27 -> 0 | F7: =E7*D7 -> 0 | G7: =공종별내역서!H27 -> 0 | H7: =G7*D7 -> 0 | I7: =공종별내역서!J27 -> 0 | J7: =I7*D7 -> 0 | K7: =E7+G7+I7 -> 0 | L7: =F7+H7+J7 -> 0 | N7: 010101 | P7: 0101 | R7: 3
A8: 010102 철 거 공 사 | D8: 1 | E8: =공종별내역서!F51 -> 0 | F8: =E8*D8 -> 0 | G8: =공종별내역서!H51 -> 0 | H8: =G8*D8 -> 0 | I8: =공종별내역서!J51 -> 0 | J8: =I8*D8 -> 0 | K8: =E8+G8+I8 -> 0 | L8: =F8+H8+J8 -> 0 | N8: 010102 | P8: 0101 | R8: 3
A9: 010103 장애인시설공사 | D9: 1 | E9: =공종별내역서!F75 -> 0 | F9: =E9*D9 -> 0 | G9: =공종별내역서!H75 -> 0 | H9: =G9*D9 -> 0 | I9: =공종별내역서!J75 -> 0 | J9: =I9*D9 -> 0 | K9: =E9+G9+I9 -> 0 | L9: =F9+H9+J9 -> 0 | N9: 010103 | P9: 0101 | R9: 3
A10: 0102 02.바우어관 | D10: 1 | E10: =F11+F12+F13 -> 0 | F10: =E10*D10 -> 0 | G10: =H11+H12+H13 -> 0 | H10: =G10*D10 -> 0 | I10: =J11+J12+J13 -> 0 | J10: =I10*D10 -> 0 | K10: =E10+G10+I10 -> 0 | L10: =F10+H10+J10 -> 0 | N10: 0102 | P10: 01 | R10: 2
A11: 010201 기 타 공 사 | D11: 1 | E11: =공종별내역서!F99 -> 0 | F11: =E11*D11 -> 0 | G11: =공종별내역서!H99 -> 0 | H11: =G11*D11 -> 0 | I11: =공종별내역서!J99 -> 0 | J11: =I11*D11 -> 0 | K11: =E11+G11+I11 -> 0 | L11: =F11+H11+J11 -> 0 | N11: 010201 | P11: 0102 | R11: 3
A12: 010202 철 거 공 사 | D12: 1 | E12: =공종별내역서!F123 -> 0 | F12: =E12*D12 -> 0 | G12: =공종별내역서!H123 -> 0 | H12: =G12*D12 -> 0 | I12: =공종별내역서!J123 -> 0 | J12: =I12*D12 -> 0 | K12: =E12+G12+I12 -> 0 | L12: =F12+H12+J12 -> 0 | N12: 010202 | P12: 0102 | R12: 3
A13: 010203 장애인시설공사 | D13: 1 | E13: =공종별내역서!F147 -> 0 | F13: =E13*D13 -> 0 | G13: =공종별내역서!H147 -> 0 | H13: =G13*D13 -> 0 | I13: =공종별내역서!J147 -> 0 | J13: =I13*D13 -> 0 | K13: =E13+G13+I13 -> 0 | L13: =F13+H13+J13 -> 0 | N13: 010203 | P13: 0102 | R13: 3
A14: 0103 03.동산도서관 | D14: 1 | E14: =F15+F16+F17 -> 0 | F14: =E14*D14 -> 0 | G14: =H15+H16+H17 -> 0 | H14: =G14*D14 -> 0 | I14: =J15+J16+J17 -> 0 | J14: =I14*D14 -> 0 | K14: =E14+G14+I14 -> 0 | L14: =F14+H14+J14 -> 0 | N14: 0103 | P14: 01 | R14: 2
A15: 010301 기 타 공 사 | D15: 1 | E15: =공종별내역서!F171 -> 0 | F15: =E15*D15 -> 0 | G15: =공종별내역서!H171 -> 0 | H15: =G15*D15 -> 0 | I15: =공종별내역서!J171 -> 0 | J15: =I15*D15 -> 0 | K15: =E15+G15+I15 -> 0 | L15: =F15+H15+J15 -> 0 | N15: 010301 | P15: 0103 | R15: 3
A16: 010302 철 거 공 사 | D16: 1 | E16: =공종별내역서!F195 -> 0 | F16: =E16*D16 -> 0 | G16: =공종별내역서!H195 -> 0 | H16: =G16*D16 -> 0 | I16: =공종별내역서!J195 -> 0 | J16: =I16*D16 -> 0 | K16: =E16+G16+I16 -> 0 | L16: =F16+H16+J16 -> 0 | N16: 010302 | P16: 0103 | R16: 3
A17: 010303 장애인시설공사 | D17: 1 | E17: =공종별내역서!F219 -> 0 | F17: =E17*D17 -> 0 | G17: =공종별내역서!H219 -> 0 | H17: =G17*D17 -> 0 | I17: =공종별내역서!J219 -> 0 | J17: =I17*D17 -> 0 | K17: =E17+G17+I17 -> 0 | L17: =F17+H17+J17 -> 0 | N17: 010303 | P17: 0103 | R17: 3
A18: 0104 04.행소관 | D18: 1 | E18: =F19+F20+F21 -> 0 | F18: =E18*D18 -> 0 | G18: =H19+H20+H21 -> 0 | H18: =G18*D18 -> 0 | I18: =J19+J20+J21 -> 0 | J18: =I18*D18 -> 0 | K18: =E18+G18+I18 -> 0 | L18: =F18+H18+J18 -> 0 | N18: 0104 | P18: 01 | R18: 2
A19: 010401 기 타 공 사 | D19: 1 | E19: =공종별내역서!F243 -> 0 | F19: =E19*D19 -> 0 | G19: =공종별내역서!H243 -> 0 | H19: =G19*D19 -> 0 | I19: =공종별내역서!J243 -> 0 | J19: =I19*D19 -> 0 | K19: =E19+G19+I19 -> 0 | L19: =F19+H19+J19 -> 0 | N19: 010401 | P19: 0104 | R19: 3
A20: 010402 철 거 공 사 | D20: 1 | E20: =공종별내역서!F267 -> 0 | F20: =E20*D20 -> 0 | G20: =공종별내역서!H267 -> 0 | H20: =G20*D20 -> 0 | I20: =공종별내역서!J267 -> 0 | J20: =I20*D20 -> 0 | K20: =E20+G20+I20 -> 0 | L20: =F20+H20+J20 -> 0 | N20: 010402 | P20: 0104 | R20: 3
A21: 010403 장애인시설공사 | D21: 1 | E21: =공종별내역서!F291 -> 0 | F21: =E21*D21 -> 0 | G21: =공종별내역서!H291 -> 0 | H21: =G21*D21 -> 0 | I21: =공종별내역서!J291 -> 0 | J21: =I21*D21 -> 0 | K21: =E21+G21+I21 -> 0 | L21: =F21+H21+J21 -> 0 | N21: 010403 | P21: 0104 | R21: 3
A22: 0105 05.아담스채플 | D22: 1 | E22: =F23+F24+F25 -> 0 | F22: =E22*D22 -> 0 | G22: =H23+H24+H25 -> 0 | H22: =G22*D22 -> 0 | I22: =J23+J24+J25 -> 0 | J22: =I22*D22 -> 0 | K22: =E22+G22+I22 -> 0 | L22: =F22+H22+J22 -> 0 | N22: 0105 | P22: 01 | R22: 2
A23: 010501 기 타 공 사 | D23: 1 | E23: =공종별내역서!F315 -> 0 | F23: =E23*D23 -> 0 | G23: =공종별내역서!H315 -> 0 | H23: =G23*D23 -> 0 | I23: =공종별내역서!J315 -> 0 | J23: =I23*D23 -> 0 | K23: =E23+G23+I23 -> 0 | L23: =F23+H23+J23 -> 0 | N23: 010501 | P23: 0105 | R23: 3
A24: 010502 철 거 공 사 | D24: 1 | E24: =공종별내역서!F339 -> 0 | F24: =E24*D24 -> 0 | G24: =공종별내역서!H339 -> 0 | H24: =G24*D24 -> 0 | I24: =공종별내역서!J339 -> 0 | J24: =I24*D24 -> 0 | K24: =E24+G24+I24 -> 0 | L24: =F24+H24+J24 -> 0 | N24: 010502 | P24: 0105 | R24: 3
A25: 010503 장애인시설공사 | D25: 1 | E25: =공종별내역서!F363 -> 0 | F25: =E25*D25 -> 0 | G25: =공종별내역서!H363 -> 0 | H25: =G25*D25 -> 0 | I25: =공종별내역서!J363 -> 0 | J25: =I25*D25 -> 0 | K25: =E25+G25+I25 -> 0 | L25: =F25+H25+J25 -> 0 | N25: 010503 | P25: 0105 | R25: 3
A26: 0106 06.산학협력관 | D26: 1 | E26: =F27+F28+F29 -> 0 | F26: =E26*D26 -> 0 | G26: =H27+H28+H29 -> 0 | H26: =G26*D26 -> 0 | I26: =J27+J28+J29 -> 0 | J26: =I26*D26 -> 0 | K26: =E26+G26+I26 -> 0 | L26: =F26+H26+J26 -> 0 | N26: 0106 | P26: 01 | R26: 2
A27: 010601 기 타 공 사 | D27: 1 | E27: =공종별내역서!F387 -> 0 | F27: =E27*D27 -> 0 | G27: =공종별내역서!H387 -> 0 | H27: =G27*D27 -> 0 | I27: =공종별내역서!J387 -> 0 | J27: =I27*D27 -> 0 | K27: =E27+G27+I27 -> 0 | L27: =F27+H27+J27 -> 0 | N27: 010601 | P27: 0106 | R27: 3
A28: 010602 철 거 공 사 | D28: 1 | E28: =공종별내역서!F411 -> 0 | F28: =E28*D28 -> 0 | G28: =공종별내역서!H411 -> 0 | H28: =G28*D28 -> 0 | I28: =공종별내역서!J411 -> 0 | J28: =I28*D28 -> 0 | K28: =E28+G28+I28 -> 0 | L28: =F28+H28+J28 -> 0 | N28: 010602 | P28: 0106 | R28: 3
A29: 010603 장애인시설공사 | D29: 1 | E29: =공종별내역서!F435 -> 0 | F29: =E29*D29 -> 0 | G29: =공종별내역서!H435 -> 0 | H29: =G29*D29 -> 0 | I29: =공종별내역서!J435 -> 0 | J29: =I29*D29 -> 0 | K29: =E29+G29+I29 -> 0 | L29: =F29+H29+J29 -> 0 | N29: 010603 | P29: 0106 | R29: 3
A30: 0107 07.대운동장 화장실 | D30: 1 | E30: =F31+F32+F33 -> 0 | F30: =E30*D30 -> 0 | G30: =H31+H32+H33 -> 0 | H30: =G30*D30 -> 0 | I30: =J31+J32+J33 -> 0 | J30: =I30*D30 -> 0 | K30: =E30+G30+I30 -> 0 | L30: =F30+H30+J30 -> 0 | N30: 0107 | P30: 01 | R30: 2
A31: 010701 기 타 공 사 | D31: 1 | E31: =공종별내역서!F459 -> 0 | F31: =E31*D31 -> 0 | G31: =공종별내역서!H459 -> 0 | H31: =G31*D31 -> 0 | I31: =공종별내역서!J459 -> 0 | J31: =I31*D31 -> 0 | K31: =E31+G31+I31 -> 0 | L31: =F31+H31+J31 -> 0 | N31: 010701 | P31: 0107 | R31: 3
A32: 010702 철 거 공 사 | D32: 1 | E32: =공종별내역서!F483 -> 0 | F32: =E32*D32 -> 0 | G32: =공종별내역서!H483 -> 0 | H32: =G32*D32 -> 0 | I32: =공종별내역서!J483 -> 0 | J32: =I32*D32 -> 0 | K32: =E32+G32+I32 -> 0 | L32: =F32+H32+J32 -> 0 | N32: 010702 | P32: 0107 | R32: 3
A33: 010703 장애인시설공사 | D33: 1 | E33: =공종별내역서!F507 -> 0 | F33: =E33*D33 -> 0 | G33: =공종별내역서!H507 -> 0 | H33: =G33*D33 -> 0 | I33: =공종별내역서!J507 -> 0 | J33: =I33*D33 -> 0 | K33: =E33+G33+I33 -> 0 | L33: =F33+H33+J33 -> 0 | N33: 010703 | P33: 0107 | R33: 3
A34: 0108 08.대운동장본부석및스탠드 | D34: 1 | E34: =F35+F36 -> 0 | F34: =E34*D34 -> 0 | G34: =H35+H36 -> 0 | H34: =G34*D34 -> 0 | I34: =J35+J36 -> 0 | J34: =I34*D34 -> 0 | K34: =E34+G34+I34 -> 0 | L34: =F34+H34+J34 -> 0 | N34: 0108 | P34: 01 | R34: 2
A35: 010801 기 타 공 사 | D35: 1 | E35: =공종별내역서!F531 -> 0 | F35: =E35*D35 -> 0 | G35: =공종별내역서!H531 -> 0 | H35: =G35*D35 -> 0 | I35: =공종별내역서!J531 -> 0 | J35: =I35*D35 -> 0 | K35: =E35+G35+I35 -> 0 | L35: =F35+H35+J35 -> 0 | N35: 010801 | P35: 0108 | R35: 3
A36: 010802 장애인시설공사 | D36: 1 | E36: =공종별내역서!F555 -> 0 | F36: =E36*D36 -> 0 | G36: =공종별내역서!H555 -> 0 | H36: =G36*D36 -> 0 | I36: =공종별내역서!J555 -> 0 | J36: =I36*D36 -> 0 | K36: =E36+G36+I36 -> 0 | L36: =F36+H36+J36 -> 0 | N36: 010802 | P36: 0108 | R36: 3
A37: 0109 09.행소박물관 | D37: 1 | E37: =F38+F39+F40 -> 0 | F37: =E37*D37 -> 0 | G37: =H38+H39+H40 -> 0 | H37: =G37*D37 -> 0 | I37: =J38+J39+J40 -> 0 | J37: =I37*D37 -> 0 | K37: =E37+G37+I37 -> 0 | L37: =F37+H37+J37 -> 0 | N37: 0109 | P37: 01 | R37: 2
A38: 010901 기 타 공 사 | D38: 1 | E38: =공종별내역서!F579 -> 0 | F38: =E38*D38 -> 0 | G38: =공종별내역서!H579 -> 0 | H38: =G38*D38 -> 0 | I38: =공종별내역서!J579 -> 0 | J38: =I38*D38 -> 0 | K38: =E38+G38+I38 -> 0 | L38: =F38+H38+J38 -> 0 | N38: 010901 | P38: 0109 | R38: 3
A39: 010902 철 거 공 사 | D39: 1 | E39: =공종별내역서!F603 -> 0 | F39: =E39*D39 -> 0 | G39: =공종별내역서!H603 -> 0 | H39: =G39*D39 -> 0 | I39: =공종별내역서!J603 -> 0 | J39: =I39*D39 -> 0 | K39: =E39+G39+I39 -> 0 | L39: =F39+H39+J39 -> 0 | N39: 010902 | P39: 0109 | R39: 3
A40: 010903 장애인시설공사 | D40: 1 | E40: =공종별내역서!F627 -> 0 | F40: =E40*D40 -> 0 | G40: =공종별내역서!H627 -> 0 | H40: =G40*D40 -> 0 | I40: =공종별내역서!J627 -> 0 | J40: =I40*D40 -> 0 | K40: =E40+G40+I40 -> 0 | L40: =F40+H40+J40 -> 0 | N40: 010903 | P40: 0109 | R40: 3
...

Sheet 공종별내역서
A1: [ 계명대 성서캠퍼스 장애인편의시설 개선공사 ]
A2: 품 명 | B2: 규 격 | C2: 단위 | D2: 수량 | E2: 재 료 비 | G2: 노 무 비 | I2: 경 비 | K2: 합 계 | M2: 비 고 | N2: 품목코드 | O2: 변수 | P2: 설정 | Q2: 공종코드 | R2: 일위 | S2: 단산 | T2: 자재 | U2: 손료적용 | V2: 손료저장 | W2: 적용율 | X2: JUK1 | Y2: JUK2 | Z2: JUK3 | AA2: JUK4 | AB2: JUK5 | AC2: JUK6 | AD2: JUK7 | AE2: JUK8 | AF2: JUK9 | AG2: JUK10 | AH2: JUK11 | AI2: JUK12 | AJ2: JUK13 | AK2: JUK14 | AL2: JUK15 | AM2: JUK16 | AN2: JUK17 | AO2: JUK18 | AP2: JUK19 | AQ2: JUK20 | AR2: 자재구분 | AS2: 공종구분 | AT2: 공종레벨 | AU2: 공종+자재 | AV2: 고유번호
E3: 단 가 | F3: 금 액 | G3: 단 가 | H3: 금 액 | I3: 단 가 | J3: 금 액 | K3: 단 가 | L3: 금 액
A4: 010101 기 타 공 사 | B4: 01.체육관 | Q4: 010101
A5: 스테인리스핸드레일/벽부형 | B5: D38.1+25.4*1.5t, H:200 @ 1200 | C5: M | D5: 54 | F5: =TRUNC(E5*D5, 0) -> 0 | H5: =TRUNC(G5*D5, 0) -> 0 | J5: =TRUNC(I5*D5, 0) -> 0 | K5: =TRUNC(E5+G5+I5, 0) -> 0 | L5: =TRUNC(F5+H5+J5, 0) -> 0 | M5: 호표 1 | N5: 5C68F3FA4142786DF3A7CF460619D8 | Q5: 010101 | R5: T | S5: F | T5: F | AU5: 0101015C68F3FA4142786DF3A7CF460619D8 | AV5: 4
A6: 모르타르 바름 / 폭 30cm 이하 | B6: 내벽, 11mm, 3.6m 이하 | C6: M2 | D6: 2 | F6: =TRUNC(E6*D6, 0) -> 0 | H6: =TRUNC(G6*D6, 0) -> 0 | J6: =TRUNC(I6*D6, 0) -> 0 | K6: =TRUNC(E6+G6+I6, 0) -> 0 | L6: =TRUNC(F6+H6+J6, 0) -> 0 | M6: 호표 2 | N6: 5C6823404AF774BE4BE7E04F9C11A3 | Q6: 010101 | R6: T | S6: F | T6: F | AU6: 0101015C6823404AF774BE4BE7E04F9C11A3 | AV6: 7
A7: 수성페인트 붓칠 | B7: 내부 2회, 친환경 | C7: M2 | D7: 2 | F7: =TRUNC(E7*D7, 0) -> 0 | H7: =TRUNC(G7*D7, 0) -> 0 | J7: =TRUNC(I7*D7, 0) -> 0 | K7: =TRUNC(E7+G7+I7, 0) -> 0 | L7: =TRUNC(F7+H7+J7, 0) -> 0 | M7: 호표 3 | N7: 5C68B35D4A937FAD3D97E5E1911FA1 | Q7: 010101 | R7: T | S7: F | T7: F | AU7: 0101015C68B35D4A937FAD3D97E5E1911FA1 | AV7: 9
A8: 라인마킹 | C8: M | D8: 15 | F8: =TRUNC(E8*D8, 0) -> 0 | H8: =TRUNC(G8*D8, 0) -> 0 | J8: =TRUNC(I8*D8, 0) -> 0 | K8: =TRUNC(E8+G8+I8, 0) -> 0 | L8: =TRUNC(F8+H8+J8, 0) -> 0 | M8: 호표 4 | N8: 5C68B3514F707C8830470557A5173E | Q8: 010101 | R8: T | S8: F | T8: F | AU8: 0101015C68B3514F707C8830470557A5173E | AV8: 10
A9: 안전페인트 | C9: M2 | D9: 10 | F9: =TRUNC(E9*D9, 0) -> 0 | H9: =TRUNC(G9*D9, 0) -> 0 | J9: =TRUNC(I9*D9, 0) -> 0 | K9: =TRUNC(E9+G9+I9, 0) -> 0 | L9: =TRUNC(F9+H9+J9, 0) -> 0 | M9: 호표 5 | N9: 5C68B3514F707C8830470557A5173F | Q9: 010101 | R9: T | S9: F | T9: F | AU9: 0101015C68B3514F707C8830470557A5173F | AV9: 11
A10: 장애인주차구역그리기 | B10: 3300*5000 | C10: 면 | D10: 1 | F10: =TRUNC(E10*D10, 0) -> 0 | H10: =TRUNC(G10*D10, 0) -> 0 | J10: =TRUNC(I10*D10, 0) -> 0 | K10: =TRUNC(E10+G10+I10, 0) -> 0 | L10: =TRUNC(F10+H10+J10, 0) -> 0 | M10: 호표 6 | N10: 5C68B3514F707C8830470557A5173C | Q10: 010101 | R10: T | S10: F | T10: F | AU10: 0101015C68B3514F707C8830470557A5173C | AV10: 12
A27: [ 합 계 ] | F27: =SUMIF(AR5:AR26,"",F5:F26) -> 0 | H27: =SUMIF(AR5:AR26,"",H5:H26) -> 0 | J27: =SUMIF(AR5:AR26,"",J5:J26) -> 0 | L27: =SUMIF(AR5:AR26,"",L5:L26) -> 0 | N27: TOTAL
A28: 010102 철 거 공 사 | B28: 01.체육관 | Q28: 010102
A29: 바닥재 커팅 | C29: M | D29: 208 | F29: =TRUNC(E29*D29, 0) -> 0 | H29: =TRUNC(G29*D29, 0) -> 0 | J29: =TRUNC(I29*D29, 0) -> 0 | K29: =TRUNC(E29+G29+I29, 0) -> 0 | L29: =TRUNC(F29+H29+J29, 0) -> 0 | M29: 호표 7 | N29: 5C69437A4AB3780DFCB7F6693E1AFB | Q29: 010102 | R29: T | S29: F | T29: F | AU29: 0101025C69437A4AB3780DFCB7F6693E1AFB | AV29: 14
A30: 바닥재 철거 | C30: M2 | D30: 16 | F30: =TRUNC(E30*D30, 0) -> 0 | H30: =TRUNC(G30*D30, 0) -> 0 | J30: =TRUNC(I30*D30, 0) -> 0 | K30: =TRUNC(E30+G30+I30, 0) -> 0 | L30: =TRUNC(F30+H30+J30, 0) -> 0 | M30: 호표 8 | N30: 5C69437A4AB3780DFCB7F6693E1D4F | Q30: 010102 | R30: T | S30: F | T30: F | AU30: 0101025C69437A4AB3780DFCB7F6693E1D4F | AV30: 15
A31: 스텐도어 철거 | B31: 900*2100 | C31: EA | D31: 2 | F31: =TRUNC(E31*D31, 0) -> 0 | H31: =TRUNC(G31*D31, 0) -> 0 | J31: =TRUNC(I31*D31, 0) -> 0 | K31: =TRUNC(E31+G31+I31, 0) -> 0 | L31: =TRUNC(F31+H31+J31, 0) -> 0 | M31: 호표 9 | N31: 5C69437A4AB3780DFCB7F67BAF10E9 | Q31: 010102 | R31: T | S31: F | T31: F | AU31: 0101025C69437A4AB3780DFCB7F67BAF10E9 | AV31: 16
A32: 건설폐재류 상차비 | C32: TON | D32: 2.289 | F32: =TRUNC(E32*D32, 0) -> 0 | H32: =TRUNC(G32*D32, 0) -> 0 | J32: =TRUNC(I32*D32, 0) -> 0 | K32: =TRUNC(E32+G32+I32, 0) -> 0 | L32: =TRUNC(F32+H32+J32, 0) -> 0 | N32: 5C68438B48C87B495757EA9EF51493 | Q32: 010102 | R32: F | S32: F | T32: T | AU32: 0101025C68438B48C87B495757EA9EF51493 | AV32: 29
A51: [ 합 계 ] | F51: =SUMIF(AR29:AR50,"",F29:F50) -> 0 | H51: =SUMIF(AR29:AR50,"",H29:H50) -> 0 | J51: =SUMIF(AR29:AR50,"",J29:J50) -> 0 | L51: =SUMIF(AR29:AR50,"",L29:L50) -> 0 | N51: TOTAL
A52: 010103 장애인시설공사 | B52: 01.체육관 | Q52: 010103
A53: 핸드레일촉지판 - 인쇄+점자타공 | B53: AL 120*∮38 | C53: EA | D53: 8 | F53: =TRUNC(E53*D53, 0) -> 0 | H53: =TRUNC(G53*D53, 0) -> 0 | J53: =TRUNC(I53*D53, 0) -> 0 | K53: =TRUNC(E53+G53+I53, 0) -> 0 | L53: =TRUNC(F53+H53+J53, 0) -> 0 | N53: 5B4BD3B34FB775991697C01CB81197571BC898 | Q53: 010103 | R53: F | S53: F | T53: T | AU53: 0101035B4BD3B34FB775991697C01CB81197571BC898 | AV53: 18
A54: 화장실 점자표시판 | B54: 200*200 | C54: EA | D54: 8 | F54: =TRUNC(E54*D54, 0) -> 0 | H54: =TRUNC(G54*D54, 0) -> 0 | J54: =TRUNC(I54*D54, 0) -> 0 | K54: =TRUNC(E54+G54+I54, 0) -> 0 | L54: =TRUNC(F54+H54+J54, 0) -> 0 | N54: 5B4BD3B34FB775991697FD56A51C589D11F109 | Q54: 010103 | R54: F | S54: F | T54: T | AU54: 0101035B4BD3B34FB775991697FD56A51C589D11F109 | AV54: 19
A55: 촉지도 안내판 | B55: 800*700*H1200, 음성안내, 스탠드형 | C55: EA | D55: 1 | F55: =TRUNC(E55*D55, 0) -> 0 | H55: =TRUNC(G55*D55, 0) -> 0 | J55: =TRUNC(I55*D55, 0) -> 0 | K55: =TRUNC(E55+G55+I55, 0) -> 0 | L55: =TRUNC(F55+H55+J55, 0) -> 0 | N55: 5B4BD3B34FB775991697FD56A51C589D10ECC2 | Q55: 010103 | R55: F | S55: F | T55: T | AU55: 0101035B4BD3B34FB775991697FD56A51C589D10ECC2 | AV55: 20
A56: 카스톱퍼 | B56: 네오프렌계, 150*120*750mm | C56: 개소 | D56: 2 | F56: =TRUNC(E56*D56, 0) -> 0 | H56: =TRUNC(G56*D56, 0) -> 0 | J56: =TRUNC(I56*D56, 0) -> 0 | K56: =TRUNC(E56+G56+I56, 0) -> 0 | L56: =TRUNC(F56+H56+J56, 0) -> 0 | M56: 호표 10 | N56: 5C68A379422A7EFDD8F7742CB319B9 | Q56: 010103 | R56: T | S56: F | T56: F | AU56: 0101035C68A379422A7EFDD8F7742CB319B9 | AV56: 21
A57: 장애인주차 표지판 | B57: 700*600*H1500 | C57: EA | D57: 1 | F57: =TRUNC(E57*D57, 0) -> 0 | H57: =TRUNC(G57*D57, 0) -> 0 | J57: =TRUNC(I57*D57, 0) -> 0 | K57: =TRUNC(E57+G57+I57, 0) -> 0 | L57: =TRUNC(F57+H57+J57, 0) -> 0 | M57: 호표 11 | N57: 5C68A379422A7DD40667338AB61B6A | Q57: 010103 | R57: T | S57: F | T57: F | AU57: 0101035C68A379422A7DD40667338AB61B6A | AV57: 22
A58: 안내 표지판 | B58: 700*600*H1500 | C58: EA | D58: 1 | F58: =TRUNC(E58*D58, 0) -> 0 | H58: =TRUNC(G58*D58, 0) -> 0 | J58: =TRUNC(I58*D58, 0) -> 0 | K58: =TRUNC(E58+G58+I58, 0) -> 0 | L58: =TRUNC(F58+H58+J58, 0) -> 0 | M58: 호표 12 | N58: 5C68A379422A7DD40667338AB61896 | Q58: 010103 | R58: T | S58: F | T58: F | AU58: 0101035C68A379422A7DD40667338AB61896 | AV58: 23
A59: 장애인점자블럭 | B59: 외부, 300*300*35mm, 고강도 콘크리트 | C59: EA | D59: 79 | F59: =TRUNC(E59*D59, 0) -> 0 | H59: =TRUNC(G59*D59, 0) -> 0 | J59: =TRUNC(I59*D59, 0) -> 0 | K59: =TRUNC(E59+G59+I59, 0) -> 0 | L59: =TRUNC(F59+H59+J59, 0) -> 0 | M59: 호표 13 | N59: 5C6953614FDC715227672627561234 | Q59: 010103 | R59: T | S59: F | T59: F | AU59: 0101035C6953614FDC715227672627561234 | AV59: 24
A60: 장애인점자블럭 | B60: 내부, 300*300*18mm, 논스립 자기질 | C60: EA | D60: 93 | F60: =TRUNC(E60*D60, 0) -> 0 | H60: =TRUNC(G60*D60, 0) -> 0 | J60: =TRUNC(I60*D60, 0) -> 0 | K60: =TRUNC(E60+G60+I60, 0) -> 0 | L60: =TRUNC(F60+H60+J60, 0) -> 0 | M60: 호표 14 | N60: 5C6953614FDC715227672627561237 | Q60: 010103 | R60: T | S60: F | T60: F | AU60: 0101035C6953614FDC715227672627561237 | AV60: 25
N61: 5C6953614FDC7152276726275613DC | Q61: 010103 | R61: T | S61: F | T61: F | AU61: 0101035C6953614FDC7152276726275613DC | AV61: 26
A75: [ 합 계 ] | F75: =SUMIF(AR53:AR74,"",F53:F74) -> 0 | H75: =SUMIF(AR53:AR74,"",H53:H74) -> 0 | J75: =SUMIF(AR53:AR74,"",J53:J74) -> 0 | L75: =SUMIF(AR53:AR74,"",L53:L74) -> 0 | N75: TOTAL
A76: 010201 기 타 공 사 | B76: 02.바우어관 | Q76: 010201
A77: 스테인리스핸드레일/벽부형 | B77: D38.1+25.4*1.5t, H:200 @ 1200 | C77: M | D77: 14 | F77: =TRUNC(E77*D77, 0) -> 0 | H77: =TRUNC(G77*D77, 0) -> 0 | J77: =TRUNC(I77*D77, 0) -> 0 | K77: =TRUNC(E77+G77+I77, 0) -> 0 | L77: =TRUNC(F77+H77+J77, 0) -> 0 | M77: 호표 1 | N77: 5C68F3FA4142786DF3A7CF460619D8 | Q77: 010201 | R77: T | S77: F | T77: F | AU77: 0102015C68F3FA4142786DF3A7CF460619D8 | AV77: 33
A78: 스테인리스핸드레일 | B78: D38.1+25.4*1.5t, H:850 @ 900 | C78: M | D78: 8 | F78: =TRUNC(E78*D78, 0) -> 0 | H78: =TRUNC(G78*D78, 0) -> 0 | J78: =TRUNC(I78*D78, 0) -> 0 | K78: =TRUNC(E78+G78+I78, 0) -> 0 | L78: =TRUNC(F78+H78+J78, 0) -> 0 | M78: 호표 16 | N78: 5C68F3FA4142786DF0D7815812147D | Q78: 010201 | R78: T | S78: F | T78: F | AU78: 0102015C68F3FA4142786DF0D7815812147D | AV78: 34
A99: [ 합 계 ] | F99: =SUMIF(AR77:AR98,"",F77:F98) -> 0 | H99: =SUMIF(AR77:AR98,"",H77:H98) -> 0 | J99: =SUMIF(AR77:AR98,"",J77:J98) -> 0 | L99: =SUMIF(AR77:AR98,"",L77:L98) -> 0 | N99: TOTAL
A100: 010202 철 거 공 사 | B100: 02.바우어관 | Q100: 010202
A101: 바닥재 커팅 | C101: M | D101: 71 | F101: =TRUNC(E101*D101, 0) -> 0 | H101: =TRUNC(G101*D101, 0) -> 0 | J101: =TRUNC(I101*D101, 0) -> 0 | K101: =TRUNC(E101+G101+I101, 0) -> 0 | L101: =TRUNC(F101+H101+J101, 0) -> 0 | M101: 호표 7 | N101: 5C69437A4AB3780DFCB7F6693E1AFB | Q101: 010202 | R101: T | S101: F | T101: F | AU101: 0102025C69437A4AB3780DFCB7F6693E1AFB | AV101: 40
A102: 바닥재 철거 | C102: M2 | D102: 6 | F102: =TRUNC(E102*D102, 0) -> 0 | H102: =TRUNC(G102*D102, 0) -> 0 | J102: =TRUNC(I102*D102, 0) -> 0 | K102: =TRUNC(E102+G102+I102, 0) -> 0 | L102: =TRUNC(F102+H102+J102, 0) -> 0 | M102: 호표 8 | N102: 5C69437A4AB3780DFCB7F6693E1D4F | Q102: 010202 | R102: T | S102: F | T102: F | AU102: 0102025C69437A4AB3780DFCB7F6693E1D4F | AV102: 41
A103: 건설폐재류 상차비 | C103: TON | D103: 0.748 | F103: =TRUNC(E103*D103, 0) -> 0 | H103: =TRUNC(G103*D103, 0) -> 0 | J103: =TRUNC(I103*D103, 0) -> 0 | K103: =TRUNC(E103+G103+I103, 0) -> 0 | L103: =TRUNC(F103+H103+J103, 0) -> 0 | N103: 5C68438B48C87B495757EA9EF51493 | Q103: 010202 | R103: F | S103: F | T103: T | AU103: 0102025C68438B48C87B495757EA9EF51493 | AV103: 51
A123: [ 합 계 ] | F123: =SUMIF(AR101:AR122,"",F101:F122) -> 0 | H123: =SUMIF(AR101:AR122,"",H101:H122) -> 0 | J123: =SUMIF(AR101:AR122,"",J101:J122) -> 0 | L123: =SUMIF(AR101:AR122,"",L101:L122) -> 0 | N123: TOTAL
A124: 010203 장애인시설공사 | B124: 02.바우어관 | Q124: 010203
A125: 핸드레일촉지판 - 인쇄+점자타공 | B125: AL 120*∮38 | C125: EA | D125: 10 | F125: =TRUNC(E125*D125, 0) -> 0 | H125: =TRUNC(G125*D125, 0) -> 0 | J125: =TRUNC(I125*D125, 0) -> 0 | K125: =TRUNC(E125+G125+I125, 0) -> 0 | L125: =TRUNC(F125+H125+J125, 0) -> 0 | N125: 5B4BD3B34FB775991697C01CB81197571BC898 | Q125: 010203 | R125: F | S125: F | T125: T | AU125: 0102035B4BD3B34FB775991697C01CB81197571BC898 | AV125: 43
A126: 화장실 점자표시판 | B126: 200*200 | C126: EA | D126: 10 | F126: =TRUNC(E126*D126, 0) -> 0 | H126: =TRUNC(G126*D126, 0) -> 0 | J126: =TRUNC(I126*D126, 0) -> 0 | K126: =TRUNC(E126+G126+I126, 0) -> 0 | L126: =TRUNC(F126+H126+J126, 0) -> 0 | N126: 5B4BD3B34FB775991697FD56A51C589D11F109 | Q126: 010203 | R126: F | S126: F | T126: T | AU126: 0102035B4BD3B34FB775991697FD56A51C589D11F109 | AV126: 44
...
