Workbook

Sheet 공종별집계표(조경)
A1: 공 종 별 집 계 표
A2: [ 벽오고문헌관 신축공사_조경 ]
A3: 품 명 | B3: 규 격 | C3: 단위 | D3: 수량 | E3: 재 료 비 | G3: 노 무 비 | I3: 경 비 | K3: 합 계 | M3: 비 고 | N3: 공종코드 | O3: 변수 | P3: 상위공종 | Q3: 공종구분 | R3: 공종레벨 | S3: 공종소계 | T3: 원가계산서 연결금액
E4: 단 가 | F4: 금 액 | G4: 단 가 | H4: 금 액 | I4: 단 가 | J4: 금 액 | K4: 단 가 | L4: 금 액
A5: 01 벽오고문헌관 신축공사_조경 | D5: 1 | E5: =F6 -> 0 | F5: =E5*D5 -> 0 | G5: =H6 -> 0 | H5: =G5*D5 -> 0 | I5: =J6 -> 0 | J5: =I5*D5 -> 0 | K5: =E5+G5+I5 -> 0 | L5: =F5+H5+J5 -> 0 | N5: 01 | R5: 1
A6: 0101 01.조경 | D6: 1 | E6: =F7+F13+F14+F15 -> 0 | F6: =E6*D6 -> 0 | G6: =H7+H13+H14+H15 -> 0 | H6: =G6*D6 -> 0 | I6: =J7+J13+J14+J15 -> 0 | J6: =I6*D6 -> 0 | K6: =E6+G6+I6 -> 0 | L6: =F6+H6+J6 -> 0 | N6: 0101 | P6: 01 | R6: 2
A7: 010101 식재공사 | D7: 1 | E7: =F8+F9+F10+F11+F12 -> 0 | F7: =E7*D7 -> 0 | G7: =H8+H9+H10+H11+H12 -> 0 | H7: =G7*D7 -> 0 | I7: =J8+J9+J10+J11+J12 -> 0 | J7: =I7*D7 -> 0 | K7: =E7+G7+I7 -> 0 | L7: =F7+H7+J7 -> 0 | N7: 010101 | P7: 0101 | R7: 3
A8: 01010101 상록교목 | D8: 1 | E8: ='공종별내역서(조경)'!F27 -> 0 | F8: =E8*D8 -> 0 | G8: ='공종별내역서(조경)'!H27 -> 0 | H8: =G8*D8 -> 0 | I8: ='공종별내역서(조경)'!J27 -> 0 | J8: =I8*D8 -> 0 | K8: =E8+G8+I8 -> 0 | L8: =F8+H8+J8 -> 0 | N8: 01010101 | P8: 010101 | R8: 4
A9: 01010102 낙엽교목 | D9: 1 | E9: ='공종별내역서(조경)'!F51 -> 0 | F9: =E9*D9 -> 0 | G9: ='공종별내역서(조경)'!H51 -> 0 | H9: =G9*D9 -> 0 | I9: ='공종별내역서(조경)'!J51 -> 0 | J9: =I9*D9 -> 0 | K9: =E9+G9+I9 -> 0 | L9: =F9+H9+J9 -> 0 | N9: 01010102 | P9: 010101 | R9: 4
A10: 01010103 상록관목 | D10: 1 | E10: ='공종별내역서(조경)'!F75 -> 0 | F10: =E10*D10 -> 0 | G10: ='공종별내역서(조경)'!H75 -> 0 | H10: =G10*D10 -> 0 | I10: ='공종별내역서(조경)'!J75 -> 0 | J10: =I10*D10 -> 0 | K10: =E10+G10+I10 -> 0 | L10: =F10+H10+J10 -> 0 | N10: 01010103 | P10: 010101 | R10: 4
A11: 01010104 낙엽관목 | D11: 1 | E11: ='공종별내역서(조경)'!F99 -> 0 | F11: =E11*D11 -> 0 | G11: ='공종별내역서(조경)'!H99 -> 0 | H11: =G11*D11 -> 0 | I11: ='공종별내역서(조경)'!J99 -> 0 | J11: =I11*D11 -> 0 | K11: =E11+G11+I11 -> 0 | L11: =F11+H11+J11 -> 0 | N11: 01010104 | P11: 010101 | R11: 4
A12: 01010105 지피 | D12: 1 | E12: ='공종별내역서(조경)'!F123 -> 0 | F12: =E12*D12 -> 0 | G12: ='공종별내역서(조경)'!H123 -> 0 | H12: =G12*D12 -> 0 | I12: ='공종별내역서(조경)'!J123 -> 0 | J12: =I12*D12 -> 0 | K12: =E12+G12+I12 -> 0 | L12: =F12+H12+J12 -> 0 | N12: 01010105 | P12: 010101 | R12: 4
A13: 010102 식재기반공사 | D13: 1 | E13: ='공종별내역서(조경)'!F147 -> 0 | F13: =E13*D13 -> 0 | G13: ='공종별내역서(조경)'!H147 -> 0 | H13: =G13*D13 -> 0 | I13: ='공종별내역서(조경)'!J147 -> 0 | J13: =I13*D13 -> 0 | K13: =E13+G13+I13 -> 0 | L13: =F13+H13+J13 -> 0 | N13: 010102 | P13: 0101 | R13: 3
A14: 010103 시설물공사 | D14: 1 | E14: ='공종별내역서(조경)'!F171 -> 0 | F14: =E14*D14 -> 0 | G14: ='공종별내역서(조경)'!H171 -> 0 | H14: =G14*D14 -> 0 | I14: ='공종별내역서(조경)'!J171 -> 0 | J14: =I14*D14 -> 0 | K14: =E14+G14+I14 -> 0 | L14: =F14+H14+J14 -> 0 | N14: 010103 | P14: 0101 | R14: 3
A15: 010104 포장공사 | D15: 1 | E15: ='공종별내역서(조경)'!F195 -> 0 | F15: =E15*D15 -> 0 | G15: ='공종별내역서(조경)'!H195 -> 0 | H15: =G15*D15 -> 0 | I15: ='공종별내역서(조경)'!J195 -> 0 | J15: =I15*D15 -> 0 | K15: =E15+G15+I15 -> 0 | L15: =F15+H15+J15 -> 0 | N15: 010104 | P15: 0101 | R15: 3
A27: [ 합 계 ] | F27: =F5 -> 0 | H27: =H5 -> 0 | J27: =J5 -> 0 | L27: =L5 -> 0

Sheet 공종별내역서(조경)
A1: [ 벽오고문헌관 신축공사_조경 ]
A2: 품 명 | B2: 규 격 | C2: 단위 | D2: 수량 | E2: 재 료 비 | G2: 노 무 비 | I2: 경 비 | K2: 합 계 | M2: 비 고 | N2: 품목코드 | O2: 변수 | P2: 설정 | Q2: 공종코드 | R2: 일위 | S2: 단산 | T2: 자재 | U2: 손료적용 | V2: 손료저장 | W2: 적용율 | X2: JUK1 | Y2: JUK2 | Z2: JUK3 | AA2: JUK4 | AB2: JUK5 | AC2: JUK6 | AD2: JUK7 | AE2: JUK8 | AF2: JUK9 | AG2: JUK10 | AH2: JUK11 | AI2: JUK12 | AJ2: JUK13 | AK2: JUK14 | AL2: JUK15 | AM2: JUK16 | AN2: JUK17 | AO2: JUK18 | AP2: JUK19 | AQ2: JUK20 | AR2: 자재구분 | AS2: 공종구분 | AT2: 공종레벨 | AU2: 공종+자재 | AV2: 고유번호
E3: 단 가 | F3: 금 액 | G3: 단 가 | H3: 금 액 | I3: 단 가 | J3: 금 액 | K3: 단 가 | L3: 금 액
A4: 01010101 상록교목 | Q4: 01010101
A5: 소나무(이식) | B5: R40, 교내이식 | C5: 주 | D5: 2 | E5: 0 | F5: =TRUNC(E5*D5, 0) -> 0 | G5: 0 | H5: =TRUNC(G5*D5, 0) -> 0 | I5: 0 | J5: =TRUNC(I5*D5, 0) -> 0 | K5: =TRUNC(E5+G5+I5, 0) -> 0 | L5: =TRUNC(F5+H5+J5, 0) -> 0 | M5: 호표 1 | N5: 5DD574A6E05D83D9648E77CB4ED15A | Q5: 01010101 | R5: T | S5: F | T5: F | AU5: 010101015DD574A6E05D83D9648E77CB4ED15A | AV5: 619
A6: 소나무(이식) | B6: R35, 교내이식 | C6: 주 | D6: 3 | E6: 0 | F6: =TRUNC(E6*D6, 0) -> 0 | G6: 0 | H6: =TRUNC(G6*D6, 0) -> 0 | I6: 0 | J6: =TRUNC(I6*D6, 0) -> 0 | K6: =TRUNC(E6+G6+I6, 0) -> 0 | L6: =TRUNC(F6+H6+J6, 0) -> 0 | M6: 호표 2 | N6: 5DD574A6E05D83D9648E77CB4ED158 | Q6: 01010101 | R6: T | S6: F | T6: F | AU6: 010101015DD574A6E05D83D9648E77CB4ED158 | AV6: 620
A7: 스트로브잣나무(이식) | B7: H3.5*W1.8, 교내이식 | C7: 주 | D7: 10 | E7: 0 | F7: =TRUNC(E7*D7, 0) -> 0 | G7: 0 | H7: =TRUNC(G7*D7, 0) -> 0 | I7: 0 | J7: =TRUNC(I7*D7, 0) -> 0 | K7: =TRUNC(E7+G7+I7, 0) -> 0 | L7: =TRUNC(F7+H7+J7, 0) -> 0 | M7: 호표 3 | N7: 5DD574A6E05D83D9648E77CB4ED15E | Q7: 01010101 | R7: T | S7: F | T7: F | AU7: 010101015DD574A6E05D83D9648E77CB4ED15E | AV7: 621
A8: 서양측백나무 | B8: H2.5*W0.8 | C8: 주 | D8: 8 | E8: 0 | F8: =TRUNC(E8*D8, 0) -> 0 | G8: 0 | H8: =TRUNC(G8*D8, 0) -> 0 | I8: 0 | J8: =TRUNC(I8*D8, 0) -> 0 | K8: =TRUNC(E8+G8+I8, 0) -> 0 | L8: =TRUNC(F8+H8+J8, 0) -> 0 | M8: 호표 4 | N8: 5DD574A6E05D83D9648E77CB4ED15C | Q8: 01010101 | R8: T | S8: F | T8: F | AU8: 010101015DD574A6E05D83D9648E77CB4ED15C | AV8: 622
A9: 향나무(이식) | B9: H2.5*W1.0, 교내이식 | C9: 주 | D9: 2 | E9: 0 | F9: =TRUNC(E9*D9, 0) -> 0 | G9: 0 | H9: =TRUNC(G9*D9, 0) -> 0 | I9: 0 | J9: =TRUNC(I9*D9, 0) -> 0 | K9: =TRUNC(E9+G9+I9, 0) -> 0 | L9: =TRUNC(F9+H9+J9, 0) -> 0 | M9: 호표 85
A27: [ 합 계 ] | F27: =SUMIF(AR5:AR26,"",F5:F26) -> 0 | H27: =SUMIF(AR5:AR26,"",H5:H26) -> 0 | J27: =SUMIF(AR5:AR26,"",J5:J26) -> 0 | L27: =SUMIF(AR5:AR26,"",L5:L26) -> 0 | N27: TOTAL
A28: 01010102 낙엽교목 | Q28: 01010102
A29: 벽오동나무 | B29: H6.0*R20 | C29: 주 | D29: 2 | E29: 0 | F29: =TRUNC(E29*D29, 0) -> 0 | G29: 0 | H29: =TRUNC(G29*D29, 0) -> 0 | I29: 0 | J29: =TRUNC(I29*D29, 0) -> 0 | K29: =TRUNC(E29+G29+I29, 0) -> 0 | L29: =TRUNC(F29+H29+J29, 0) -> 0 | M29: 호표 5 | N29: 5DD574A6E05D83D9648E77CB4ED261 | Q29: 01010102 | R29: T | S29: F | T29: F | AU29: 010101025DD574A6E05D83D9648E77CB4ED261 | AV29: 623
A30: 벽오동나무 | B30: H4.0*R15 | C30: 주 | D30: 3 | E30: 0 | F30: =TRUNC(E30*D30, 0) -> 0 | G30: 0 | H30: =TRUNC(G30*D30, 0) -> 0 | I30: 0 | J30: =TRUNC(I30*D30, 0) -> 0 | K30: =TRUNC(E30+G30+I30, 0) -> 0 | L30: =TRUNC(F30+H30+J30, 0) -> 0 | M30: 호표 6 | N30: 5DD574A6E05D83D9648E77CB4ED263 | Q30: 01010102 | R30: T | S30: F | T30: F | AU30: 010101025DD574A6E05D83D9648E77CB4ED263 | AV30: 624
A31: 대왕참나무 | B31: H4.5*R20 | C31: 주 | D31: 4 | E31: 0 | F31: =TRUNC(E31*D31, 0) -> 0 | G31: 0 | H31: =TRUNC(G31*D31, 0) -> 0 | I31: 0 | J31: =TRUNC(I31*D31, 0) -> 0 | K31: =TRUNC(E31+G31+I31, 0) -> 0 | L31: =TRUNC(F31+H31+J31, 0) -> 0 | M31: 호표 7 | N31: 5DD574A6E05D83D9648E77CB4ED265 | Q31: 01010102 | R31: T | S31: F | T31: F | AU31: 010101025DD574A6E05D83D9648E77CB4ED265 | AV31: 625
A32: 이팝나무 | B32: H4.0*R15 | C32: 주 | D32: 10 | E32: 0 | F32: =TRUNC(E32*D32, 0) -> 0 | G32: 0 | H32: =TRUNC(G32*D32, 0) -> 0 | I32: 0 | J32: =TRUNC(I32*D32, 0) -> 0 | K32: =TRUNC(E32+G32+I32, 0) -> 0 | L32: =TRUNC(F32+H32+J32, 0) -> 0 | M32: 호표 8 | N32: 5DD574A6E05D83D9648E77CB4ED267 | Q32: 01010102 | R32: T | S32: F | T32: F | AU32: 010101025DD574A6E05D83D9648E77CB4ED267 | AV32: 626
A33: 청단풍 | B33: H4.0*R20 | C33: 주 | D33: 7 | E33: 0 | F33: =TRUNC(E33*D33, 0) -> 0 | G33: 0 | H33: =TRUNC(G33*D33, 0) -> 0 | I33: 0 | J33: =TRUNC(I33*D33, 0) -> 0 | K33: =TRUNC(E33+G33+I33, 0) -> 0 | L33: =TRUNC(F33+H33+J33, 0) -> 0 | M33: 호표 9 | N33: 5DD574A6E05D83D9648E77CB4ED269 | Q33: 01010102 | R33: T | S33: F | T33: F | AU33: 010101025DD574A6E05D83D9648E77CB4ED269 | AV33: 627
A34: 배롱나무(이식) | B34: H2.5*R6 | C34: 주 | D34: 31 | E34: 0 | F34: =TRUNC(E34*D34, 0) -> 0 | G34: 0 | H34: =TRUNC(G34*D34, 0) -> 0 | I34: 0 | J34: =TRUNC(I34*D34, 0) -> 0 | K34: =TRUNC(E34+G34+I34, 0) -> 0 | L34: =TRUNC(F34+H34+J34, 0) -> 0 | M34: 호표 86
A51: [ 합 계 ] | F51: =SUMIF(AR29:AR50,"",F29:F50) -> 0 | H51: =SUMIF(AR29:AR50,"",H29:H50) -> 0 | J51: =SUMIF(AR29:AR50,"",J29:J50) -> 0 | L51: =SUMIF(AR29:AR50,"",L29:L50) -> 0 | N51: TOTAL
A52: 01010103 상록관목 | Q52: 01010103
A53: 사철나무 | B53: H1.0*W0.5 | C53: 주 | D53: 482 | E53: 0 | F53: =TRUNC(E53*D53, 0) -> 0 | G53: 0 | H53: =TRUNC(G53*D53, 0) -> 0 | I53: 0 | J53: =TRUNC(I53*D53, 0) -> 0 | K53: =TRUNC(E53+G53+I53, 0) -> 0 | L53: =TRUNC(F53+H53+J53, 0) -> 0 | M53: 호표 10 | N53: 5DD574A6E05D83D9648E77CB4ED30A | Q53: 01010103 | R53: T | S53: F | T53: F | AU53: 010101035DD574A6E05D83D9648E77CB4ED30A | AV53: 628
A54: 눈향나무 | B54: H0.5*W0.3 | C54: 주 | D54: 261 | E54: 0 | F54: =TRUNC(E54*D54, 0) -> 0 | G54: 0 | H54: =TRUNC(G54*D54, 0) -> 0 | I54: 0 | J54: =TRUNC(I54*D54, 0) -> 0 | K54: =TRUNC(E54+G54+I54, 0) -> 0 | L54: =TRUNC(F54+H54+J54, 0) -> 0 | M54: 호표 11 | N54: 5DD574A6E05D83D9648E77CB4ED30C | Q54: 01010103 | R54: T | S54: F | T54: F | AU54: 010101035DD574A6E05D83D9648E77CB4ED30C | AV54: 629
A55: 회양목 | B55: H0.3*W0.3 | C55: 주 | D55: 648 | E55: 0 | F55: =TRUNC(E55*D55, 0) -> 0 | G55: 0 | H55: =TRUNC(G55*D55, 0) -> 0 | I55: 0 | J55: =TRUNC(I55*D55, 0) -> 0 | K55: =TRUNC(E55+G55+I55, 0) -> 0 | L55: =TRUNC(F55+H55+J55, 0) -> 0 | M55: 호표 12 | N55: 5DD574A6E05D83D9648E77CB4ED30E | Q55: 01010103 | R55: T | S55: F | T55: F | AU55: 010101035DD574A6E05D83D9648E77CB4ED30E | AV55: 630
I56: 0
A75: [ 합 계 ] | F75: =SUMIF(AR53:AR74,"",F53:F74) -> 0 | H75: =SUMIF(AR53:AR74,"",H53:H74) -> 0 | J75: =SUMIF(AR53:AR74,"",J53:J74) -> 0 | L75: =SUMIF(AR53:AR74,"",L53:L74) -> 0 | N75: TOTAL
A76: 01010104 낙엽관목 | Q76: 01010104
A77: 흰말채나무 | B77: H1.2*W0.4 | C77: 주 | D77: 219 | E77: 0 | F77: =TRUNC(E77*D77, 0) -> 0 | G77: 0 | H77: =TRUNC(G77*D77, 0) -> 0 | I77: 0 | J77: =TRUNC(I77*D77, 0) -> 0 | K77: =TRUNC(E77+G77+I77, 0) -> 0 | L77: =TRUNC(F77+H77+J77, 0) -> 0 | M77: 호표 13 | N77: 5DD574A6E05D83D9648E77CB4ED42E | Q77: 01010104 | R77: T | S77: F | T77: F | AU77: 010101045DD574A6E05D83D9648E77CB4ED42E | AV77: 631
A99: [ 합 계 ] | F99: =SUMIF(AR77:AR98,"",F77:F98) -> 0 | H99: =SUMIF(AR77:AR98,"",H77:H98) -> 0 | J99: =SUMIF(AR77:AR98,"",J77:J98) -> 0 | L99: =SUMIF(AR77:AR98,"",L77:L98) -> 0 | N99: TOTAL
A100: 01010105 지피 | Q100: 01010105
A101: 모닝라이트 | B101: 8CM | C101: 본 | D101: 1924 | E101: 0 | F101: =TRUNC(E101*D101, 0) -> 0 | G101: 0 | H101: =TRUNC(G101*D101, 0) -> 0 | I101: 0 | J101: =TRUNC(I101*D101, 0) -> 0 | K101: =TRUNC(E101+G101+I101, 0) -> 0 | L101: =TRUNC(F101+H101+J101, 0) -> 0 | M101: 호표 14 | N101: 5DD574A6E05D83D9648E77CB4ED42A | Q101: 01010105 | R101: T | S101: F | T101: F | AU101: 010101055DD574A6E05D83D9648E77CB4ED42A | AV101: 632
A102: 그린라이트 | B102: 8CM | C102: 본 | D102: 3082 | E102: 0 | F102: =TRUNC(E102*D102, 0) -> 0 | G102: 0 | H102: =TRUNC(G102*D102, 0) -> 0 | I102: 0 | J102: =TRUNC(I102*D102, 0) -> 0 | K102: =TRUNC(E102+G102+I102, 0) -> 0 | L102: =TRUNC(F102+H102+J102, 0) -> 0 | M102: 호표 15 | N102: 5DD574A6E05D83D9648E77CB4ED428 | Q102: 01010105 | R102: T | S102: F | T102: F | AU102: 010101055DD574A6E05D83D9648E77CB4ED428 | AV102: 633
A103: 사사 | B103: 10CM | C103: 본 | D103: 1645 | E103: 0 | F103: =TRUNC(E103*D103, 0) -> 0 | G103: 0 | H103: =TRUNC(G103*D103, 0) -> 0 | I103: 0 | J103: =TRUNC(I103*D103, 0) -> 0 | K103: =TRUNC(E103+G103+I103, 0) -> 0 | L103: =TRUNC(F103+H103+J103, 0) -> 0 | M103: 호표 16 | N103: 5DD574A6E05D83D9648E77CB4ED426 | Q103: 01010105 | R103: T | S103: F | T103: F | AU103: 010101055DD574A6E05D83D9648E77CB4ED426 | AV103: 634
A104: 맥문동 | B104: 8CM | C104: 본 | D104: 1744 | E104: 0 | F104: =TRUNC(E104*D104, 0) -> 0 | G104: 0 | H104: =TRUNC(G104*D104, 0) -> 0 | I104: 0 | J104: =TRUNC(I104*D104, 0) -> 0 | K104: =TRUNC(E104+G104+I104, 0) -> 0 | L104: =TRUNC(F104+H104+J104, 0) -> 0 | M104: 호표 17 | N104: 5DD574A6E05D83D9648E77CB4ED535 | Q104: 01010105 | R104: T | S104: F | T104: F | AU104: 010101055DD574A6E05D83D9648E77CB4ED535 | AV104: 635
A105: 대나무(이식) | B105: H4.0*R4, 교내이식 | C105: 주 | D105: 120 | E105: 0 | F105: =TRUNC(E105*D105, 0) -> 0 | G105: 0 | H105: =TRUNC(G105*D105, 0) -> 0 | I105: 0 | J105: =TRUNC(I105*D105, 0) -> 0 | K105: =TRUNC(E105+G105+I105, 0) -> 0 | L105: =TRUNC(F105+H105+J105, 0) -> 0 | M105: 호표 19 | N105: 5DD574A6E05D83D9648E77CB4ED536 | Q105: 01010105 | R105: T | S105: F | T105: F | AU105: 010101055DD574A6E05D83D9648E77CB4ED536 | AV105: 761
A106: 잔디 | B106: 평떼 | C106: M2 | D106: 158 | E106: 0 | F106: =TRUNC(E106*D106, 0) -> 0 | G106: 0 | H106: =TRUNC(G106*D106, 0) -> 0 | I106: 0 | J106: =TRUNC(I106*D106, 0) -> 0 | K106: =TRUNC(E106+G106+I106, 0) -> 0 | L106: =TRUNC(F106+H106+J106, 0) -> 0 | M106: 호표 20 | N106: 5DD574A6E05D83D9648E77CB4ED531 | Q106: 01010105 | R106: T | S106: F | T106: F | AU106: 010101055DD574A6E05D83D9648E77CB4ED531 | AV106: 637
A107: 잔디 | B107: 줄떼 | C107: M2 | D107: 179 | E107: 0 | F107: =TRUNC(E107*D107, 0) -> 0 | G107: 0 | H107: =TRUNC(G107*D107, 0) -> 0 | I107: 0 | J107: =TRUNC(I107*D107, 0) -> 0 | K107: =TRUNC(E107+G107+I107, 0) -> 0 | L107: =TRUNC(F107+H107+J107, 0) -> 0 | M107: 호표 21 | N107: 5DD574A6E05D83D9648E77CB4ED532 | Q107: 01010105 | R107: T | S107: F | T107: F | AU107: 010101055DD574A6E05D83D9648E77CB4ED532 | AV107: 444
G108: 0
A123: [ 합 계 ] | F123: =SUMIF(AR101:AR122,"",F101:F122) -> 0 | H123: =SUMIF(AR101:AR122,"",H101:H122) -> 0 | J123: =SUMIF(AR101:AR122,"",J101:J122) -> 0 | L123: =SUMIF(AR101:AR122,"",L101:L122) -> 0 | N123: TOTAL
A124: 010102 식재기반공사 | Q124: 010102
A125: 부직포깔기 | C125: M2 | D125: 1042 | E125: 0 | F125: =TRUNC(E125*D125, 0) -> 0 | G125: 0 | H125: =TRUNC(G125*D125, 0) -> 0 | I125: 0 | J125: =TRUNC(I125*D125, 0) -> 0 | K125: =TRUNC(E125+G125+I125, 0) -> 0 | L125: =TRUNC(F125+H125+J125, 0) -> 0 | M125: 호표 22 | N125: 5DD5F46B805E5709DC36C1E1414E80 | Q125: 010102 | R125: T | S125: F | T125: F | AU125: 0101025DD5F46B805E5709DC36C1E1414E80 | AV125: 642
A126: 배수판설치 | B126: 옥상조경, 500*500*30mm | C126: M2 | D126: 1042 | E126: 0 | F126: =TRUNC(E126*D126, 0) -> 0 | G126: 0 | H126: =TRUNC(G126*D126, 0) -> 0 | I126: 0 | J126: =TRUNC(I126*D126, 0) -> 0 | K126: =TRUNC(E126+G126+I126, 0) -> 0 | L126: =TRUNC(F126+H126+J126, 0) -> 0 | M126: 호표 23 | N126: 5DFA84387055EAE9631CC60F42C321 | Q126: 010102 | R126: T | S126: F | T126: F | AU126: 0101025DFA84387055EAE9631CC60F42C321 | AV126: 643
A127: 인공토(혼합토) | B127: 인공:마사토=1:1 | C127: M3 | D127: 297 | E127: 0 | F127: =TRUNC(E127*D127, 0) -> 0 | G127: 0 | H127: =TRUNC(G127*D127, 0) -> 0 | I127: 0 | J127: =TRUNC(I127*D127, 0) -> 0 | K127: =TRUNC(E127+G127+I127, 0) -> 0 | L127: =TRUNC(F127+H127+J127, 0) -> 0 | M127: 호표 24 | N127: 5DD5F46B805E5709DC36C1E1414021 | Q127: 010102 | R127: T | S127: F | T127: F | AU127: 0101025DD5F46B805E5709DC36C1E1414021 | AV127: 422
A128: 방근시트깔기 | C128: M2 | D128: 496 | E128: 0 | F128: =TRUNC(E128*D128, 0) -> 0 | G128: 0 | H128: =TRUNC(G128*D128, 0) -> 0 | I128: 0 | J128: =TRUNC(I128*D128, 0) -> 0 | K128: =TRUNC(E128+G128+I128, 0) -> 0 | L128: =TRUNC(F128+H128+J128, 0) -> 0 | M128: 호표 25 | N128: 5DD5F46B805E5709DC36C1E140A294 | Q128: 010102 | R128: T | S128: F | T128: F | AU128: 0101025DD5F46B805E5709DC36C1E140A294 | AV128: 423
G129: 0
A147: [ 합 계 ] | F147: =SUMIF(AR125:AR146,"",F125:F146) -> 0 | H147: =SUMIF(AR125:AR146,"",H125:H146) -> 0 | J147: 0 | L147: =SUMIF(AR125:AR146,"",L125:L146) -> 0 | N147: TOTAL
A148: 010103 시설물공사 | Q148: 010103
A149: 석재플랜터 | B149: H500~700 | C149: M | D149: 66 | E149: 0 | F149: =TRUNC(E149*D149, 0) -> 0 | G149: 0 | H149: =TRUNC(G149*D149, 0) -> 0 | I149: 0 | J149: =TRUNC(I149*D149, 0) -> 0 | K149: =TRUNC(E149+G149+I149, 0) -> 0 | L149: =TRUNC(F149+H149+J149, 0) -> 0 | M149: 호표 26 | N149: 5DD5F46B805E5709DC36C1E1414BCC | Q149: 010103 | R149: T | S149: F | T149: F | AU149: 0101035DD5F46B805E5709DC36C1E1414BCC | AV149: 639
A150: 석재벤치 | B150: 600*600*450 | C150: 개소 | D150: 6 | E150: 0 | F150: =TRUNC(E150*D150, 0) -> 0 | G150: 0 | H150: =TRUNC(G150*D150, 0) -> 0 | I150: 0 | J150: =TRUNC(I150*D150, 0) -> 0 | K150: =TRUNC(E150+G150+I150, 0) -> 0 | L150: =TRUNC(F150+H150+J150, 0) -> 0 | M150: 호표 27 | N150: 5DD5F46B805E5709DC36C1E1414FA7 | Q150: 010103 | R150: T | S150: F | T150: F | AU150: 0101035DD5F46B805E5709DC36C1E1414FA7 | AV150: 641
A151: 우수관 | B151: D150 PE이중벽관 | C151: M | D151: 16 | E151: 0 | F151: =TRUNC(E151*D151, 0) -> 0 | G151: 0 | H151: =TRUNC(G151*D151, 0) -> 0 | I151: 0 | J151: =TRUNC(I151*D151, 0) -> 0 | K151: =TRUNC(E151+G151+I151, 0) -> 0 | L151: =TRUNC(F151+H151+J151, 0) -> 0 | M151: 호표 28 | N151: 5DD5F46B805E5709DC36C1E1414CD0 | Q151: 010103 | R151: T | S151: F | T151: F | AU151: 0101035DD5F46B805E5709DC36C1E1414CD0 | AV151: 418
A152: 빗물받이 | B152: 600*600 | C152: 개소 | D152: 2 | E152: 0 | F152: =TRUNC(E152*D152, 0) -> 0 | G152: 0 | H152: =TRUNC(G152*D152, 0) -> 0 | I152: 0 | J152: =TRUNC(I152*D152, 0) -> 0 | K152: =TRUNC(E152+G152+I152, 0) -> 0 | L152: =TRUNC(F152+H152+J152, 0) -> 0 | M152: 호표 29 | N152: 5DD5F46B805E5709DC36C1E1414CD2 | Q152: 010103 | R152: T | S152: F | T152: F | AU152: 0101035DD5F46B805E5709DC36C1E1414CD2 | AV152: 640
A171: [ 합 계 ] | F171: =SUMIF(AR149:AR170,"",F149:F170) -> 0 | H171: =SUMIF(AR149:AR170,"",H149:H170) -> 0 | J171: =SUMIF(AR149:AR170,"",J149:J170) -> 0 | L171: =SUMIF(AR149:AR170,"",L149:L170) -> 0 | N171: TOTAL
A172: 010104 포장공사 | Q172: 010104
A173: 점토보도벽돌깔기 | B173: 슈퍼칼라보도 SH5003, 230*114*55 T145모래포설 | C173: M2 | D173: 403 | E173: 0 | F173: =TRUNC(E173*D173, 0) -> 0 | G173: 0 | H173: =TRUNC(G173*D173, 0) -> 0 | I173: 0 | J173: =TRUNC(I173*D173, 0) -> 0 | K173: =TRUNC(E173+G173+I173, 0) -> 0 | L173: =TRUNC(F173+H173+J173, 0) -> 0 | M173: 호표 30 | N173: 5DD5F46B805E5709DC36C1E1414877 | Q173: 010104 | R173: T | S173: F | T173: F | AU173: 0101045DD5F46B805E5709DC36C1E1414877 | AV173: 638
A174: 자갈트렌치 | B174: W:310, 크램프망/쇄석 | C174: M | D174: 195 | E174: 0 | F174: =TRUNC(E174*D174, 0) -> 0 | G174: 0 | H174: =TRUNC(G174*D174, 0) -> 0 | I174: 0 | J174: =TRUNC(I174*D174, 0) -> 0 | K174: =TRUNC(E174+G174+I174, 0) -> 0 | L174: =TRUNC(F174+H174+J174, 0) -> 0 | M174: 호표 31 | N174: 5DD5F46B805E5709DC36C1E1414DF8 | Q174: 010104 | R174: T | S174: F | T174: F | AU174: 0101045DD5F46B805E5709DC36C1E1414DF8 | AV174: 416
A175: 자갈트렌치 구조물 | B175: U형, W:450, H:430, T:100 | C175: M | D175: 195 | E175: 0 | F175: =TRUNC(E175*D175, 0) -> 0 | G175: 0 | H175: =TRUNC(G175*D175, 0) -> 0 | I175: 0 | J175: =TRUNC(I175*D175, 0) -> 0 | K175: =TRUNC(E175+G175+I175, 0) -> 0 | L175: =TRUNC(F175+H175+J175, 0) -> 0 | M175: 호표 32 | N175: 5DD5F46B805E5709DC36C1E1414DF9 | Q175: 010104 | R175: T | S175: F | T175: F | AU175: 0101045DD5F46B805E5709DC36C1E1414DF9 | AV175: 752
A176: 스틸엣지 | B176: H:80 | C176: M | D176: 390 | E176: 0 | F176: =TRUNC(E176*D176, 0) -> 0 | G176: 0 | H176: =TRUNC(G176*D176, 0) -> 0 | I176: 0 | J176: =TRUNC(I176*D176, 0) -> 0 | K176: =TRUNC(E176+G176+I176, 0) -> 0 | L176: =TRUNC(F176+H176+J176, 0) -> 0 | M176: 호표 33 | N176: 5DFAF48C705ED5B968E05B6C44C3C3 | Q176: 010104 | R176: T | S176: F | T176: F | AU176: 0101045DFAF48C705ED5B968E05B6C44C3C3 | AV176: 751
A195: [ 합 계 ] | F195: =SUMIF(AR173:AR194,"",F173:F194) -> 0 | H195: =SUMIF(AR173:AR194,"",H173:H194) -> 0 | J195: =SUMIF(AR173:AR194,"",J173:J194) -> 0 | L195: =SUMIF(AR173:AR194,"",L173:L194) -> 0 | N195: TOTAL

Sheet Sheet1
