Workbook
Name _: "="
Name ___________q45: {"'용역비'!$A$4:$C$8"}
Name ___________q45: {"'용역비'!$A$4:$C$8"}
Name _________q45: {"'용역비'!$A$4:$C$8"}
Name _________q45: {"'용역비'!$A$4:$C$8"}
Name _______q45: {"'용역비'!$A$4:$C$8"}
Name _______q45: {"'용역비'!$A$4:$C$8"}
Name ______q45: {"'용역비'!$A$4:$C$8"}
Name ______q45: {"'용역비'!$A$4:$C$8"}
Name _____q45: {"'용역비'!$A$4:$C$8"}
Name _____q45: {"'용역비'!$A$4:$C$8"}
Name ____q45: {"'용역비'!$A$4:$C$8"}
Name ____q45: {"'용역비'!$A$4:$C$8"}
Name ___q45: {"'용역비'!$A$4:$C$8"}
Name ___q45: {"'용역비'!$A$4:$C$8"}
Name __DemandLoad: TRUE
Name __IntlFixup: TRUE
Name __q45: {"'용역비'!$A$4:$C$8"}
Name __q45: {"'용역비'!$A$4:$C$8"}
Name _1월: #REF!
Name _1월: #REF!
Name _2._날_개_벽: #REF!
Name _2._날_개_벽: #REF!
Name _2월: #REF!
Name _2월: #REF!
Name _3월: #REF!
Name _3월: #REF!
Name _4월: #REF!
Name _4월: #REF!
Name _50억이상: [1]단위수량!#REF!
Name _50억이상: [1]단위수량!#REF!
Name _5억원미만: [1]단위수량!#REF!
Name _5억원미만: [1]단위수량!#REF!
Name _5억이상_50억원미만: [1]단위수량!#REF!
Name _5억이상_50억원미만: [1]단위수량!#REF!
Name _5월: #REF!
Name _5월: #REF!
Name _6월: #REF!
Name _6월: #REF!
Name _CDT2: #REF!
Name _CDT2: #REF!
Name _Order1: 255
Name _Order2: 255
Name _q45: {"'용역비'!$A$4:$C$8"}
Name _q45: {"'용역비'!$A$4:$C$8"}
Name _Regression_Int: 1
Name _tt1: "tt1"
Name \0: #N/A
Name \a: #N/A
Name \b: #N/A
Name \c: #N/A
Name \d: #N/A
Name \e: #N/A
Name \m: #N/A
Name \p: #N/A
Name \s: #N/A
Name \z: #N/A
Name a: [0]!집
Name aaa.: #REF!
Name aaa.: #REF!

Sheet 총괄집계표(통합) (2)
F23: =F7+F15 -> 0
F24: ='원가-건축(+조경.토목.기계)'!I35 -> 0
F25: =F23-F24 -> 0

Sheet 원가-건축(+조경.토목.기계)
A1: 공 사 원 가 계 산 서
A2: 공 사 명 : | D2: ='직접공사비-건축(+조경.토목.기계)'!B2 -> 벽오고문헌관(가칭) 신축공사 - 건축(+조경.토목.기계) | N2: (단위:원)
A3: 구 분 | E3: 건 축 | F3: 조 경 | G3: 토 목 | H3: 기 계 설 비 | I3: 합 계 | J3: 구 성 비 | N3: 비 고
B4: 1. 순 공 사 원 가 | E4: =E5+E7+E10 -> 0 | F4: =F5+F7+F10 -> 0 | G4: =G5+G7+G10 -> 0 | H4: =H5+H7+H10 -> 0 | I4: =SUM(E4:H4) -> 0
C5: 가. 재 료 비 | E5: =E6 -> 0 | F5: =F6 -> 0 | G5: =G6 -> 0 | H5: =H6 -> 0 | I5: =SUM(E5:H5) -> 0
C6: 가-1. 직접재료비 | E6: ='직접공사비-건축(+조경.토목.기계)'!C5 -> 0 | F6: ='직접공사비-건축(+조경.토목.기계)'!C11 -> 0 | G6: ='직접공사비-건축(+조경.토목.기계)'!C13 -> 0 | H6: ='직접공사비-건축(+조경.토목.기계)'!C16 -> 0 | I6: =SUM(E6:H6) -> 0
C7: 나. 노 무 비 | E7: =SUM(E8:E9) -> 0 | F7: =SUM(F8:F9) -> 0 | G7: =SUM(G8:G9) -> 0 | H7: =SUM(H8:H9) -> 0 | I7: =SUM(E7:H7) -> 0
C8: 나-1. 직접노무비 | E8: ='직접공사비-건축(+조경.토목.기계)'!D5 -> 0 | F8: ='직접공사비-건축(+조경.토목.기계)'!D11 -> 0 | G8: ='직접공사비-건축(+조경.토목.기계)'!D13 -> 0 | H8: ='직접공사비-건축(+조경.토목.기계)'!D16 -> 0 | I8: =SUM(E8:H8) -> 0
C9: 나-2. 간접노무비 | E9: =TRUNC(E8*$M$9) -> 0 | F9: =TRUNC(F8*$M$9) -> 0 | G9: =TRUNC(G8*$M$9) -> 0 | H9: =TRUNC(H8*$M$9) -> 0 | I9: =SUM(E9:H9) -> 0 | J9: [나1] 의 | M9: 0.06 | O9: (가+나-1+다-1)금액
C10: 다. 경 비 | E10: =SUM(E11:E25) -> 0 | F10: =SUM(F11:F25) -> 0 | G10: =SUM(G11:G25) -> 0 | H10: =SUM(H11:H25) -> 0 | I10: =SUM(E10:H10) -> 0
C11: 다-1. 산출경비 | E11: ='직접공사비-건축(+조경.토목.기계)'!E5 -> 0 | F11: ='직접공사비-건축(+조경.토목.기계)'!E11 -> 0 | G11: ='직접공사비-건축(+조경.토목.기계)'!E13 -> 0 | H11: ='직접공사비-건축(+조경.토목.기계)'!E16 -> 0 | I11: =SUM(E11:H11) -> 0
C12: 다-2. 산재보험료 | E12: =TRUNC(E7*$M$12) -> 0 | F12: =TRUNC(F7*$M$12) -> 0 | G12: =TRUNC(G7*$M$12) -> 0 | H12: =TRUNC(H7*$M$12) -> 0 | I12: =SUM(E12:H12) -> 0 | J12: [나]의 | M12: 0.0356
C13: 다-3. 고용보험료 | E13: =TRUNC(E7*$M$13) -> 0 | F13: =TRUNC(F7*$M$13) -> 0 | G13: =TRUNC(G7*$M$13) -> 0 | H13: =TRUNC(H7*$M$13) -> 0 | I13: =SUM(E13:H13) -> 0 | J13: [나]의 | M13: 0.0101
C14: 다-4. 건강보험료 | E14: =TRUNC(E8*$M$14) -> 0 | F14: =TRUNC(F8*$M$14) -> 0 | G14: =TRUNC(G8*$M$14) -> 0 | H14: =TRUNC(H8*$M$14) -> 0 | I14: =SUM(E14:H14) -> 0 | J14: [나1]의 | M14: 0.03545
C15: 다-5. 노인장기요양보험 | E15: =TRUNC(E14*$M$15) -> 0 | F15: =TRUNC(F14*$M$15) -> 0 | G15: =TRUNC(G14*$M$15) -> 0 | H15: =TRUNC(H14*$M$15) -> 0 | I15: =SUM(E15:H15) -> 0 | J15: [다4]의 | M15: 0.1295
C16: 다-6. 연금보험료 | E16: =TRUNC(E8*$M$16) -> 0 | F16: =TRUNC(F8*$M$16) -> 0 | G16: =TRUNC(G8*$M$16) -> 0 | H16: =TRUNC(H8*$M$16) -> 0 | I16: =SUM(E16:H16) -> 0 | J16: [나1]의 | M16: 0.045
C17: 다-7. 퇴직공제부금 | E17: =TRUNC(E8*$M$17) -> 0 | F17: =TRUNC(F8*$M$17) -> 0 | G17: =TRUNC(G8*$M$17) -> 0 | H17: =TRUNC(H8*$M$17) -> 0 | I17: =SUM(E17:H17) -> 0 | J17: [나1]의 | M17: 0.023 | O17: 추정가격50억원
C18: 다-8. 산업안전보건관리비 | E18: =TRUNC((E5+E8)*$M$18) -> 0 | F18: =TRUNC((F5+F8)*$M$18) -> 0 | G18: =TRUNC((G5+G8)*$M$18) -> 0 | H18: =TRUNC((H5+H8)*$M$18) -> 0 | I18: =SUM(E18:H18) -> 0 | J18: [가+나1]의 | M18: 0.0237 | O18: 산업안전보건법
C19: 다-9. 기타경비 | E19: =TRUNC((E5+E7)*$M$19) -> 0 | F19: =TRUNC((F5+F7)*$M$19) -> 0 | G19: =TRUNC((G5+G7)*$M$19) -> 0 | H19: =TRUNC((H5+H7)*$M$19) -> 0 | I19: =SUM(E19:H19) -> 0 | J19: [가+나]의 | M19: 0.03 | O19: (가+나-1+다-1)금액
C20: 다-10. 공사이행보증수수료 | E20: 0 | F20: 0 | G20: 0 | H20: 0 | I20: =SUM(E20:H20) -> 0 | J20: (([가+나-1+다-1]의)×0.02%)×년수공기(년) | O20: 발주청
C21: 다-11. 하도급대금지금 보증수수료 | E21: =TRUNC((E5+E8+E11)*$M$21) -> 0 | F21: =TRUNC((F5+F8+F11)*$M$21) -> 0 | G21: =TRUNC((G5+G8+G11)*$M$21) -> 0 | H21: =TRUNC((H5+H8+H11)*$M$21) -> 0 | I21: =SUM(E21:H21) -> 0 | J21: [가+나1+다1]의 | M21: 0.0008 | O21: 추정가격 50억~100억
C22: 다-12. 건설기계대여대금 지급보증서 발급금액 | E22: =TRUNC((E5+E8+E11)*$M$22) -> 0 | F22: =TRUNC((F5+F8+F11)*$M$22) -> 0 | G22: =TRUNC((G5+G8+G11)*$M$22) -> 0 | H22: =TRUNC((H5+H8+H11)*$M$22) -> 0 | I22: =SUM(E22:H22) -> 0 | J22: [가+나1+다1]의 | M22: 0.0007
C23: 다-13. 환경보전비 | E23: =TRUNC((E5+E8+E11)*$M$23) -> 0 | F23: =TRUNC((F5+F8+F11)*$M$23) -> 0 | G23: =TRUNC((G5+G8+G11)*$M$23) -> 0 | H23: =TRUNC((H5+H8+H11)*$M$23) -> 0 | I23: =SUM(E23:H23) -> 0 | J23: [가+나1+다1]의 | M23: 0.005
C24: 다-14. 안전관리비 | E24: ='직접공사비-건축(+조경.토목.기계)'!E8 -> 0 | I24: =SUM(E24:H24) -> 0 | J24: 직접산출 | O24: 건설기술진흥법
C25: 다-15. 품질시험비 | E25: ='직접공사비-건축(+조경.토목.기계)'!E9 -> 0 | I25: =SUM(E25:H25) -> 0 | J25: 직접산출
A26: 2. 일 반 관 리 비 | E26: =TRUNC((E4)*$M$26) -> 0 | F26: =TRUNC((F4)*$M$26) -> 0 | G26: =TRUNC((G4)*$M$26) -> 0 | H26: =TRUNC((H4)*$M$26) -> 0 | I26: =SUM(E26:H26) -> 0 | J26: [1]의 | M26: 0.03 | O26: 추정가격
A27: 3. 이 윤 | E27: =TRUNC((E7+E10+E26)*$M$27) -> 0 | F27: =TRUNC((F7+F10+F26)*$M$27) -> 0 | G27: =TRUNC((G7+G10+G26)*$M$27) -> 0 | H27: =TRUNC((H7+H10+H26)*$M$27) -> 0 | I27: =SUM(E27:H27) -> 0 | J27: [1나+1다+2]의 | M27: 0.1 | O27: 추정가격
A28: 4. 주 요 자 재 비 | E28: ='직접공사비-건축(+조경.토목.기계)'!C6 -> 0 | I28: =SUM(E28:H28) -> 0 | N28: 승강기설치
A29: 5. 폐기물 처리비 | E29: =ROUNDDOWN('직접공사비-건축(+조경.토목.기계)'!E7,0) -> 0 | G29: ='직접공사비-건축(+조경.토목.기계)'!E14 -> 0 | I29: =SUM(E29:H29) -> 0
A30: 6. T.A.B 공사 | H30: ='직접공사비-건축(+조경.토목.기계)'!D17 -> 0 | I30: =SUM(E30:H30) -> 0
A31: 7. 총 원 가 | E31: =SUM(E4,E26:E30) -> 0 | F31: =SUM(F4,F26:F30) -> 0 | G31: =SUM(G4,G26:G30) -> 0 | H31: =SUM(H4,H26:H30) -> 0 | I31: =SUM(E31:H31) -> 0 | J31: [1+2+3+4+5+6]
A32: 8. 부 가 가 치 세 | E32: =TRUNC(E31*$M$32) -> 0 | F32: =TRUNC(F31*$M$32) -> 0 | G32: =TRUNC(G31*$M$32) -> 0 | H32: =TRUNC(H31*$M$32) -> 0 | I32: =SUM(E32:H32) -> 0 | J32: [7]의 | M32: 0.1
A33: 9. 도 급 금 액 | E33: =E31+E32 -> 0 | F33: =F31+F32 -> 0 | G33: =G31+G32 -> 0 | H33: =H31+H32 -> 0 | I33: =SUM(E33:H33) -> 0 | J33: [7+8]
A34: 10. 분 담 금 | E34: ='직접공사비-건축(+조경.토목.기계)'!E18 -> 0 | I34: =SUM(E34:H34) -> 0 | N34: 하수부담금
A35: 총 공 사 비 | E35: =SUM(E33:E34) -> 0 | F35: =SUM(F33:F34) -> 0 | G35: =SUM(G33:G34) -> 0 | H35: =SUM(H33:H34) -> 0 | I35: =SUM(E35:H35) -> 0
C36: 직접공사비 소계 | E36: =E6+E8+E11+E28+E24+E25+E29+E30 -> 0 | F36: =F6+F8+F11+F28+F24+F25+F29+F30 -> 0 | G36: =G6+G8+G11+G28+G24+G25+G29+G30 -> 0 | H36: =H6+H8+H11+H28+H24+H25+H29+H30 -> 0 | I36: =I6+I8+I11+I28+I24+I25+I29+I30+I34 -> 0
C37: 직접공사비총괄표 | E37: ='직접공사비-건축(+조경.토목.기계)'!F4 -> 0 | F37: ='직접공사비-건축(+조경.토목.기계)'!F10 -> 0 | G37: ='직접공사비-건축(+조경.토목.기계)'!F12 -> 0 | H37: ='직접공사비-건축(+조경.토목.기계)'!F15 -> 0 | I37: ='직접공사비-건축(+조경.토목.기계)'!F25 -> 0
C38: 차액 | E38: =E37-E36 -> 0 | F38: =F37-F36 -> 0 | G38: =G37-G36 -> 0 | H38: =H37-H36 -> 0 | I38: =I37-I36 -> 0

Sheet 직접공사비-건축(+조경.토목.기계)
A1: 직 접 공 사 비 총 괄 표
A2: 공 사 명 : | B2: 벽오고문헌관(가칭) 신축공사 - 건축(+조경.토목.기계) | G2: (단위: 원)
A3: 구분 | B3: 분 야 | C3: 재 료 비 | D3: 노 무 비 | E3: 경 비 | F3: 소 계 | G3: 비 고
A4: 1 | B4: 건축공사 | C4: =SUM(C5:C9) -> 0 | D4: =SUM(D5:D9) -> 0 | E4: =SUM(E5:E9) -> 0 | F4: =SUM(C4:E4) -> 0
A5: 1-1 | B5: 직접공사비 | C5: ='집계표 (건축)'!F6 -> 0 | D5: ='집계표 (건축)'!H6 -> 0 | E5: ='집계표 (건축)'!J6 -> 0 | F5: =SUM(C5:E5) -> 0
A6: 1-2 | B6: 주요자재비 | C6: ='집계표 (건축)'!L7 -> 0 | G6: 승강기설치
A7: 1-3 | B7: 폐기물처리비 | E7: ='집계표 (건축)'!L8 -> 0 | G7: VAT별도
A8: 1-4 | B8: 안전관리비 | E8: ='집계표 (건축)'!L9 -> 0
A9: 1-5 | B9: 품질시험비 | E9: ='집계표 (건축)'!L10 -> 0
A10: 2 | B10: 조경공사 | C10: =SUM(C11:C11) -> 0 | D10: =SUM(D11:D11) -> 0 | E10: =SUM(E11:E11) -> 0 | F10: =SUM(C10:E10) -> 0
A11: 2-1 | B11: 직접공사비 | C11: 0 | D11: 0 | E11: 0 | F11: =SUM(C11:E11) -> 0
A12: 3 | B12: 토목공사 | C12: =SUM(C13:C14) -> 0 | D12: =SUM(D13:D14) -> 0 | E12: =SUM(E13:E14) -> 0 | F12: =SUM(C12:E12) -> 0
A13: 3-1 | B13: 직접공사비 | C13: 0 | D13: 0 | E13: 0 | F13: =SUM(C13:E13) -> 0
A14: 3-2 | B14: 폐기물처리비 | E14: 0 | G14: VAT별도
A15: 4 | B15: 기계설비공사 | C15: =SUM(C16:C17) -> 0 | D15: =SUM(D16:D17) -> 0 | E15: =SUM(E16:E17) -> 0 | F15: =SUM(C15:E15) -> 0
A16: 4-1 | B16: 직접공사비 | C16: 0 | D16: 0 | E16: 0 | F16: =SUM(C16:E16) -> 0 | H16: 1
A17: 4-2 | B17: T.A.B 공사 | D17: 0
A18: 5 | B18: 부대비용 | E18: 0 | F18: =SUM(C18:E18) -> 0 | G18: 하수원인자부담금
A25: 합 계 금 액 | C25: =C4+C10+C12+C18+C21+C15+C23 -> 0 | D25: =D4+D10+D12+D18+D21+D15+D23 -> 0 | E25: =E4+E10+E12+E18+E21+E15+E23 -> 0 | F25: =SUM(C25:E25) -> 0 | G25: =SUM(G4:G24) -> 0
F26: =F4+F10+F12+F15+F18+F21+F23 -> 0

Sheet 집계표 (건축)
A1: 공 종 별 집 계 표
A2: [ 벽오고문헌관 신축공사 ]
A3: 품 명 | B3: 규 격 | C3: 단위 | D3: 수량 | E3: 재 료 비 | G3: 노 무 비 | I3: 경 비 | K3: 합 계 | M3: 비 고 | N3: 공종코드 | O3: 변수 | P3: 상위공종 | Q3: 공종구분 | R3: 공종레벨 | S3: 공종소계 | T3: 원가계산서 연결금액
E4: 단 가 | F4: 금 액 | G4: 단 가 | H4: 금 액 | I4: 단 가 | J4: 금 액 | K4: 단 가 | L4: 금 액
A5: 01 벽오고문헌관 신축공사 | D5: 1 | E5: =F6+F7+F8+F9+F10 -> 0 | F5: =E5*D5 -> 0 | G5: =H6+H7+H8+H9+H10 -> 0 | H5: =G5*D5 -> 0 | I5: =J6+J7+J8+J9+J10 -> 0 | J5: =I5*D5 -> 0 | K5: =E5+G5+I5 -> 0 | L5: =F5+H5+J5 -> 0 | N5: 01 | R5: 1
A6: 0101 01.건축 | D6: 1 | E6: ='공종별집계표(건축)'!F6 -> 0 | F6: =E6*D6 -> 0 | G6: ='공종별집계표(건축)'!H6 -> 0 | H6: =G6*D6 -> 0 | I6: ='공종별집계표(건축)'!J6 -> 0 | J6: =I6*D6 -> 0 | K6: =E6+G6+I6 -> 0 | L6: =F6+H6+J6 -> 0 | N6: 0101 | P6: 01 | R6: 2
A7: ='공종별집계표(건축)'!A33 -> 0102 02.주요자재비 | D7: 1 | E7: ='공종별집계표(건축)'!E33 -> 0 | F7: =E7*D7 -> 0 | G7: ='공종별집계표(건축)'!G33 -> 0 | H7: =G7*D7 -> 0 | I7: ='공종별집계표(건축)'!I33 -> 0 | J7: =I7*D7 -> 0 | K7: =E7+G7+I7 -> 0 | L7: =F7+H7+J7 -> 0
A8: ='공종별집계표(건축)'!A34 -> 0103 03.폐기물처리비 | D8: 1 | E8: ='공종별집계표(건축)'!E34 -> 0 | F8: =E8*D8 -> 0 | G8: ='공종별집계표(건축)'!G34 -> 0 | H8: =G8*D8 -> 0 | I8: ='공종별집계표(건축)'!I34 -> 0 | J8: =I8*D8 -> 0 | K8: =E8+G8+I8 -> 0 | L8: =F8+H8+J8 -> 0
A9: ='공종별집계표(건축)'!A35 -> 0104 04.안전관리비 | D9: 1 | E9: ='공종별집계표(건축)'!E35 -> 0 | F9: =E9*D9 -> 0 | G9: ='공종별집계표(건축)'!G35 -> 0 | H9: =G9*D9 -> 0 | I9: ='공종별집계표(건축)'!I35 -> 0 | J9: =I9*D9 -> 0 | K9: =E9+G9+I9 -> 0 | L9: =F9+H9+J9 -> 0
A10: ='공종별집계표(건축)'!A36 -> 0105 05.품질시험비 | D10: 1 | E10: ='공종별집계표(건축)'!E36 -> 0 | F10: =E10*D10 -> 0 | G10: ='공종별집계표(건축)'!G36 -> 0 | H10: =G10*D10 -> 0 | I10: ='공종별집계표(건축)'!I36 -> 0 | J10: =I10*D10 -> 0 | K10: =E10+G10+I10 -> 0 | L10: =F10+H10+J10 -> 0
A27: [ 합 계 ] | F27: =F5 -> 0 | H27: =H5 -> 0 | J27: =J5 -> 0 | L27: =L5 -> 0

Sheet 공종별집계표(건축)
A1: 공 종 별 집 계 표
A2: [ 벽오고문헌관 신축공사 ]
A3: 품 명 | B3: 규 격 | C3: 단위 | D3: 수량 | E3: 재 료 비 | G3: 노 무 비 | I3: 경 비 | K3: 합 계 | M3: 비 고 | N3: 공종코드 | O3: 변수 | P3: 상위공종 | Q3: 공종구분 | R3: 공종레벨 | S3: 공종소계 | T3: 원가계산서 연결금액
E4: 단 가 | F4: 금 액 | G4: 단 가 | H4: 금 액 | I4: 단 가 | J4: 금 액 | K4: 단 가 | L4: 금 액
A5: 01 벽오고문헌관 신축공사 | D5: 1 | E5: =F6+F33+F34+F35+F36 -> 0 | F5: =E5*D5 -> 0 | G5: =H6+H33+H34+H35+H36 -> 0 | H5: =G5*D5 -> 0 | I5: =J6+J33+J34+J35+J36 -> 0 | J5: =I5*D5 -> 0 | K5: =E5+G5+I5 -> 0 | L5: =F5+H5+J5 -> 0 | N5: 01 | R5: 1
A6: 0101 01.건축 | D6: 1 | E6: =F7+F8+F9+F10+F11+F12+F13+F14+F15+F16+F21+F22+F23+F24+F25+F26+F27+F28+F29+F30+F31+F32 -> 0 | F6: =E6*D6 -> 0 | G6: =H7+H8+H9+H10+H11+H12+H13+H14+H15+H16+H21+H22+H23+H24+H25+H26+H27+H28+H29+H30+H31+H32 -> 0 | H6: =G6*D6 -> 0 | I6: =J7+J8+J9+J10+J11+J12+J13+J14+J15+J16+J21+J22+J23+J24+J25+J26+J27+J28+J29+J30+J31+J32 -> 0 | J6: =I6*D6 -> 0 | K6: =E6+G6+I6 -> 0 | L6: =F6+H6+J6 -> 0 | N6: 0101 | P6: 01 | R6: 2
A7: 010101 공통 가설 공사 | D7: 1 | E7: ='내역서(건축)'!F27 -> 0 | F7: =E7*D7 -> 0 | G7: ='내역서(건축)'!H27 -> 0 | H7: =G7*D7 -> 0 | I7: ='내역서(건축)'!J27 -> 0 | J7: =I7*D7 -> 0 | K7: =E7+G7+I7 -> 0 | L7: =F7+H7+J7 -> 0 | N7: 010101 | P7: 0101 | R7: 3
A8: 010102 가 설 공 사 | D8: 1 | E8: ='내역서(건축)'!F51 -> 0 | F8: =E8*D8 -> 0 | G8: ='내역서(건축)'!H51 -> 0 | H8: =G8*D8 -> 0 | I8: ='내역서(건축)'!J51 -> 0 | J8: =I8*D8 -> 0 | K8: =E8+G8+I8 -> 0 | L8: =F8+H8+J8 -> 0 | N8: 010102 | P8: 0101 | R8: 3
A9: 010103 토 및 지정공사 | D9: 1 | E9: ='내역서(건축)'!F75 -> 0 | F9: =E9*D9 -> 0 | G9: ='내역서(건축)'!H75 -> 0 | H9: =G9*D9 -> 0 | I9: ='내역서(건축)'!J75 -> 0 | J9: =I9*D9 -> 0 | K9: =E9+G9+I9 -> 0 | L9: =F9+H9+J9 -> 0 | N9: 010103 | P9: 0101 | R9: 3
A10: 010104 철근콘크리트공사 | D10: 1 | E10: ='내역서(건축)'!F123 -> 0 | F10: =E10*D10 -> 0 | G10: ='내역서(건축)'!H123 -> 0 | H10: =G10*D10 -> 0 | I10: ='내역서(건축)'!J123 -> 0 | J10: =I10*D10 -> 0 | K10: =E10+G10+I10 -> 0 | L10: =F10+H10+J10 -> 0 | N10: 010104 | P10: 0101 | R10: 3
A11: 010105 철 골 공 사 | D11: 1 | E11: ='내역서(건축)'!F171 -> 0 | F11: =E11*D11 -> 0 | G11: ='내역서(건축)'!H171 -> 0 | H11: =G11*D11 -> 0 | I11: ='내역서(건축)'!J171 -> 0 | J11: =I11*D11 -> 0 | K11: =E11+G11+I11 -> 0 | L11: =F11+H11+J11 -> 0 | N11: 010105 | P11: 0101 | R11: 3
A12: 010106 조 적 공 사 | D12: 1 | E12: ='내역서(건축)'!F195 -> 0 | F12: =E12*D12 -> 0 | G12: ='내역서(건축)'!H195 -> 0 | H12: =G12*D12 -> 0 | I12: ='내역서(건축)'!J195 -> 0 | J12: =I12*D12 -> 0 | K12: =E12+G12+I12 -> 0 | L12: =F12+H12+J12 -> 0 | N12: 010106 | P12: 0101 | R12: 3
A13: 010107 돌 공 사 | D13: 1 | E13: ='내역서(건축)'!F243 -> 0 | F13: =E13*D13 -> 0 | G13: ='내역서(건축)'!H243 -> 0 | H13: =G13*D13 -> 0 | I13: ='내역서(건축)'!J243 -> 0 | J13: =I13*D13 -> 0 | K13: =E13+G13+I13 -> 0 | L13: =F13+H13+J13 -> 0 | N13: 010107 | P13: 0101 | R13: 3
A14: 010108 타 일 공 사 | D14: 1 | E14: ='내역서(건축)'!F267 -> 0 | F14: =E14*D14 -> 0 | G14: ='내역서(건축)'!H267 -> 0 | H14: =G14*D14 -> 0 | I14: ='내역서(건축)'!J267 -> 0 | J14: =I14*D14 -> 0 | K14: =E14+G14+I14 -> 0 | L14: =F14+H14+J14 -> 0 | N14: 010108 | P14: 0101 | R14: 3
A15: 010109 수 장 공 사 | D15: 1 | E15: ='내역서(건축)'!F315 -> 0 | F15: =E15*D15 -> 0 | G15: ='내역서(건축)'!H315 -> 0 | H15: =G15*D15 -> 0 | I15: ='내역서(건축)'!J315 -> 0 | J15: =I15*D15 -> 0 | K15: =E15+G15+I15 -> 0 | L15: =F15+H15+J15 -> 0 | N15: 010109 | P15: 0101 | R15: 3
A16: 010110 수 장 고 공 사 | D16: 1 | E16: =F17+F18+F19+F20 -> 0 | F16: =E16*D16 -> 0 | G16: =H17+H18+H19+H20 -> 0 | H16: =G16*D16 -> 0 | I16: =J17+J18+J19+J20 -> 0 | J16: =I16*D16 -> 0 | K16: =E16+G16+I16 -> 0 | L16: =F16+H16+J16 -> 0 | N16: 010110 | P16: 0101 | R16: 3
A17: 01011001 바닥 | D17: 1 | E17: ='내역서(건축)'!F339 -> 0 | F17: =E17*D17 -> 0 | G17: ='내역서(건축)'!H339 -> 0 | H17: =G17*D17 -> 0 | I17: ='내역서(건축)'!J339 -> 0 | J17: =I17*D17 -> 0 | K17: =E17+G17+I17 -> 0 | L17: =F17+H17+J17 -> 0 | N17: 01011001 | P17: 010110 | R17: 4
A18: 01011002 천정 | D18: 1 | E18: ='내역서(건축)'!F363 -> 0 | F18: =E18*D18 -> 0 | G18: ='내역서(건축)'!H363 -> 0 | H18: =G18*D18 -> 0 | I18: ='내역서(건축)'!J363 -> 0 | J18: =I18*D18 -> 0 | K18: =E18+G18+I18 -> 0 | L18: =F18+H18+J18 -> 0 | N18: 01011002 | P18: 010110 | R18: 4
A19: 01011003 벽 | D19: 1 | E19: ='내역서(건축)'!F387 -> 0 | F19: =E19*D19 -> 0 | G19: ='내역서(건축)'!H387 -> 0 | H19: =G19*D19 -> 0 | I19: ='내역서(건축)'!J387 -> 0 | J19: =I19*D19 -> 0 | K19: =E19+G19+I19 -> 0 | L19: =F19+H19+J19 -> 0 | N19: 01011003 | P19: 010110 | R19: 4
A20: 01011004 기타 | D20: 1 | E20: ='내역서(건축)'!F411 -> 0 | F20: =E20*D20 -> 0 | G20: ='내역서(건축)'!H411 -> 0 | H20: =G20*D20 -> 0 | I20: ='내역서(건축)'!J411 -> 0 | J20: =I20*D20 -> 0 | K20: =E20+G20+I20 -> 0 | L20: =F20+H20+J20 -> 0 | N20: 01011004 | P20: 010110 | R20: 4
A21: 010111 방 수 공 사 | D21: 1 | E21: ='내역서(건축)'!F435 -> 0 | F21: =E21*D21 -> 0 | G21: ='내역서(건축)'!H435 -> 0 | H21: =G21*D21 -> 0 | I21: ='내역서(건축)'!J435 -> 0 | J21: =I21*D21 -> 0 | K21: =E21+G21+I21 -> 0 | L21: =F21+H21+J21 -> 0 | N21: 010111 | P21: 0101 | R21: 3
A22: 010112 지붕 및 홈통공사 | D22: 1 | E22: ='내역서(건축)'!F459 -> 0 | F22: =E22*D22 -> 0 | G22: ='내역서(건축)'!H459 -> 0 | H22: =G22*D22 -> 0 | I22: ='내역서(건축)'!J459 -> 0 | J22: =I22*D22 -> 0 | K22: =E22+G22+I22 -> 0 | L22: =F22+H22+J22 -> 0 | N22: 010112 | P22: 0101 | R22: 3
A23: 010113 금 속 공 사 | D23: 1 | E23: ='내역서(건축)'!F507 -> 0 | F23: =E23*D23 -> 0 | G23: ='내역서(건축)'!H507 -> 0 | H23: =G23*D23 -> 0 | I23: ='내역서(건축)'!J507 -> 0 | J23: =I23*D23 -> 0 | K23: =E23+G23+I23 -> 0 | L23: =F23+H23+J23 -> 0 | N23: 010113 | P23: 0101 | R23: 3
A24: 010114 미 장 공 사 | D24: 1 | E24: ='내역서(건축)'!F531 -> 0 | F24: =E24*D24 -> 0 | G24: ='내역서(건축)'!H531 -> 0 | H24: =G24*D24 -> 0 | I24: ='내역서(건축)'!J531 -> 0 | J24: =I24*D24 -> 0 | K24: =E24+G24+I24 -> 0 | L24: =F24+H24+J24 -> 0 | N24: 010114 | P24: 0101 | R24: 3
A25: 010115 창 호 공 사 | D25: 1 | E25: ='내역서(건축)'!F603 -> 0 | F25: =E25*D25 -> 0 | G25: ='내역서(건축)'!H603 -> 0 | H25: =G25*D25 -> 0 | I25: ='내역서(건축)'!J603 -> 0 | J25: =I25*D25 -> 0 | K25: =E25+G25+I25 -> 0 | L25: =F25+H25+J25 -> 0 | N25: 010115 | P25: 0101 | R25: 3
A26: 010116 유 리 공 사 | D26: 1 | E26: ='내역서(건축)'!F627 -> 0 | F26: =E26*D26 -> 0 | G26: ='내역서(건축)'!H627 -> 0 | H26: =G26*D26 -> 0 | I26: ='내역서(건축)'!J627 -> 0 | J26: =I26*D26 -> 0 | K26: =E26+G26+I26 -> 0 | L26: =F26+H26+J26 -> 0 | N26: 010116 | P26: 0101 | R26: 3
A27: 010117 칠 공 사 | D27: 1 | E27: ='내역서(건축)'!F651 -> 0 | F27: =E27*D27 -> 0 | G27: ='내역서(건축)'!H651 -> 0 | H27: =G27*D27 -> 0 | I27: ='내역서(건축)'!J651 -> 0 | J27: =I27*D27 -> 0 | K27: =E27+G27+I27 -> 0 | L27: =F27+H27+J27 -> 0 | N27: 010117 | P27: 0101 | R27: 3
A28: 010118 기 타 공 사 | D28: 1 | E28: ='내역서(건축)'!F699 -> 0 | F28: =E28*D28 -> 0 | G28: ='내역서(건축)'!H699 -> 0 | H28: =G28*D28 -> 0 | I28: ='내역서(건축)'!J699 -> 0 | J28: =I28*D28 -> 0 | K28: =E28+G28+I28 -> 0 | L28: =F28+H28+J28 -> 0 | N28: 010118 | P28: 0101 | R28: 3
A29: 010119 전 시 진 열 장 | D29: 1 | E29: ='내역서(건축)'!F723 -> 0 | F29: =E29*D29 -> 0 | G29: ='내역서(건축)'!H723 -> 0 | H29: =G29*D29 -> 0 | I29: ='내역서(건축)'!J723 -> 0 | J29: =I29*D29 -> 0 | K29: =E29+G29+I29 -> 0 | L29: =F29+H29+J29 -> 0 | N29: 010119 | P29: 0101 | R29: 3
A30: 010120 철 거 공 사 | D30: 1 | E30: ='내역서(건축)'!F747 -> 0 | F30: =E30*D30 -> 0 | G30: ='내역서(건축)'!H747 -> 0 | H30: =G30*D30 -> 0 | I30: ='내역서(건축)'!J747 -> 0 | J30: =I30*D30 -> 0 | K30: =E30+G30+I30 -> 0 | L30: =F30+H30+J30 -> 0 | N30: 010120 | P30: 0101 | R30: 3
A31: 010121 골 재 비 | D31: 1 | E31: ='내역서(건축)'!F771 -> 0 | F31: =E31*D31 -> 0 | G31: ='내역서(건축)'!H771 -> 0 | H31: =G31*D31 -> 0 | I31: ='내역서(건축)'!J771 -> 0 | J31: =I31*D31 -> 0 | K31: =E31+G31+I31 -> 0 | L31: =F31+H31+J31 -> 0 | N31: 010121 | P31: 0101 | R31: 3
A32: 010122 작 업 부 산 물 | D32: 1 | E32: ='내역서(건축)'!F795 -> 0 | F32: =E32*D32 -> 0 | G32: ='내역서(건축)'!H795 -> 0 | H32: =G32*D32 -> 0 | I32: ='내역서(건축)'!J795 -> 0 | J32: =I32*D32 -> 0 | K32: =E32+G32+I32 -> 0 | L32: =F32+H32+J32 -> 0 | N32: 010122 | P32: 0101 | R32: 3
A33: 0102 02.주요자재비 | D33: 1 | E33: ='내역서(건축)'!F819 -> 0 | F33: =E33*D33 -> 0 | G33: ='내역서(건축)'!H819 -> 0 | H33: =G33*D33 -> 0 | I33: ='내역서(건축)'!J819 -> 0 | J33: =I33*D33 -> 0 | K33: =E33+G33+I33 -> 0 | L33: =F33+H33+J33 -> 0 | N33: 0102 | P33: 01 | R33: 2
A34: 0103 03.폐기물처리비 | D34: 1 | E34: ='내역서(건축)'!F843 -> 0 | F34: =E34*D34 -> 0 | G34: ='내역서(건축)'!H843 -> 0 | H34: =G34*D34 -> 0 | I34: ='내역서(건축)'!J843 -> 0 | J34: =I34*D34 -> 0 | K34: =E34+G34+I34 -> 0 | L34: =F34+H34+J34 -> 0 | N34: 0103 | P34: 01 | R34: 2
A35: 0104 04.안전관리비 | D35: 1 | E35: ='내역서(건축)'!F867 -> 0 | F35: =E35*D35 -> 0 | G35: ='내역서(건축)'!H867 -> 0 | H35: =G35*D35 -> 0 | I35: ='내역서(건축)'!J867 -> 0 | J35: =I35*D35 -> 0 | K35: =E35+G35+I35 -> 0 | L35: =F35+H35+J35 -> 0 | N35: 0104 | P35: 01 | R35: 2
A36: 0105 05.품질시험비 | D36: 1 | E36: ='내역서(건축)'!F963 -> 0 | F36: =E36*D36 -> 0 | G36: ='내역서(건축)'!H963 -> 0 | H36: =G36*D36 -> 0 | I36: ='내역서(건축)'!J963 -> 0 | J36: =I36*D36 -> 0 | K36: =E36+G36+I36 -> 0 | L36: =F36+H36+J36 -> 0 | N36: 0105 | P36: 01 | R36: 2
A48: [ 합 계 ] | F48: =F5 -> 0 | H48: =H5 -> 0 | J48: =J5 -> 0 | L48: =L5 -> 0

Sheet 내역서(건축)
A1: [ 벽오고문헌관 신축공사 ]
A2: 품 명 | B2: 규 격 | C2: 단위 | D2: 수량 | E2: 재 료 비 | G2: 노 무 비 | I2: 경 비 | K2: 합 계 | M2: 비 고 | N2: 품목코드 | O2: 변수 | P2: 설정 | Q2: 공종코드 | R2: 일위 | S2: 단산 | T2: 자재 | U2: 손료적용 | V2: 손료저장 | W2: 적용율 | X2: JUK1 | Y2: JUK2 | Z2: JUK3 | AA2: JUK4 | AB2: JUK5 | AC2: JUK6 | AD2: JUK7 | AE2: JUK8 | AF2: JUK9 | AG2: JUK10 | AH2: JUK11 | AI2: JUK12 | AJ2: JUK13 | AK2: JUK14 | AL2: JUK15 | AM2: JUK16 | AN2: JUK17 | AO2: JUK18 | AP2: JUK19 | AQ2: JUK20 | AR2: 자재구분 | AS2: 공종구분 | AT2: 공종레벨 | AU2: 공종+자재 | AV2: 고유번호
E3: 단 가 | F3: 금 액 | G3: 단 가 | H3: 금 액 | I3: 단 가 | J3: 금 액 | K3: 단 가 | L3: 금 액
A4: 010101 공통 가설 공사 | B4: 01.건축 | Q4: 010101
A5: 콘테이너형 가설사무소 설치 및 해체 | B5: 3.0*9.0m, 18개월 | C5: 개소 | D5: 1 | E5: 0 | F5: =TRUNC(E5*D5, 0) -> 0 | G5: 0 | H5: =TRUNC(G5*D5, 0) -> 0 | I5: 0 | J5: =TRUNC(I5*D5, 0) -> 0 | K5: =TRUNC(E5+G5+I5, 0) -> 0 | L5: =TRUNC(F5+H5+J5, 0) -> 0 | M5: 호표 1 | N5: 58C175254924745912E05FE039641D | Q5: 010101 | R5: T | S5: F | T5: F | AU5: 01010158C175254924745912E05FE039641D | AV5: 762
A6: 콘테이너형 가설창고 설치 및 해체 | B6: 3.0*9.0m, 18개월 | C6: 개소 | D6: 1 | E6: 0 | F6: =TRUNC(E6*D6, 0) -> 0 | G6: 0 | H6: =TRUNC(G6*D6, 0) -> 0 | I6: 0 | J6: =TRUNC(I6*D6, 0) -> 0 | K6: =TRUNC(E6+G6+I6, 0) -> 0 | L6: =TRUNC(F6+H6+J6, 0) -> 0 | M6: 호표 2 | N6: 58C17525492477125F5052C3D6D837 | Q6: 010101 | R6: T | S6: F | T6: F | AU6: 01010158C17525492477125F5052C3D6D837 | AV6: 763
A7: 가설울타리 출입문 설치 및 해제 | B7: L:6,000, H:4000 | C7: EA | D7: 1 | E7: 0 | F7: =TRUNC(E7*D7, 0) -> 0 | G7: 0 | H7: =TRUNC(G7*D7, 0) -> 0 | I7: 0 | J7: =TRUNC(I7*D7, 0) -> 0 | K7: =TRUNC(E7+G7+I7, 0) -> 0 | L7: =TRUNC(F7+H7+J7, 0) -> 0 | M7: 호표 3 | N7: 58C1752653207D4571C058384463DF | Q7: 010101 | R7: T | S7: F | T7: F | AU7: 01010158C1752653207D4571C058384463DF | AV7: 462
A8: 가설울타리 | B8: 9개월, EGI, H:3000 | C8: M | D8: 210 | E8: 0 | F8: =TRUNC(E8*D8, 0) -> 0 | G8: 0 | H8: =TRUNC(G8*D8, 0) -> 0 | I8: 0 | J8: =TRUNC(I8*D8, 0) -> 0 | K8: =TRUNC(E8+G8+I8, 0) -> 0 | L8: =TRUNC(F8+H8+J8, 0) -> 0 | M8: 호표 4 | N8: 58C1752653207D45702051F17657F9 | Q8: 010101 | R8: T | S8: F | T8: F | AU8: 01010158C1752653207D45702051F17657F9 | AV8: 463
A9: 자동세륜기 설치 및 해체 - 8롤 | B9: 사용기간 3개월 | C9: 개소 | D9: 1 | E9: 0 | F9: =TRUNC(E9*D9, 0) -> 0 | G9: 0 | H9: =TRUNC(G9*D9, 0) -> 0 | I9: 0 | J9: =TRUNC(I9*D9, 0) -> 0 | K9: =TRUNC(E9+G9+I9, 0) -> 0 | L9: =TRUNC(F9+H9+J9, 0) -> 0 | M9: 호표 5 | N9: 58C175239F2476B81D505B9CD11BC5 | Q9: 010101 | R9: T | S9: F | T9: F | AU9: 01010158C175239F2476B81D505B9CD11BC5 | AV9: 10
A10: 가설전기 인입비용 | C10: 식 | D10: 1 | E10: 0 | F10: =TRUNC(E10*D10, 0) -> 0 | G10: 0 | H10: =TRUNC(G10*D10, 0) -> 0 | I10: 0 | J10: =TRUNC(I10*D10, 0) -> 0 | K10: =TRUNC(E10+G10+I10, 0) -> 0 | L10: =TRUNC(F10+H10+J10, 0) -> 0 | N10: 5FE27540E827797FB5E05CFBF9FAF85EE27FCF | Q10: 010101 | R10: F | S10: F | T10: T | AU10: 0101015FE27540E827797FB5E05CFBF9FAF85EE27FCF | AV10: 4
A11: 가설상수도 인입비용 | C11: 식 | D11: 1 | E11: 0 | F11: =TRUNC(E11*D11, 0) -> 0 | G11: 0 | H11: =TRUNC(G11*D11, 0) -> 0 | I11: 0 | J11: =TRUNC(I11*D11, 0) -> 0 | K11: =TRUNC(E11+G11+I11, 0) -> 0 | L11: =TRUNC(F11+H11+J11, 0) -> 0 | N11: 5FE27540E827797FB5E05CFBF9FAF85EE27FCC | Q11: 010101 | R11: F | S11: F | T11: T | AU11: 0101015FE27540E827797FB5E05CFBF9FAF85EE27FCC | AV11: 5
A27: [ 합 계 ] | F27: =SUMIF(AR5:AR26,"",F5:F26) -> 0 | H27: =SUMIF(AR5:AR26,"",H5:H26) -> 0 | J27: =SUMIF(AR5:AR26,"",J5:J26) -> 0 | L27: =SUMIF(AR5:AR26,"",L5:L26) -> 0 | N27: TOTAL
A28: 010102 가 설 공 사 | B28: 01.건축 | Q28: 010102
A29: 강관 조립말비계(이동식)설치 및 해체 | B29: 높이 2m, 3개월 | C29: 대 | D29: 12 | E29: 0 | F29: =TRUNC(E29*D29, 0) -> 0 | G29: 0 | H29: =TRUNC(G29*D29, 0) -> 0 | I29: 0 | J29: =TRUNC(I29*D29, 0) -> 0 | K29: =TRUNC(E29+G29+I29, 0) -> 0 | L29: =TRUNC(F29+H29+J29, 0) -> 0 | M29: 호표 6 | N29: 58C1752651257FEA0B00533CDA85A6 | Q29: 010102 | R29: T | S29: F | T29: F | AU29: 01010258C1752651257FEA0B00533CDA85A6 | AV29: 12
A30: 시스템비계 설치 및 해체 / 외부용 | B30: 10m 이하6개월, 발판 및 계단 포함 | C30: M2 | D30: 1558 | E30: 0 | F30: =TRUNC(E30*D30, 0) -> 0 | G30: 0 | H30: =TRUNC(G30*D30, 0) -> 0 | I30: 0 | J30: =TRUNC(I30*D30, 0) -> 0 | K30: =TRUNC(E30+G30+I30, 0) -> 0 | L30: =TRUNC(F30+H30+J30, 0) -> 0 | M30: 호표 7 | N30: 58C1752651257FEA0950593E370060 | Q30: 010102 | R30: T | S30: F | T30: F | AU30: 01010258C1752651257FEA0950593E370060 | AV30: 464
A31: 시스템비계 설치 및 해체 / 외부용 | B31: 10m 초과~20m 이하6, 개월, 발판 및 계단 포함 | C31: M2 | D31: 251 | E31: 0 | F31: =TRUNC(E31*D31, 0) -> 0 | G31: 0 | H31: =TRUNC(G31*D31, 0) -> 0 | I31: 0 | J31: =TRUNC(I31*D31, 0) -> 0 | K31: =TRUNC(E31+G31+I31, 0) -> 0 | L31: =TRUNC(F31+H31+J31, 0) -> 0 | M31: 호표 8 | N31: 58C1752651257FEA0950593E370106 | Q31: 010102 | R31: T | S31: F | T31: F | AU31: 01010258C1752651257FEA0950593E370106 | AV31: 465
A32: 수평 규준틀 | B32: 평 | C32: 개소 | D32: 2 | E32: 0 | F32: =TRUNC(E32*D32, 0) -> 0 | G32: 0 | H32: =TRUNC(G32*D32, 0) -> 0 | I32: 0 | J32: =TRUNC(I32*D32, 0) -> 0 | K32: =TRUNC(E32+G32+I32, 0) -> 0 | L32: =TRUNC(F32+H32+J32, 0) -> 0 | M32: 호표 9 | N32: 58C1752651257FEB17F05B8987AF2E | Q32: 010102 | R32: T | S32: F | T32: F | AU32: 01010258C1752651257FEB17F05B8987AF2E | AV32: 15
A33: 수평 규준틀 | B33: 귀 | C33: 개소 | D33: 4 | E33: 0 | F33: =TRUNC(E33*D33, 0) -> 0 | G33: 0 | H33: =TRUNC(G33*D33, 0) -> 0 | I33: 0 | J33: =TRUNC(I33*D33, 0) -> 0 | K33: =TRUNC(E33+G33+I33, 0) -> 0 | L33: =TRUNC(F33+H33+J33, 0) -> 0 | M33: 호표 10 | N33: 58C1752651257FEB17F05B8AAEB9F7 | Q33: 010102 | R33: T | S33: F | T33: F | AU33: 01010258C1752651257FEB17F05B8AAEB9F7 | AV33: 16
A34: 시스템동바리 설치 및 해체 | B34: 10m 이하, 3개월 | C34: 10공M3 | D34: 1140 | E34: 0 | F34: =TRUNC(E34*D34, 0) -> 0 | G34: 0 | H34: =TRUNC(G34*D34, 0) -> 0 | I34: 0 | J34: =TRUNC(I34*D34, 0) -> 0 | K34: =TRUNC(E34+G34+I34, 0) -> 0 | L34: =TRUNC(F34+H34+J34, 0) -> 0 | M34: 호표 11 | N34: 58C1752651257C15CC705A2CBDCC61 | Q34: 010102 | R34: T | S34: F | T34: F | AU34: 01010258C1752651257C15CC705A2CBDCC61 | AV34: 466
A35: 트럭크레인 | B35: 20톤 | C35: 일 | D35: 3 | E35: 0 | F35: =TRUNC(E35*D35, 0) -> 0 | G35: 0 | H35: =TRUNC(G35*D35, 0) -> 0 | I35: 0 | J35: =TRUNC(I35*D35, 0) -> 0 | K35: =TRUNC(E35+G35+I35, 0) -> 0 | L35: =TRUNC(F35+H35+J35, 0) -> 0 | M35: 호표 12 | N35: 58C17524A0227E9D53E05525C3B13C | Q35: 010102 | R35: T | S35: F | T35: F | AU35: 01010258C17524A0227E9D53E05525C3B13C | AV35: 467
A36: 건축물 현장정리 | B36: 철근콘크리트조, 철골·철근콘크리트조 | C36: M2 | D36: 2285 | E36: 0 | F36: =TRUNC(E36*D36, 0) -> 0 | G36: 0 | H36: =TRUNC(G36*D36, 0) -> 0 | I36: 0 | J36: =TRUNC(I36*D36, 0) -> 0 | K36: =TRUNC(E36+G36+I36, 0) -> 0 | L36: =TRUNC(F36+H36+J36, 0) -> 0 | M36: 호표 13 | N36: 58C175239F2472DD4A30563CDE4933 | Q36: 010102 | R36: T | S36: F | T36: F | AU36: 01010258C175239F2472DD4A30563CDE4933 | AV36: 19
A37: 구조부 먹매김 | B37: 일반 | C37: M2 | D37: 2285 | E37: 0 | F37: =TRUNC(E37*D37, 0) -> 0 | G37: 0 | H37: =TRUNC(G37*D37, 0) -> 0 | I37: 0 | J37: =TRUNC(I37*D37, 0) -> 0 | K37: =TRUNC(E37+G37+I37, 0) -> 0 | L37: =TRUNC(F37+H37+J37, 0) -> 0 | M37: 호표 14 | N37: 58C175239C2F704A1090570AE3C332 | Q37: 010102 | R37: T | S37: F | T37: F | AU37: 01010258C175239C2F704A1090570AE3C332 | AV37: 20
A38: 거푸집 먹매김 | B38: 일반 | C38: M2 | D38: 2285 | E38: 0 | F38: =TRUNC(E38*D38, 0) -> 0 | G38: 0 | H38: =TRUNC(G38*D38, 0) -> 0 | I38: 0 | J38: =TRUNC(I38*D38, 0) -> 0 | K38: =TRUNC(E38+G38+I38, 0) -> 0 | L38: =TRUNC(F38+H38+J38, 0) -> 0 | M38: 호표 15 | N38: 58C175239C2F704A1090555D2DDED7 | Q38: 010102 | R38: T | S38: F | T38: F | AU38: 01010258C175239C2F704A1090555D2DDED7 | AV38: 21
A39: 건축물보양 | B39: 부직포 깔기 | C39: M2 | D39: 3497 | E39: 0 | F39: =TRUNC(E39*D39, 0) -> 0 | G39: 0 | H39: =TRUNC(G39*D39, 0) -> 0 | I39: 0 | J39: =TRUNC(I39*D39, 0) -> 0 | K39: =TRUNC(E39+G39+I39, 0) -> 0 | L39: =TRUNC(F39+H39+J39, 0) -> 0 | M39: 호표 16 | N39: 58C175239C2F70490D105EEEA40B79 | Q39: 010102 | R39: T | S39: F | T39: F | AU39: 01010258C175239C2F70490D105EEEA40B79 | AV39: 22
A40: 건축물보양 | B40: 보양지 붙이기 | C40: M2 | D40: 446 | E40: 0 | F40: =TRUNC(E40*D40, 0) -> 0 | G40: 0 | H40: =TRUNC(G40*D40, 0) -> 0 | I40: 0 | J40: =TRUNC(I40*D40, 0) -> 0 | K40: =TRUNC(E40+G40+I40, 0) -> 0 | L40: =TRUNC(F40+H40+J40, 0) -> 0 | M40: 호표 17 | N40: 58C175239C2F70490E20520DE4F417 | Q40: 010102 | R40: T | S40: F | T40: F | AU40: 01010258C175239C2F70490E20520DE4F417 | AV40: 23
A41: 준공청소 | C41: M2 | D41: 2285 | E41: 0 | F41: =TRUNC(E41*D41, 0) -> 0 | G41: 0 | H41: =TRUNC(G41*D41, 0) -> 0 | I41: 0 | J41: =TRUNC(I41*D41, 0) -> 0 | K41: =TRUNC(E41+G41+I41, 0) -> 0 | L41: =TRUNC(F41+H41+J41, 0) -> 0 | M41: 호표 18 | N41: 58C175239A2C72B025F051E6886486 | Q41: 010102 | R41: T | S41: F | T41: F | AU41: 01010258C175239A2C72B025F051E6886486 | AV41: 24
A51: [ 합 계 ] | F51: =SUMIF(AR29:AR50,"",F29:F50) -> 0 | H51: =SUMIF(AR29:AR50,"",H29:H50) -> 0 | J51: =SUMIF(AR29:AR50,"",J29:J50) -> 0 | L51: =SUMIF(AR29:AR50,"",L29:L50) -> 0 | N51: TOTAL
A52: 010103 토 및 지정공사 | B52: 01.건축 | Q52: 010103
A53: 기초 지정 | B53: 잡석지정 | C53: M3 | D53: 264 | E53: 0 | F53: =TRUNC(E53*D53, 0) -> 0 | G53: 0 | H53: =TRUNC(G53*D53, 0) -> 0 | I53: 0 | J53: =TRUNC(I53*D53, 0) -> 0 | K53: =TRUNC(E53+G53+I53, 0) -> 0 | L53: =TRUNC(F53+H53+J53, 0) -> 0 | M53: 호표 19 | N53: 58E605F0C22B72FFCEB05958E38EF1 | Q53: 010103 | R53: T | S53: F | T53: F | AU53: 01010358E605F0C22B72FFCEB05958E38EF1 | AV53: 26
A75: [ 합 계 ] | F75: =SUMIF(AR53:AR74,"",F53:F74) -> 0 | H75: =SUMIF(AR53:AR74,"",H53:H74) -> 0 | J75: =SUMIF(AR53:AR74,"",J53:J74) -> 0 | L75: =SUMIF(AR53:AR74,"",L53:L74) -> 0 | N75: TOTAL
A76: 010104 철근콘크리트공사 | B76: 01.건축 | Q76: 010104
A77: 철근콘크리트용봉강 | B77: 철근콘크리트용봉강, 이형봉강(SD400), HD-10, 지정장소도 | C77: TON | D77: 52.002 | E77: 0 | F77: =TRUNC(E77*D77, 0) -> 0 | G77: 0 | H77: =TRUNC(G77*D77, 0) -> 0 | I77: 0 | J77: =TRUNC(I77*D77, 0) -> 0 | K77: =TRUNC(E77+G77+I77, 0) -> 0 | L77: =TRUNC(F77+H77+J77, 0) -> 0 | N77: 5FE27540EE28713885505BD6206B93A702FC31 | Q77: 010104 | R77: F | S77: F | T77: T | AU77: 0101045FE27540EE28713885505BD6206B93A702FC31 | AV77: 29
A78: 철근콘크리트용봉강 | B78: 철근콘크리트용봉강, 이형봉강(SD400), HD-13, 지정장소도 | C78: TON | D78: 45.203 | E78: 0 | F78: =TRUNC(E78*D78, 0) -> 0 | G78: 0 | H78: =TRUNC(G78*D78, 0) -> 0 | I78: 0 | J78: =TRUNC(I78*D78, 0) -> 0 | K78: =TRUNC(E78+G78+I78, 0) -> 0 | L78: =TRUNC(F78+H78+J78, 0) -> 0 | N78: 5FE27540EE28713885505BD6206B93A701D527 | Q78: 010104 | R78: F | S78: F | T78: T | AU78: 0101045FE27540EE28713885505BD6206B93A701D527 | AV78: 30
A79: 철근콘크리트용봉강 | B79: 철근콘크리트용봉강, 이형봉강(SD400), HD-16, 지정장소도 | C79: TON | D79: 9.096 | E79: 0 | F79: =TRUNC(E79*D79, 0) -> 0 | G79: 0 | H79: =TRUNC(G79*D79, 0) -> 0 | I79: 0 | J79: =TRUNC(I79*D79, 0) -> 0 | K79: =TRUNC(E79+G79+I79, 0) -> 0 | L79: =TRUNC(F79+H79+J79, 0) -> 0 | N79: 5FE27540EE28713885505BD6206B93A700CE36 | Q79: 010104 | R79: F | S79: F | T79: T | AU79: 0101045FE27540EE28713885505BD6206B93A700CE36 | AV79: 31
A80: 철근콘크리트용봉강 | B80: 철근콘크리트용봉강, 이형봉강(SD500), SH-19, 지정장소도 | C80: TON | D80: 25.329 | E80: 0 | F80: =TRUNC(E80*D80, 0) -> 0 | G80: 0 | H80: =TRUNC(G80*D80, 0) -> 0 | I80: 0 | J80: =TRUNC(I80*D80, 0) -> 0 | K80: =TRUNC(E80+G80+I80, 0) -> 0 | L80: =TRUNC(F80+H80+J80, 0) -> 0 | N80: 5FE27540EE28713885505BD6206B93A5514C6B | Q80: 010104 | R80: F | S80: F | T80: T | AU80: 0101045FE27540EE28713885505BD6206B93A5514C6B | AV80: 32
A81: 철근콘크리트용봉강 | B81: 철근콘크리트용봉강, 이형봉강(SD500), SH-22, 지정장소도 | C81: TON | D81: 116.489 | E81: 0 | F81: =TRUNC(E81*D81, 0) -> 0 | G81: 0 | H81: =TRUNC(G81*D81, 0) -> 0 | I81: 0 | J81: =TRUNC(I81*D81, 0) -> 0 | K81: =TRUNC(E81+G81+I81, 0) -> 0 | L81: =TRUNC(F81+H81+J81, 0) -> 0 | N81: 5FE27540EE28713885505BD6206B93A550A5E1 | Q81: 010104 | R81: F | S81: F | T81: T | AU81: 0101045FE27540EE28713885505BD6206B93A550A5E1 | AV81: 33
A82: 데크 래티스 | B82: Φ6 | C82: TON | D82: 0.049 | E82: 0 | F82: =TRUNC(E82*D82, 0) -> 0 | G82: 0 | H82: =TRUNC(G82*D82, 0) -> 0 | I82: 0 | J82: =TRUNC(I82*D82, 0) -> 0 | K82: =TRUNC(E82+G82+I82, 0) -> 0 | L82: =TRUNC(F82+H82+J82, 0) -> 0 | N82: 5FE27540EE28713885505BD6206B93A7038BB1 | Q82: 010104 | R82: F | S82: F | T82: T | AU82: 0101045FE27540EE28713885505BD6206B93A7038BB1 | AV82: 28
A83: 레미콘 | B83: 25-18-08 | C83: M3 | D83: 94 | E83: 0 | F83: =TRUNC(E83*D83, 0) -> 0 | G83: 0 | H83: =TRUNC(G83*D83, 0) -> 0 | I83: 0 | J83: =TRUNC(I83*D83, 0) -> 0 | K83: =TRUNC(E83+G83+I83, 0) -> 0 | L83: =TRUNC(F83+H83+J83, 0) -> 0 | N83: 5FE27540EF2A761F7C905CA49659B1EBECB53F | Q83: 010104 | R83: F | S83: F | T83: T | AU83: 0101045FE27540EF2A761F7C905CA49659B1EBECB53F | AV83: 34
A84: 레미콘 | B84: 25-18-12 | C84: M3 | D84: 1346 | E84: 0 | F84: =TRUNC(E84*D84, 0) -> 0 | G84: 0 | H84: =TRUNC(G84*D84, 0) -> 0 | I84: 0 | J84: =TRUNC(I84*D84, 0) -> 0 | K84: =TRUNC(E84+G84+I84, 0) -> 0 | L84: =TRUNC(F84+H84+J84, 0) -> 0 | N84: 5FE27540EF2A761F7C905CA49659B1EBED4339 | Q84: 010104 | R84: F | S84: F | T84: T | AU84: 0101045FE27540EF2A761F7C905CA49659B1EBED4339 | AV84: 35
A85: 레미콘 | B85: 25-30-15 | C85: M3 | D85: 3013 | E85: 0 | F85: =TRUNC(E85*D85, 0) -> 0 | G85: 0 | H85: =TRUNC(G85*D85, 0) -> 0 | I85: 0 | J85: =TRUNC(I85*D85, 0) -> 0 | K85: =TRUNC(E85+G85+I85, 0) -> 0 | L85: =TRUNC(F85+H85+J85, 0) -> 0 | N85: 5FE27540EF2A761F7C905CA49659B1EBED410E | Q85: 010104 | R85: F | S85: F | T85: T | AU85: 0101045FE27540EF2A761F7C905CA49659B1EBED410E | AV85: 36
A86: 합판거푸집 설치 및 해체 | B86: 간단 6회, 수직고 7m까지 | C86: M2 | D86: 144 | E86: 0 | F86: =TRUNC(E86*D86, 0) -> 0 | G86: 0 | H86: =TRUNC(G86*D86, 0) -> 0 | I86: 0 | J86: =TRUNC(I86*D86, 0) -> 0 | K86: =TRUNC(E86+G86+I86, 0) -> 0 | L86: =TRUNC(F86+H86+J86, 0) -> 0 | M86: 호표 20 | N86: 58C125A7ED2C7861CC405DF73EC27B | Q86: 010104 | R86: T | S86: F | T86: F | AU86: 01010458C125A7ED2C7861CC405DF73EC27B | AV86: 37
A87: 합판거푸집 설치 및 해체 | B87: 복잡 3회, 수직고 7m까지 | C87: M2 | D87: 22 | E87: 0 | F87: =TRUNC(E87*D87, 0) -> 0 | G87: 0 | H87: =TRUNC(G87*D87, 0) -> 0 | I87: 0 | J87: =TRUNC(I87*D87, 0) -> 0 | K87: =TRUNC(E87+G87+I87, 0) -> 0 | L87: =TRUNC(F87+H87+J87, 0) -> 0 | M87: 호표 21 | N87: 58C125A7EE2E7F085AB057105BF061 | Q87: 010104 | R87: T | S87: F | T87: F | AU87: 01010458C125A7EE2E7F085AB057105BF061 | AV87: 38
A88: 합판거푸집 설치 및 해체 | B88: 보통 4회, 수직고 7m까지 | C88: M2 | D88: 2379 | E88: 0 | F88: =TRUNC(E88*D88, 0) -> 0 | G88: 0 | H88: =TRUNC(G88*D88, 0) -> 0 | I88: 0 | J88: =TRUNC(I88*D88, 0) -> 0 | K88: =TRUNC(E88+G88+I88, 0) -> 0 | L88: =TRUNC(F88+H88+J88, 0) -> 0 | M88: 호표 22 | N88: 58C125A7EE2E7F085AB05609693808 | Q88: 010104 | R88: T | S88: F | T88: F | AU88: 01010458C125A7EE2E7F085AB05609693808 | AV88: 39
A89: 합판거푸집 설치 및 해체 | B89: 복잡 3회, 슬래브(경사도 20˚미만) | C89: M2 | D89: 15 | E89: 0 | F89: =TRUNC(E89*D89, 0) -> 0 | G89: 0 | H89: =TRUNC(G89*D89, 0) -> 0 | I89: 0 | J89: =TRUNC(I89*D89, 0) -> 0 | K89: =TRUNC(E89+G89+I89, 0) -> 0 | L89: =TRUNC(F89+H89+J89, 0) -> 0 | M89: 호표 23 | N89: 58C125A7EE2E7E639FE0584586DE6E | Q89: 010104 | R89: T | S89: F | T89: F | AU89: 01010458C125A7EE2E7E639FE0584586DE6E | AV89: 41
A90: 합판거푸집 설치 및 해체 | B90: 매우복잡 2회, 수직고 7m까지 | C90: M2 | D90: 81 | E90: 0 | F90: =TRUNC(E90*D90, 0) -> 0 | G90: 0 | H90: =TRUNC(G90*D90, 0) -> 0 | I90: 0 | J90: =TRUNC(I90*D90, 0) -> 0 | K90: =TRUNC(E90+G90+I90, 0) -> 0 | L90: =TRUNC(F90+H90+J90, 0) -> 0 | M90: 호표 24 | N90: 58C125A7EF2F755554405E83F62002 | Q90: 010104 | R90: T | S90: F | T90: F | AU90: 01010458C125A7EF2F755554405E83F62002 | AV90: 42
A91: 합판거푸집 설치 및 해체 | B91: 제물치장 1회, 슬래브(경사도 20˚미만) | C91: M2 | D91: 33 | E91: 0 | F91: =TRUNC(E91*D91, 0) -> 0 | G91: 0 | H91: =TRUNC(G91*D91, 0) -> 0 | I91: 0 | J91: =TRUNC(I91*D91, 0) -> 0 | K91: =TRUNC(E91+G91+I91, 0) -> 0 | L91: =TRUNC(F91+H91+J91, 0) -> 0 | M91: 호표 25 | N91: 58C125A7EF2F744E65405B3731A989 | Q91: 010104 | R91: T | S91: F | T91: F | AU91: 01010458C125A7EF2F744E65405B3731A989 | AV91: 43
A92: 유로폼 설치 및 해체 | B92: 복잡, 수직고 7m까지 | C92: M2 | D92: 2121 | E92: 0 | F92: =TRUNC(E92*D92, 0) -> 0 | G92: 0 | H92: =TRUNC(G92*D92, 0) -> 0 | I92: 0 | J92: =TRUNC(I92*D92, 0) -> 0 | K92: =TRUNC(E92+G92+I92, 0) -> 0 | L92: =TRUNC(F92+H92+J92, 0) -> 0 | M92: 호표 26 | N92: 58C125A7E8247667BAE05117128416 | Q92: 010104 | R92: T | S92: F | T92: F | AU92: 01010458C125A7E8247667BAE05117128416 | AV92: 44
A93: 유로폼 설치 및 해체 | B93: 보통, 수직고 7m까지 | C93: M2 | D93: 3799 | E93: 0 | F93: =TRUNC(E93*D93, 0) -> 0 | G93: 0 | H93: =TRUNC(G93*D93, 0) -> 0 | I93: 0 | J93: =TRUNC(I93*D93, 0) -> 0 | K93: =TRUNC(E93+G93+I93, 0) -> 0 | L93: =TRUNC(F93+H93+J93, 0) -> 0 | M93: 호표 27 | N93: 58C125A7E8247667BAE051171287EA | Q93: 010104 | R93: T | S93: F | T93: F | AU93: 01010458C125A7E8247667BAE051171287EA | AV93: 45
A94: 유로폼 설치 및 해체 | B94: 간단, 수직고 7m까지 | C94: M2 | D94: 487 | E94: 0 | F94: =TRUNC(E94*D94, 0) -> 0 | G94: 0 | H94: =TRUNC(G94*D94, 0) -> 0 | I94: 0 | J94: =TRUNC(I94*D94, 0) -> 0 | K94: =TRUNC(E94+G94+I94, 0) -> 0 | L94: =TRUNC(F94+H94+J94, 0) -> 0 | M94: 호표 28 | N94: 58C125A7E8247667BAE051171286C3 | Q94: 010104 | R94: T | S94: F | T94: F | AU94: 01010458C125A7E8247667BAE051171286C3 | AV94: 46
A95: 합벽거푸집 설치 및 해체 | B95: 유로폼, 수직고 7m까지 | C95: M2 | D95: 449 | E95: 0 | F95: =TRUNC(E95*D95, 0) -> 0 | G95: 0 | H95: =TRUNC(G95*D95, 0) -> 0 | I95: 0 | J95: =TRUNC(I95*D95, 0) -> 0 | K95: =TRUNC(E95+G95+I95, 0) -> 0 | L95: =TRUNC(F95+H95+J95, 0) -> 0 | M95: 호표 29 | N95: 58C125A7E8247667BAE05117128141 | Q95: 010104 | R95: T | S95: F | T95: F | AU95: 01010458C125A7E8247667BAE05117128141 | AV95: 468
A96: DECK | B96: 75*600*1.2T-골데크, GI | C96: M2 | D96: 37 | E96: 0 | F96: =TRUNC(E96*D96, 0) -> 0 | G96: 0 | H96: =TRUNC(G96*D96, 0) -> 0 | I96: 0 | J96: =TRUNC(I96*D96, 0) -> 0 | K96: =TRUNC(E96+G96+I96, 0) -> 0 | L96: =TRUNC(F96+H96+J96, 0) -> 0 | N96: 5FE27540E72578F116E050F50952D44D886C7C | Q96: 010104 | R96: F | S96: F | T96: T | AU96: 0101045FE27540E72578F116E050F50952D44D886C7C | AV96: 84
A97: 데크플레이트 설치 | B97: 10층 이하(자재 별도) | C97: M2 | D97: 35 | E97: 0 | F97: =TRUNC(E97*D97, 0) -> 0 | G97: 0 | H97: =TRUNC(G97*D97, 0) -> 0 | I97: 0 | J97: =TRUNC(I97*D97, 0) -> 0 | K97: =TRUNC(E97+G97+I97, 0) -> 0 | L97: =TRUNC(F97+H97+J97, 0) -> 0 | M97: 호표 30 | N97: 58C1358A4A2378C751F05038BF293A | Q97: 010104 | R97: T | S97: F | T97: F | AU97: 01010458C1358A4A2378C751F05038BF293A | AV97: 469
A98: 철근 공장가공 및 현장조립 | B98: Type-Ⅰ | C98: TON | D98: 240.939 | E98: 0 | F98: =TRUNC(E98*D98, 0) -> 0 | G98: 0 | H98: =TRUNC(G98*D98, 0) -> 0 | I98: 0 | J98: =TRUNC(I98*D98, 0) -> 0 | K98: =TRUNC(E98+G98+I98, 0) -> 0 | L98: =TRUNC(F98+H98+J98, 0) -> 0 | M98: 호표 31 | N98: 58C125A41828730D30605ACD5CDF2D | Q98: 010104 | R98: T | S98: F | T98: F | AU98: 01010458C125A41828730D30605ACD5CDF2D | AV98: 47
A99: 콘크리트 펌프차 타설(무근) | B99: slump 8~12cm, 벽,기둥,슬래브 등, f2 : Type-Ⅱ, 36m | C99: M3 | D99: 1438 | E99: 0 | F99: =TRUNC(E99*D99, 0) -> 0 | G99: 0 | H99: =TRUNC(G99*D99, 0) -> 0 | I99: 0 | J99: =TRUNC(I99*D99, 0) -> 0 | K99: =TRUNC(E99+G99+I99, 0) -> 0 | L99: =TRUNC(F99+H99+J99, 0) -> 0 | M99: 호표 32 | N99: 58C125A0BC247E31E4805DAB14EFA9 | Q99: 010104 | R99: T | S99: F | T99: F | AU99: 01010458C125A0BC247E31E4805DAB14EFA9 | AV99: 48
A100: 콘크리트 펌프차 타설 | B100: slump 15cm, 벽,기둥,슬래브 등, f2 : Type-Ⅱ, 36m | C100: M3 | D100: 2983 | F100: =TRUNC(E100*D100, 0) -> 0 | G100: 0 | H100: =TRUNC(G100*D100, 0) -> 0 | I100: 0 | J100: =TRUNC(I100*D100, 0) -> 0 | K100: =TRUNC(E100+G100+I100, 0) -> 0 | L100: =TRUNC(F100+H100+J100, 0) -> 0 | M100: 호표 33 | N100: 58C125A0BF2076502F705732E0E951 | Q100: 010104 | R100: T | S100: F | T100: F | AU100: 01010458C125A0BF2076502F705732E0E951 | AV100: 59
A101: 지수판설치 - PVC 용접 | B101: PVC, H200*5t | C101: M | D101: 209 | E101: 0 | F101: =TRUNC(E101*D101, 0) -> 0 | G101: 0 | H101: =TRUNC(G101*D101, 0) -> 0 | I101: 0 | J101: =TRUNC(I101*D101, 0) -> 0 | K101: =TRUNC(E101+G101+I101, 0) -> 0 | L101: =TRUNC(F101+H101+J101, 0) -> 0 | M101: 호표 34 | N101: 58C125AE1F2A7E4A48005FF7A389DE | Q101: 010104 | R101: T | S101: F | T101: F | AU101: 01010458C125AE1F2A7E4A48005FF7A389DE | AV101: 60
A102: 단열재 콘크리트타설 부착(벽 및 바닥) | B102: PF보드180T | C102: M2 | D102: 1030 | E102: 0 | F102: =TRUNC(E102*D102, 0) -> 0 | G102: 0 | H102: =TRUNC(G102*D102, 0) -> 0 | I102: 0 | J102: =TRUNC(I102*D102, 0) -> 0 | K102: =TRUNC(E102+G102+I102, 0) -> 0 | L102: =TRUNC(F102+H102+J102, 0) -> 0 | M102: 호표 35 | N102: 58C19571B02272E4BD50540A27CDDD | Q102: 010104 | R102: T | S102: F | T102: F | AU102: 01010458C19571B02272E4BD50540A27CDDD | AV102: 470
A103: 단열재 콘크리트타설 부착(벽 및 바닥) | B103: PF보드30T | C103: M2 | D103: 394 | E103: 0 | F103: =TRUNC(E103*D103, 0) -> 0 | G103: 0 | H103: =TRUNC(G103*D103, 0) -> 0 | I103: 0 | J103: =TRUNC(I103*D103, 0) -> 0 | K103: =TRUNC(E103+G103+I103, 0) -> 0 | L103: =TRUNC(F103+H103+J103, 0) -> 0 | M103: 호표 36 | N103: 58C19571B02272E4BD50540A27CDDB | Q103: 010104 | R103: T | S103: F | T103: F | AU103: 01010458C19571B02272E4BD50540A27CDDB | AV103: 471
A104: 방습필름 설치 - 바닥 | B104: 폴리에틸렌필름, 두께, 0.1mm, 1겹 | C104: M2 | D104: 1122 | E104: 0 | F104: =TRUNC(E104*D104, 0) -> 0 | G104: 0 | H104: =TRUNC(G104*D104, 0) -> 0 | I104: 0 | J104: =TRUNC(I104*D104, 0) -> 0 | K104: =TRUNC(E104+G104+I104, 0) -> 0 | L104: =TRUNC(F104+H104+J104, 0) -> 0 | M104: 호표 37 | N104: 58C19571B22D712700D05081682095 | Q104: 010104 | R104: T | S104: F | T104: F | AU104: 01010458C19571B22D712700D05081682095 | AV104: 67
A105: 방습필름 설치 - 바닥 | B105: 폴리에틸렌필름, 두께, 0.1mm, 2겹 | C105: M2 | D105: 1318 | E105: 0 | F105: =TRUNC(E105*D105, 0) -> 0 | G105: 0 | H105: =TRUNC(G105*D105, 0) -> 0 | I105: 0 | J105: =TRUNC(I105*D105, 0) -> 0 | K105: =TRUNC(E105+G105+I105, 0) -> 0 | L105: =TRUNC(F105+H105+J105, 0) -> 0 | M105: 호표 38 | N105: 58C19571B22D71244C205AF3DF37ED | Q105: 010104 | R105: T | S105: F | T105: F | AU105: 01010458C19571B22D71244C205AF3DF37ED | AV105: 68
A106: 장비기초 | B106: 1850*4150*H200/비상발전기실 | C106: 개소 | D106: 1 | E106: 0 | F106: =TRUNC(E106*D106, 0) -> 0 | G106: 0 | H106: =TRUNC(G106*D106, 0) -> 0 | I106: 0 | J106: =TRUNC(I106*D106, 0) -> 0 | K106: =TRUNC(E106+G106+I106, 0) -> 0 | L106: =TRUNC(F106+H106+J106, 0) -> 0 | M106: 호표 39 | N106: 58C125A0BC247B7943705CE903ECA2 | Q106: 010104 | R106: T | S106: F | T106: F | AU106: 01010458C125A0BC247B7943705CE903ECA2 | AV106: 472
A107: 장비기초 | B107: 800*1500*H200/비상발전기실 | C107: 개소 | D107: 1 | E107: 0 | F107: =TRUNC(E107*D107, 0) -> 0 | G107: 0 | H107: =TRUNC(G107*D107, 0) -> 0 | I107: 0 | J107: =TRUNC(I107*D107, 0) -> 0 | K107: =TRUNC(E107+G107+I107, 0) -> 0 | L107: =TRUNC(F107+H107+J107, 0) -> 0 | M107: 호표 40 | N107: 58C125A0BC247B7943705CE903ECA0 | Q107: 010104 | R107: T | S107: F | T107: F | AU107: 01010458C125A0BC247B7943705CE903ECA0 | AV107: 473
A108: 장비기초 | B108: 4000*1500+1800*750*H100/변압기 | C108: 개소 | D108: 1 | E108: 0 | F108: =TRUNC(E108*D108, 0) -> 0 | G108: 0 | H108: =TRUNC(G108*D108, 0) -> 0 | I108: 0 | J108: =TRUNC(I108*D108, 0) -> 0 | K108: =TRUNC(E108+G108+I108, 0) -> 0 | L108: =TRUNC(F108+H108+J108, 0) -> 0 | M108: 호표 41 | N108: 58C125A0BC247B7943705CE903ECA7 | Q108: 010104 | R108: T | S108: F | T108: F | AU108: 01010458C125A0BC247B7943705CE903ECA7 | AV108: 51
A109: 장비기초 | B109: 500*1000*H200/소화가스실 | C109: 개소 | D109: 2 | E109: 0 | F109: =TRUNC(E109*D109, 0) -> 0 | G109: 0 | H109: =TRUNC(G109*D109, 0) -> 0 | I109: 0 | J109: =TRUNC(I109*D109, 0) -> 0 | K109: =TRUNC(E109+G109+I109, 0) -> 0 | L109: =TRUNC(F109+H109+J109, 0) -> 0 | M109: 호표 42 | N109: 58C125A0BC247B7943705CE903ECA4 | Q109: 010104 | R109: T | S109: F | T109: F | AU109: 01010458C125A0BC247B7943705CE903ECA4 | AV109: 52
A110: 장비기초 | B110: 410*3380*H200/소화가스실 | C110: 개소 | D110: 1 | E110: 0 | F110: =TRUNC(E110*D110, 0) -> 0 | G110: 0 | H110: =TRUNC(G110*D110, 0) -> 0 | I110: 0 | J110: =TRUNC(I110*D110, 0) -> 0 | K110: =TRUNC(E110+G110+I110, 0) -> 0 | L110: =TRUNC(F110+H110+J110, 0) -> 0 | M110: 호표 43 | N110: 58C125A0BC247B7943705CE903ECAA | Q110: 010104 | R110: T | S110: F | T110: F | AU110: 01010458C125A0BC247B7943705CE903ECAA | AV110: 53
A111: 장비기초 | B111: 810*3300*H200/소화가스실 | C111: 개소 | D111: 1 | E111: 0 | F111: =TRUNC(E111*D111, 0) -> 0 | G111: 0 | H111: =TRUNC(G111*D111, 0) -> 0 | I111: 0 | J111: =TRUNC(I111*D111, 0) -> 0 | K111: =TRUNC(E111+G111+I111, 0) -> 0 | L111: =TRUNC(F111+H111+J111, 0) -> 0 | M111: 호표 44 | N111: 58C125A0BC247B7943705CE903EF74 | Q111: 010104 | R111: T | S111: F | T111: F | AU111: 01010458C125A0BC247B7943705CE903EF74 | AV111: 54
A112: 장비기초 | B112: 1170*2300*H200/항온항습기 | C112: 개소 | D112: 6 | E112: 0 | F112: =TRUNC(E112*D112, 0) -> 0 | G112: 0 | H112: =TRUNC(G112*D112, 0) -> 0 | I112: 0 | J112: =TRUNC(I112*D112, 0) -> 0 | K112: =TRUNC(E112+G112+I112, 0) -> 0 | L112: =TRUNC(F112+H112+J112, 0) -> 0 | M112: 호표 45 | N112: 58C125A0BC247B7943705CE903EF72 | Q112: 010104 | R112: T | S112: F | T112: F | AU112: 01010458C125A0BC247B7943705CE903EF72 | AV112: 55
... A121: PVC슬리브 | B121: D100*L=1000/통기관 | C121: EA | D121: 34 | E121: 0 | F121: =TRUNC(E121*D121, 0) -> 0 | G121: 0 | H121: =TRUNC(G121*D121, 0) -> 0 | I121: 0 | J121: =TRUNC(I121*D121, 0) -> 0 | K121: =TRUNC(E121+G121+I121, 0) -> 0 | L121: =TRUNC(F121+H121+J121, 0) -> 0 | M121: 호표 54 | N121: 58C125AE1F2A7E4A48005FF0720E88 | Q121: 010104 | R121: T | S121: F | T121: F | AU121: 01010458C125AE1F2A7E4A48005FF0720E88 | AV121: 64
A123: [ 합 계 ] | F123: =SUMIF(AR77:AR122,"",F77:F122) -> 0 | H123: =SUMIF(AR77:AR122,"",H77:H122) -> 0 | J123: =SUMIF(AR77:AR122,"",J77:J122) -> 0 | L123: =SUMIF(AR77:AR122,"",L77:L122) -> 0 | N123: TOTAL
A124: 010105 철 골 공 사 | B124: 01.건축 | Q124: 010105
A125: H형강 | B125: SS275, 298*149*5.5*8mm | C125: TON | D125: 0.342 | E125: 0 | F125: =TRUNC(E125*D125, 0) -> 0 | G125: 0 | H125: =TRUNC(G125*D125, 0) -> 0 | I125: 0 | J125: =TRUNC(I125*D125, 0) -> 0 | K125: =TRUNC(E125+G125+I125, 0) -> 0 | L125: =TRUNC(F125+H125+J125, 0) -> 0 | N125: 5FE27540EE287139AB5051F5FFEDAD11CE2E28 | Q125: 010105 | R125: F | S125: F | T125: T | AU125: 0101055FE27540EE287139AB5051F5FFEDAD11CE2E28 | AV125: 71
A126: H형강 | B126: SS275, 396*199*7*11mm | C126: TON | D126: 0.605 | E126: 0 | F126: =TRUNC(E126*D126, 0) -> 0 | G126: 0 | H126: =TRUNC(G126*D126, 0) -> 0 | I126: 0 | J126: =TRUNC(I126*D126, 0) -> 0 | K126: =TRUNC(E126+G126+I126, 0) -> 0 | L126: =TRUNC(F126+H126+J126, 0) -> 0 | N126: 5FE27540EE287139AB5051F5FFEDAD11CE2883 | Q126: 010105 | R126: F | S126: F | T126: T | AU126: 0101055FE27540EE287139AB5051F5FFEDAD11CE2883 | AV126: 72
A127: H형강 | B127: SM275, 300*150*6.5*9mm | C127: TON | D127: 0.844 | E127: 0 | F127: =TRUNC(E127*D127, 0) -> 0 | G127: 0 | H127: =TRUNC(G127*D127, 0) -> 0 | I127: 0 | J127: =TRUNC(I127*D127, 0) -> 0 | K127: =TRUNC(E127+G127+I127, 0) -> 0 | L127: =TRUNC(F127+H127+J127, 0) -> 0 | N127: 5FE27540EE287139AB5051F5FFEDAD13FC25CA | Q127: 010105 | R127: F | S127: F | T127: T | AU127: 0101055FE27540EE287139AB5051F5FFEDAD13FC25CA | AV127: 73
A128: H형강 | B128: SM275, 400*200*8*13mm | C128: TON | D128: 1.518 | E128: 0 | F128: =TRUNC(E128*D128, 0) -> 0 | G128: 0 | H128: =TRUNC(G128*D128, 0) -> 0 | I128: 0 | J128: =TRUNC(I128*D128, 0) -> 0 | K128: =TRUNC(E128+G128+I128, 0) -> 0 | L128: =TRUNC(F128+H128+J128, 0) -> 0 | N128: 5FE27540EE287139AB5051F5FFEDAD13FC2319 | Q128: 010105 | R128: F | S128: F | T128: T | AU128: 0101055FE27540EE287139AB5051F5FFEDAD13FC2319 | AV128: 74
A129: 경량형강 | B129: 경량형강, 블랙C형강, 100*50*20, t2.3 | C129: TON | D129: 0.202 | E129: 0 | F129: =TRUNC(E129*D129, 0) -> 0 | G129: 0 | H129: =TRUNC(G129*D129, 0) -> 0 | I129: 0 | J129: =TRUNC(I129*D129, 0) -> 0 | K129: =TRUNC(E129+G129+I129, 0) -> 0 | L129: =TRUNC(F129+H129+J129, 0) -> 0 | N129: 5FE27540EE287139AB5051F6859DE49EBA3340 | Q129: 010105 | R129: F | S129: F | T129: T | AU129: 0101055FE27540EE287139AB5051F6859DE49EBA3340 | AV129: 75
A130: 일반구조용탄소강관 | B130: 일반구조용탄소강관, 흑관, ∮318.5*9.0mm | C130: M | D130: 17 | E130: 0 | F130: =TRUNC(E130*D130, 0) -> 0 | G130: 0 | H130: =TRUNC(G130*D130, 0) -> 0 | I130: 0 | J130: =TRUNC(I130*D130, 0) -> 0 | K130: =TRUNC(E130+G130+I130, 0) -> 0 | L130: =TRUNC(F130+H130+J130, 0) -> 0 | N130: 5F9A652C0B217739F9E05CE490FB5E69A3E177 | Q130: 010105 | R130: F | S130: F | T130: T | AU130: 0101055F9A652C0B217739F9E05CE490FB5E69A3E177 | AV130: 481
A131: 일반구조용압연강판 | B131: 일반구조용압연강판, 6.0mm | C131: TON | D131: 0.08 | E131: 0 | F131: =TRUNC(E131*D131, 0) -> 0 | G131: 0 | H131: =TRUNC(G131*D131, 0) -> 0 | I131: 0 | J131: =TRUNC(I131*D131, 0) -> 0 | K131: =TRUNC(E131+G131+I131, 0) -> 0 | L131: =TRUNC(F131+H131+J131, 0) -> 0 | N131: 5FE27540EE2872C76BA059A7455A4814F4BD34 | Q131: 010105 | R131: F | S131: F | T131: T | AU131: 0101055FE27540EE2872C76BA059A7455A4814F4BD34 | AV131: 76
A132: 일반구조용압연강판 | B132: 일반구조용압연강판, 8.0mm | C132: TON | D132: 0.035 | E132: 0 | F132: =TRUNC(E132*D132, 0) -> 0 | G132: 0 | H132: =TRUNC(G132*D132, 0) -> 0 | I132: 0 | J132: =TRUNC(I132*D132, 0) -> 0 | K132: =TRUNC(E132+G132+I132, 0) -> 0 | L132: =TRUNC(F132+H132+J132, 0) -> 0 | N132: 5FE27540EE2872C76BA059A7455162850395F8 | Q132: 010105 | R132: F | S132: F | T132: T | AU132: 0101055FE27540EE2872C76BA059A7455162850395F8 | AV132: 477
A133: 일반구조용압연강판 | B133: 일반구조용압연강판, 9.0mm | C133: TON | D133: 0.291 | E133: 0 | F133: =TRUNC(E133*D133, 0) -> 0 | G133: 0 | H133: =TRUNC(G133*D133, 0) -> 0 | I133: 0 | J133: =TRUNC(I133*D133, 0) -> 0 | K133: =TRUNC(E133+G133+I133, 0) -> 0 | L133: =TRUNC(F133+H133+J133, 0) -> 0 | N133: 5FE27540EE2872C76BA059A744B979404CB60C | Q133: 010105 | R133: F | S133: F | T133: T | AU133: 0101055FE27540EE2872C76BA059A744B979404CB60C | AV133: 478
A134: 일반구조용압연강판 | B134: 일반구조용압연강판, 12mm | C134: TON | D134: 0.081 | E134: 0 | F134: =TRUNC(E134*D134, 0) -> 0 | G134: 0 | H134: =TRUNC(G134*D134, 0) -> 0 | I134: 0 | J134: =TRUNC(I134*D134, 0) -> 0 | K134: =TRUNC(E134+G134+I134, 0) -> 0 | L134: =TRUNC(F134+H134+J134, 0) -> 0 | N134: 5FE27540EE2872C76BA059A7455A4814F4BD36 | Q134: 010105 | R134: F | S134: F | T134: T | AU134: 0101055FE27540EE2872C76BA059A7455A4814F4BD36 | AV134: 77
A135: 일반구조용압연강판 | B135: 일반구조용압연강판, 13mm | C135: TON | D135: 0.045 | E135: 0 | F135: =TRUNC(E135*D135, 0) -> 0 | G135: 0 | H135: =TRUNC(G135*D135, 0) -> 0 | I135: 0 | J135: =TRUNC(I135*D135, 0) -> 0 | K135: =TRUNC(E135+G135+I135, 0) -> 0 | L135: =TRUNC(F135+H135+J135, 0) -> 0 | N135: 5FE27540EE2872C76BA059A744B979404CB60F | Q135: 010105 | R135: F | S135: F | T135: T | AU135: 0101055FE27540EE2872C76BA059A744B979404CB60F | AV135: 479
A136: 일반구조용압연강판 | B136: 일반구조용압연강판, 15mm | C136: TON | D136: 0.022 | E136: 0 | F136: =TRUNC(E136*D136, 0) -> 0 | G136: 0 | H136: =TRUNC(G136*D136, 0) -> 0 | I136: 0 | J136: =TRUNC(I136*D136, 0) -> 0 | K136: =TRUNC(E136+G136+I136, 0) -> 0 | L136: =TRUNC(F136+H136+J136, 0) -> 0 | N136: 5FE27540EE2872C76BA059A744B979404CB608 | Q136: 010105 | R136: F | S136: F | T136: T | AU136: 0101055FE27540EE2872C76BA059A744B979404CB608 | AV136: 480
... A148: 턴버클(아연도금) | B148: 20mm | C148: 개 | D148: 25 | E148: 0 | F148: =TRUNC(E148*D148, 0) -> 0 | G148: 0 | H148: =TRUNC(G148*D148, 0) -> 0 | I148: 0 | J148: =TRUNC(I148*D148, 0) -> 0 | K148: =TRUNC(E148+G148+I148, 0) -> 0 | L148: =TRUNC(F148+H148+J148, 0) -> 0 | N148: 5FE265BBCF217D9B0E7050EF7512D2F75A8B60 | Q148: 010105 | R148: F | S148: F | T148: T | AU148: 0101055FE265BBCF217D9B0E7050EF7512D2F75A8B60 | AV148: 93
A149: 앵커 볼트 설치 | B149: ∮20 이하, 콘크리트 독립주 위 OR 비계 불량한 장소 | C149: 개 | D149: 16 | E149: 0 | F149: =TRUNC(E149*D149, 0) -> 0 | G149: 0 | H149: =TRUNC(G149*D149, 0) -> 0 | I149: 0 | J149: =TRUNC(I149*D149, 0) -> 0 | K149: =TRUNC(E149+G149+I149, 0) -> 0 | L149: =TRUNC(F149+H149+J149, 0) -> 0 | M149: 호표 55 | N149: 58C1358E262A7FC0C7A05789B9583D | Q149: 010105 | R149: T | S149: F | T149: F | AU149: 01010558C1358E262A7FC0C7A05789B9583D | AV149: 483
A150: 부대철골 설치 | C150: TON | D150: 5.106 | E150: 0 | F150: =TRUNC(E150*D150, 0) -> 0 | G150: 0 | H150: =TRUNC(G150*D150, 0) -> 0 | I150: 0 | J150: =TRUNC(I150*D150, 0) -> 0 | K150: =TRUNC(E150+G150+I150, 0) -> 0 | L150: =TRUNC(F150+H150+J150, 0) -> 0 | M150: 호표 56 | N150: 58C135889D26738F5B305AD1ADEA50 | Q150: 010105 | R150: T | S150: F | T150: F | AU150: 01010558C135889D26738F5B305AD1ADEA50 | AV150: 96
A151: 주각부 무수축 모르타르 충전 | B151: 600*600*50mm | C151: 개소 | D151: 2 | E151: 0 | F151: =TRUNC(E151*D151, 0) -> 0 | G151: 0 | H151: =TRUNC(G151*D151, 0) -> 0 | I151: 0 | J151: =TRUNC(I151*D151, 0) -> 0 | K151: =TRUNC(E151+G151+I151, 0) -> 0 | L151: =TRUNC(F151+H151+J151, 0) -> 0 | M151: 호표 57 | N151: 58C13589AD2B70637E9050966D96A2 | Q151: 010105 | R151: T | S151: F | T151: F | AU151: 01010558C13589AD2B70637E9050966D96A2 | AV151: 484
A152: 에폭시그라우팅 | B152: EMBEDDED PL+옹벽-접합부 | C152: M2 | D152: 1 | E152: 0 | F152: =TRUNC(E152*D152, 0) -> 0 | G152: 0 | H152: =TRUNC(G152*D152, 0) -> 0 | I152: 0 | J152: =TRUNC(I152*D152, 0) -> 0 | K152: =TRUNC(E152+G152+I152, 0) -> 0 | L152: =TRUNC(F152+H152+J152, 0) -> 0 | M152: 호표 58 | N152: 58C13589AD2B70637D805A4DCDE9AD | Q152: 010105 | R152: T | S152: F | T152: F | AU152: 01010558C13589AD2B70637D805A4DCDE9AD | AV152: 485
A153: 녹막이페인트 뿜칠 | B153: 철재면, 1회, 1종 | C153: M2 | D153: 115 | E153: 0 | F153: =TRUNC(E153*D153, 0) -> 0 | G153: 0 | H153: =TRUNC(G153*D153, 0) -> 0 | I153: 0 | J153: =TRUNC(I153*D153, 0) -> 0 | K153: =TRUNC(E153+G153+I153, 0) -> 0 | L153: =TRUNC(F153+H153+J153, 0) -> 0 | M153: 호표 59 | N153: 58C1358B502072ECA35051569C5054 | Q153: 010105 | R153: T | S153: F | T153: F | AU153: 01010558C1358B502072ECA35051569C5054 | AV153: 486
A154: 운반비(트레일러 20ton+크레인 10ton) | B154: 철골, L:20km | C154: TON | D154: 5.458 | E154: 0 | F154: =TRUNC(E154*D154, 0) -> 0 | G154: 0 | H154: =TRUNC(G154*D154, 0) -> 0 | I154: 0 | J154: =TRUNC(I154*D154, 0) -> 0 | K154: =TRUNC(E154+G154+I154, 0) -> 0 | L154: =TRUNC(F154+H154+J154, 0) -> 0 | M154: 산근 1 | N154: 58C0253B6F2273F00440569E8C0C91 | Q154: 010105 | R154: F | S154: T | T154: F | AU154: 01010558C0253B6F2273F00440569E8C0C91 | AV154: 447
A171: [ 합 계 ] | F171: =SUMIF(AR125:AR170,"",F125:F170) -> 0 | H171: =SUMIF(AR125:AR170,"",H125:H170) -> 0 | J171: =SUMIF(AR125:AR170,"",J125:J170) -> 0 | L171: =SUMIF(AR125:AR170,"",L125:L170) -> 0 | N171: TOTAL
A172: 010106 조 적 공 사 | B172: 01.건축 | Q172: 010106
A173: 미장벽돌 | B173: 미장벽돌, 190*90*57mm, 슈퍼칼라 SH3301 | C173: 매 | D173: 112603 | E173: 0 | F173: =TRUNC(E173*D173, 0) -> 0 | G173: 0 | H173: =TRUNC(G173*D173, 0) -> 0 | I173: 0 | J173: =TRUNC(I173*D173, 0) -> 0 | K173: =TRUNC(E173+G173+I173, 0) -> 0 | L173: =TRUNC(F173+H173+J173, 0) -> 0 | N173: 5FE27540ED2F7B756D605851188494CCB7CE9D | Q173: 010106 | R173: F | S173: F | T173: T | AU173: 0101065FE27540ED2F7B756D605851188494CCB7CE9D | AV173: 487
A174: 콘크리트벽돌 | B174: 콘크리트벽돌, 190*57*90mm | C174: 매 | D174: 126700 | E174: 0 | F174: =TRUNC(E174*D174, 0) -> 0 | G174: 0 | H174: =TRUNC(G174*D174, 0) -> 0 | I174: 0 | J174: =TRUNC(I174*D174, 0) -> 0 | K174: =TRUNC(E174+G174+I174, 0) -> 0 | L174: =TRUNC(F174+H174+J174, 0) -> 0 | N174: 5FE27540ED2F7B756D60597BF68CCF2D2099DB | Q174: 010106 | R174: F | S174: F | T174: T | AU174: 0101065FE27540ED2F7B756D60597BF68CCF2D2099DB | AV174: 103
A175: 0.5B 벽돌쌓기 | B175: 3.6m 이하 | C175: M2 | D175: 191 | E175: 0 | F175: =TRUNC(E175*D175, 0) -> 0 | G175: 0 | H175: =TRUNC(G175*D175, 0) -> 0 | I175: 0 | J175: =TRUNC(I175*D175, 0) -> 0 | K175: =TRUNC(E175+G175+I175, 0) -> 0 | L175: =TRUNC(F175+H175+J175, 0) -> 0 | M175: 호표 60 | N175: 58C10559382B768D1FB05F2442BBAC | Q175: 010106 | R175: T | S175: F | T175: F | AU175: 01010658C10559382B768D1FB05F2442BBAC | AV175: 104
A176: 0.5B 벽돌쌓기 | B176: 3.6m 초과 ~ 7.2m 이하 | C176: M2 | D176: 37 | E176: 0 | F176: =TRUNC(E176*D176, 0) -> 0 | G176: 0 | H176: =TRUNC(G176*D176, 0) -> 0 | I176: 0 | J176: =TRUNC(I176*D176, 0) -> 0 | K176: =TRUNC(E176+G176+I176, 0) -> 0 | L176: =TRUNC(F176+H176+J176, 0) -> 0 | M176: 호표 61 | N176: 58C10559382B768D1FB05F24419483 | Q176: 010106 | R176: T | S176: F | T176: F | AU176: 01010658C10559382B768D1FB05F24419483 | AV176: 105
A177: 1.0B 벽돌쌓기 | B177: 3.6m 이하 | C177: M2 | D177: 556 | E177: 0 | F177: =TRUNC(E177*D177, 0) -> 0 | G177: 0 | H177: =TRUNC(G177*D177, 0) -> 0 | I177: 0 | J177: =TRUNC(I177*D177, 0) -> 0 | K177: =TRUNC(E177+G177+I177, 0) -> 0 | L177: =TRUNC(F177+H177+J177, 0) -> 0 | M177: 호표 62 | N177: 58C10559382B768FCC30536D787010 | Q177: 010106 | R177: T | S177: F | T177: F | AU177: 01010658C10559382B768FCC30536D787010 | AV177: 106
A178: 1.0B 벽돌쌓기 | B178: 3.6m 초과 ~ 7.2m 이하 | C178: M2 | D178: 139 | E178: 0 | F178: =TRUNC(E178*D178, 0) -> 0 | G178: 0 | H178: =TRUNC(G178*D178, 0) -> 0 | I178: 0 | J178: =TRUNC(I178*D178, 0) -> 0 | K178: =TRUNC(E178+G178+I178, 0) -> 0 | L178: =TRUNC(F178+H178+J178, 0) -> 0 | M178: 호표 63 | N178: 58C10559382B768FCC30536D7BC535 | Q178: 010106 | R178: T | S178: F | T178: F | AU178: 01010658C10559382B768FCC30536D7BC535 | AV178: 107
A179: 0.5B 적벽돌 한면 치장쌓기 | B179: 외벽,매9단마다들여쌓기 | C179: M2 | D179: 1458 | E179: 0 | F179: =TRUNC(E179*D179, 0) -> 0 | G179: 0 | H179: =TRUNC(G179*D179, 0) -> 0 | I179: 0 | J179: =TRUNC(I179*D179, 0) -> 0 | K179: =TRUNC(E179+G179+I179, 0) -> 0 | L179: =TRUNC(F179+H179+J179, 0) -> 0 | M179: 호표 64 | N179: 58C10559382B75EDC5205A8C8B73C0 | Q179: 010106 | R179: T | S179: F | T179: F | AU179: 01010658C10559382B75EDC5205A8C8B73C0 | AV179: 488
A180: 벽돌운반 | B180: 인력, 1층 | C180: 천매 | D180: 101.132 | E180: 0 | F180: =TRUNC(E180*D180, 0) -> 0 | G180: 0 | H180: =TRUNC(G180*D180, 0) -> 0 | I180: 0 | J180: =TRUNC(I180*D180, 0) -> 0 | K180: =TRUNC(E180+G180+I180, 0) -> 0 | L180: =TRUNC(F180+H180+J180, 0) -> 0 | M180: 호표 65 | N180: 58C105593A26750E05E0532D512EC0 | Q180: 010106 | R180: T | S180: F | T180: F | AU180: 01010658C105593A26750E05E0532D512EC0 | AV180: 112
A181: 벽돌운반 | B181: 인력, 2층 | C181: 천매 | D181: 101.386 | E181: 0 | F181: =TRUNC(E181*D181, 0) -> 0 | G181: 0 | H181: =TRUNC(G181*D181, 0) -> 0 | I181: 0 | J181: =TRUNC(I181*D181, 0) -> 0 | K181: =TRUNC(E181+G181+I181, 0) -> 0 | L181: =TRUNC(F181+H181+J181, 0) -> 0 | M181: 호표 66 | N181: 58C105593A26750E05E0532C4A3C08 | Q181: 010106 | R181: T | S181: F | T181: F | AU181: 01010658C105593A26750E05E0532C4A3C08 | AV181: 113
...
