Workbook

Sheet 설계서용지
B1: 설 계 서 용 지
B3: 확 인 | E3: 설 계 | H3: 2025년 9월 일 설 계
D5: 2025학년도
D7: 공 사 명 : | F7: =갑지A!C6 -> 튜링연구소 실험실 공간조정 건축공사
D9: 설계공사금액 : | F9: =" 금"&TEXT(원가계산서!E25, "#,###원")&" (금 "&NUMBERSTRING(원가계산서!E25, 1)&"원)" -> 금원 (금 영원)

Sheet 갑지A
B1: 설 계 서 용 지 (갑 지)
B2: 과장 | E2: 담당 | H2: 검수자 | K2: 설계자
C4: 2025년
C6: 튜링연구소 실험실 공간조정 건축공사
C8: 개 요 : 사용성평가연구센터 실험실 공간조정 공사
C10: 총공사비 :
D12: 도급금액 | E12: 공급가액 | G12: =TEXT(원가계산서!E22, "#,###")
E13: 부가세 | G13: =TEXT(원가계산서!E23, "#,###")
E14: 도급액 | G14: =TEXT(원가계산서!E24, "#,###")
D15: 총 공 사 비 | G15: =TEXT(G14, "#,###")

Sheet 원가계산서
A1: 공 사 원 가 계 산 서
A2: [ 튜링연구소 실험실 공간조정 건축공사 ] | F2: ="금액: 일금 "&NUMBERSTRING(E25,1)&"원정("&TEXT(E25,"#,###원")&")" -> 금액: 일금 영원정(원)
B3: 비 목 | E3: 금 액 | F3: 구 성 비 | G3: 비 고 | H3: A | I3: 8
A4: A10 | B4: 순 공 사 원 가 | C4: 재 료 비 | D4: 직 접 재 료 비 | E4: =TRUNC(공종별집계표!F5, 0) -> 0 | H4: 100 | I4: 직 접 재 료 비 | J4: 0 | K4: 6520476 | L4: 6520476 | M4: 0 | N4: 20120321 | O4: ZZ0000100000
A5: A20 | D5: 간 접 재 료 비 | E5: 0 | H5: 110 | I5: 간 접 재 료 비 | J5: 0 | L5: 0 | M5: 0 | O5: YZA001000000
A6: A30 | D6: 작업설,부산물(△) | E6: 0 | H6: 120 | I6: 작업설,부산물(△) | J6: 0 | L6: 0 | M6: 0 | O6: YZA002000000
A7: AZZ | D7: [ 소 계 ] | E7: =TRUNC(E4+E5-E6, 0) -> 0 | H7: 190 | I7: [ 소 계 ] | J7: 0 | K7: A10+A20-A30 | L7: 6520476 | M7: 0 | O7: YZS001000000
A8: B10 | C8: 노 무 비 | D8: 직 접 노 무 비 | E8: =TRUNC(공종별집계표!H5, 0) -> 0 | H8: 200 | I8: 직 접 노 무 비 | J8: 0 | K8: 12164905 | L8: 12164905 | M8: 0 | O8: ZZA000100000
A9: B20 | D9: 간 접 노 무 비 | E9: =TRUNC(E8*0.06, 0) -> 0 | F9: 직접노무비* 6% | H9: 210 | I9: 간 접 노 무 비 | J9: 6 | K9: B10*%% | L9: 729894 | M9: 0 | O9: ZZA000200000
A10: BZZ | D10: [ 소 계 ] | E10: =TRUNC(E8+E9, 0) -> 0 | H10: 290 | I10: [ 소 계 ] | J10: 0 | K10: B10+B20 | L10: 12894799 | M10: 0 | O10: YZS002000000
A11: C30 | C11: 경 비 | D11: 산출경비(기계경비) | E11: =TRUNC(공종별집계표!J5, 0) -> 0 | H11: 3100 | I11: 산출경비(기계경비) | J11: 0 | K11: 20928 | L11: 20928 | M11: 0 | O11: ZZB000100000
A12: C90 | D12: 산 재 보 험 료 | F12: 노무비*3.56% | G12: 모든 건설공사 | H12: 3300 | I12: 산 재 보 험 료 | J12: 3.56 | K12: BZZ*%% | L12: 459054 | M12: 0 | O12: ZZB110100000
A13: CA0 | D13: 고 용 보 험 료 | F13: 노무비 * 1.01% | G13: [7등급+7등급미만] 130억 미만 ~ 81억(고시금액) 이상 | H13: 3400 | I13: 고 용 보 험 료 | J13: 1.01 | K13: BZZ*%% | L13: 130237 | M13: 0 | O13: ZZB120100000
A14: CH0 | D14: 산업안전보건관리비 | E14: 592515 | F14: (재료비+직노+도급자관급) * 3.11% | G14: 5억미만, 일반건설공사(갑) | H14: 3900 | I14: 산업안전보건관리비 | J14: 2.93 | K14: (AZZ+B10+Q10/1.1)*%% | L14: 547481 | M14: 0 | O14: ZZB300100000
A15: CQ0 | D15: 환경보전비 | F15: (재료비+직노+기계경비) * 0.3% | H15: 4600 | I15: 환경보전비 | J15: 0.3 | K15: (AZZ+B10+C30)*%% | L15: 56118 | M15: 0 | O15: ZZB700100000
A16: CT0 | D16: 기 타 경 비 | E16: =TRUNC((E7+E10)*0.03, 0) -> 0 | F16: (재료비+노무비)*3.0% | H16: 4700 | I16: 기 타 경 비 | J16: 5.2 | K16: (AZZ+BZZ)*%% | L16: 1009594 | M16: 0 | O16: ZZB400100000
A17: CZZ | D17: [ 소 계 ] | H17: 9910 | I17: [ 소 계 ] | J17: 0 | K17: C20+C30+C70+C90+CA0+CB0+CC0+CE0+C60+CH0+CD0+CH3+CH4+CQ0+CT0+CU0+CV0+CW0 | L17: 2223412 | M17: 0 | O17: YZS003000000
A18: DZZ | B18: 계 | E18: =TRUNC(E7+E10+E17, 0) -> 0 | H18: 900710 | I18: 계 | J18: 0 | K18: AZZ+BZZ+CZZ | L18: 21638687 | M18: 0 | O18: YZS004000000
A19: E10 | B19: 일 반 관 리 비 | E19: =TRUNC(E18*0.03, 0) -> 0 | F19: 계 * 3% | H19: 900810 | I19: 일 반 관 리 비 | J19: 3 | K19: DZZ*%% | L19: 649160 | M19: 0 | O19: ZZC000100000
A20: E20 | B20: 이 윤 | E20: =TRUNC((E10+E17+E19)*0.1, 0) -> 0 | F20: (노무비+경비+일반관리비) * 10% | H20: 900820 | I20: 이 윤 | J20: 10 | K20: (BZZ+CZZ+E10)*%% | L20: 1576737 | M20: 0 | O20: ZZD000100000
A21: F70 | B21: 폐기물처리비 | E21: =공종별집계표!L12 -> 0 | H21: 900880 | I21: 폐기물처리비 | J21: 0 | L21: 0 | M21: 0 | O21: YZD006000000
A22: P10 | B22: 공 급 가 액 | E22: =ROUND(E18+E19+E20+0+0+0+0+0+E21, -5) -> 0 | F22: 만단위 절사 | H22: 900900 | I22: 공 급 가 액 | J22: 0 | K22: DZZ+E10+E20+CE1+F30+F40+F10+F60+F70 | L22: 23864584 | M22: 0 | O22: YZD007000000
A23: P20 | B23: 부 가 가 치 세 | E23: =ROUND(E22*0.1, 0) -> 0 | F23: 공급가액 * 10% | H23: 900920 | I23: 부 가 가 치 세 | J23: 10 | K23: P10*%% | L23: 2386458 | M23: 0 | O23: ZZF000100000
A24: P30 | B24: 도 급 액 | E24: =ROUND(E22+E23, 0) -> 0 | H24: 900990 | I24: 도 급 액 | J24: 0 | K24: P10+P20 | L24: 26251042 | M24: 0 | O24: YZD014000000
A25: W10 | B25: 총 공 사 비 | E25: =TRUNC(E24+0+0+0+0+0+0, 0) -> 0 | H25: 1001100 | I25: 총 공 사 비 | J25: 0 | K25: P30+Q10+Q20+Q30+Q40+Q50+Q60 | L25: 26251042 | M25: 0 | O25: YZS005000000
A26: ZZZ | B26: 결 정 금 액 | E26: 0 | H26: 1001300 | I26: 결 정 금 액 | J26: 0 | L26: 0 | M26: 0 | O26: YZS007000000

Sheet 공종별집계표
A1: 공 종 별 집 계 표
A2: [ 튜링연구소 공간조정 건축공사 ]
A3: 품 목 | B3: 규격 | C3: 단위 | D3: 수량 | E3: 재 료 비 | G3: 노 무 비 | I3: 경 비 | K3: 합 계 | M3: 비 고
E4: 단 가 | F4: 금 액 | G4: 단 가 | H4: 금 액 | I4: 단 가 | J4: 금 액 | K4: 단 가 | L4: 금 액
A5: 01 사용성평가연구센터 실험실 공간조정 공사 | D5: 1 | E5: =F6+F7+F8+F9+F10+F11 -> 0 | F5: =D5*E5 -> 0 | G5: =H6+H7+H8+H9+H10+H11 -> 0 | H5: =D5*G5 -> 0 | I5: =J6+J7+J8+J9+J10+J11 -> 0 | J5: =D5*I5 -> 0 | K5: =E5+G5+I5 -> 0 | L5: =F5+H5+J5 -> 0 | N5: 01 | O5: 100000
A6: 0101 가설공사 | D6: 1 | E6: =공종별내역서!F30 -> 0 | F6: =D6*E6 -> 0 | G6: =공종별내역서!H30 -> 0 | H6: =D6*G6 -> 0 | I6: =공종별내역서!J30 -> 0 | J6: =D6*I6 -> 0 | K6: =E6+G6+I6 -> 0 | L6: =F6+H6+J6 -> 0 | N6: 0101 | O6: 100001
A7: 0102 경량/금속공사 | D7: 1 | E7: =공종별내역서!F56 -> 0 | F7: =D7*E7 -> 0 | G7: =공종별내역서!H56 -> 0 | H7: =D7*G7 -> 0 | I7: =공종별내역서!J56 -> 0 | J7: =D7*I7 -> 0 | K7: =E7+G7+I7 -> 0 | L7: =F7+H7+J7 -> 0 | N7: 0102 | O7: 100002
A8: 0103 목공사 | D8: 1 | E8: =공종별내역서!F82 -> 0 | F8: =D8*E8 -> 0 | G8: =공종별내역서!H82 -> 0 | H8: =D8*G8 -> 0 | I8: =공종별내역서!J82 -> 0 | J8: =D8*I8 -> 0 | K8: =E8+G8+I8 -> 0 | L8: =F8+H8+J8 -> 0 | N8: 0103 | O8: 100003
A9: 0104 수장공사 | D9: 1 | E9: =공종별내역서!F108 -> 0 | F9: =D9*E9 -> 0 | G9: =공종별내역서!H108 -> 0 | H9: =D9*G9 -> 0 | I9: =공종별내역서!J108 -> 0 | J9: =D9*I9 -> 0 | K9: =E9+G9+I9 -> 0 | L9: =F9+H9+J9 -> 0 | N9: 0104 | O9: 100004
A10: 0105 도장공사 | D10: 1 | E10: =공종별내역서!F134 -> 0 | F10: =D10*E10 -> 0 | G10: =공종별내역서!H134 -> 0 | H10: =D10*G10 -> 0 | I10: =공종별내역서!J134 -> 0 | J10: =D10*I10 -> 0 | K10: =E10+G10+I10 -> 0 | L10: =F10+H10+J10 -> 0 | N10: 0105 | O10: 100005
A11: 0106 철거공사 | D11: 1 | E11: =공종별내역서!F160 -> 0 | F11: =D11*E11 -> 0 | G11: =공종별내역서!H160 -> 0 | H11: =D11*G11 -> 0 | I11: =공종별내역서!J160 -> 0 | J11: =D11*I11 -> 0 | K11: =E11+G11+I11 -> 0 | L11: =F11+H11+J11 -> 0 | N11: 0106 | O11: 100008
A12: 0107 폐기물처리비 | D12: 1 | E12: =공종별내역서!F186 -> 0 | F12: =D12*E12 -> 0 | G12: =공종별내역서!H186 -> 0 | H12: =D12*G12 -> 0 | I12: =공종별내역서!J186 -> 0 | J12: =D12*I12 -> 0 | K12: =E12+G12+I12 -> 0 | L12: =F12+H12+J12 -> 0 | M12: 합산제외 | N12: 0107 | O12: 100009 | P12: 6
A29: [ 합 계 ] | F29: =F5 -> 0 | H29: =H5 -> 0 | J29: =J5 -> 0 | L29: =L5 -> 0

Sheet 공종별내역서
A1: 공 종 별 내 역 서
A2: [ 튜링연구소 공간조정 건축공사 ]
A3: 품 목 | B3: 규격 | C3: 단위 | D3: 수량 | E3: 재 료 비 | G3: 노 무 비 | I3: 경 비 | K3: 합 계 | M3: 비 고 | N3: 품목코드 | O3: 변수 | P3: 설정 | Q3: 공종코드 | R3: SEQNO | S3: ITEMSEQNO | T3: 일위 | U3: 단산 | V3: 자재 | W3: 산근 | X3: 손료적용 | Y3: 손료저장 | Z3: 적용률 | AA3: JUK1 | AB3: JUK2 | AC3: JUK3 | AD3: JUK4 | AE3: JUK5 | AF3: JUK6 | AG3: JUK7 | AH3: JUK8 | AI3: JUK9 | AJ3: JUK10 | AK3: JUK11 | AL3: JUK12 | AM3: JUK13 | AN3: JUK14 | AO3: JUK15 | AP3: JUK16 | AQ3: JUK17 | AR3: JUK18 | AS3: JUK19 | AT3: JUK20 | AU3: 메모장 | AV3: 조정률
E4: 단 가 | F4: 금 액 | G4: 단 가 | H4: 금 액 | I4: 단 가 | J4: 금 액 | K4: 단 가 | L4: 금 액
A5: 0101 가설공사 | Q5: 0101 | R5: 100001 | S5: 0
A6: 건축물 현장정리 및 준공청소 | C6: M2 | D6: 43 | K6: =TRUNC(E6+G6+I6,-1) -> 0 | L6: =ROUNDUP(F6+H6+J6,0) -> 0 | N6: =HYPERLINK("#일위대가목록!A4", "ZA0000000000") -> ZA0000000000 | Q6: 0101 | R6: 100001 | S6: 10 | T6: T | U6: F | V6: F | X6: 0 | Y6: 0 | Z6: 0 | AA6: 0 | AB6: 0 | AC6: 0 | AD6: 0 | AE6: 0 | AF6: 0 | AG6: 0 | AH6: 0 | AI6: 2 | AJ6: 0 | AK6: 0 | AL6: 0 | AM6: 0 | AN6: 0 | AO6: 0 | AP6: 0 | AQ6: 0 | AR6: 0 | AS6: 0 | AT6: 0 | AV6: 100
A7: 이동동선 및 주위시설 보양 | B7: 비닐,부직포,틴텐지 외 | C7: 식 | D7: 1 | K7: =TRUNC(E7+G7+I7,-1) -> 0 | L7: =ROUNDUP(F7+H7+J7,0) -> 0 | N7: =HYPERLINK("#일위대가목록!A5", "ZA0000000001") -> ZA0000000001 | Q7: 0101 | R7: 100001 | S7: 20 | T7: T | U7: F | V7: F | X7: 0 | Y7: 0 | Z7: 0 | AA7: 0 | AB7: 0 | AC7: 0 | AD7: 0 | AE7: 0 | AF7: 0 | AG7: 0 | AH7: 0 | AI7: 2 | AJ7: 0 | AK7: 0 | AL7: 0 | AM7: 0 | AN7: 0 | AO7: 0 | AP7: 0 | AQ7: 0 | AR7: 0 | AS7: 0 | AT7: 0 | AV7: 100
D8: 0 | E8: 0 | F8: =ROUNDUP(D8*E8,0) -> 0 | G8: 0 | H8: =ROUNDUP(D8*G8,0) -> 0 | I8: 0 | J8: =ROUNDUP(D8*I8,0) -> 0 | K8: =TRUNC(E8+G8+I8,-1) -> 0 | L8: =ROUNDUP(F8+H8+J8,0) -> 0 | AV8: 0
D9: 0 | E9: 0 | F9: =ROUNDUP(D9*E9,0) -> 0 | G9: 0 | H9: =ROUNDUP(D9*G9,0) -> 0 | I9: 0 | J9: =ROUNDUP(D9*I9,0) -> 0 | K9: =TRUNC(E9+G9+I9,-1) -> 0 | L9: =ROUNDUP(F9+H9+J9,0) -> 0 | AV9: 0
D10: 0 | E10: 0 | F10: =ROUNDUP(D10*E10,0) -> 0 | G10: 0 | H10: =ROUNDUP(D10*G10,0) -> 0 | I10: 0 | J10: =ROUNDUP(D10*I10,0) -> 0 | K10: =TRUNC(E10+G10+I10,-1) -> 0 | L10: =ROUNDUP(F10+H10+J10,0) -> 0 | AV10: 0
D11: 0 | E11: 0 | F11: =ROUNDUP(D11*E11,0) -> 0 | G11: 0 | H11: =ROUNDUP(D11*G11,0) -> 0 | I11: 0 | J11: =ROUNDUP(D11*I11,0) -> 0 | K11: =TRUNC(E11+G11+I11,-1) -> 0 | L11: =ROUNDUP(F11+H11+J11,0) -> 0 | AV11: 0
D12: 0 | E12: 0 | F12: =ROUNDUP(D12*E12,0) -> 0 | G12: 0 | H12: =ROUNDUP(D12*G12,0) -> 0 | I12: 0 | J12: =ROUNDUP(D12*I12,0) -> 0 | K12: =TRUNC(E12+G12+I12,-1) -> 0 | L12: =ROUNDUP(F12+H12+J12,0) -> 0 | AV12: 0
D13: 0 | E13: 0 | F13: =ROUNDUP(D13*E13,0) -> 0 | G13: 0 | H13: =ROUNDUP(D13*G13,0) -> 0 | I13: 0 | J13: =ROUNDUP(D13*I13,0) -> 0 | K13: =TRUNC(E13+G13+I13,-1) -> 0 | L13: =ROUNDUP(F13+H13+J13,0) -> 0 | AV13: 0
D14: 0 | E14: 0 | F14: =ROUNDUP(D14*E14,0) -> 0 | G14: 0 | H14: =ROUNDUP(D14*G14,0) -> 0 | I14: 0 | J14: =ROUNDUP(D14*I14,0) -> 0 | K14: =TRUNC(E14+G14+I14,-1) -> 0 | L14: =ROUNDUP(F14+H14+J14,0) -> 0 | AV14: 0
D15: 0 | E15: 0 | F15: =ROUNDUP(D15*E15,0) -> 0 | G15: 0 | H15: =ROUNDUP(D15*G15,0) -> 0 | I15: 0 | J15: =ROUNDUP(D15*I15,0) -> 0 | K15: =TRUNC(E15+G15+I15,-1) -> 0 | L15: =ROUNDUP(F15+H15+J15,0) -> 0 | AV15: 0
D16: 0 | E16: 0 | F16: =ROUNDUP(D16*E16,0) -> 0 | G16: 0 | H16: =ROUNDUP(D16*G16,0) -> 0 | I16: 0 | J16: =ROUNDUP(D16*I16,0) -> 0 | K16: =TRUNC(E16+G16+I16,-1) -> 0 | L16: =ROUNDUP(F16+H16+J16,0) -> 0 | AV16: 0
D17: 0 | E17: 0 | F17: =ROUNDUP(D17*E17,0) -> 0 | G17: 0 | H17: =ROUNDUP(D17*G17,0) -> 0 | I17: 0 | J17: =ROUNDUP(D17*I17,0) -> 0 | K17: =TRUNC(E17+G17+I17,-1) -> 0 | L17: =ROUNDUP(F17+H17+J17,0) -> 0 | AV17: 0
D18: 0 | E18: 0 | F18: =ROUNDUP(D18*E18,0) -> 0 | G18: 0 | H18: =ROUNDUP(D18*G18,0) -> 0 | I18: 0 | J18: =ROUNDUP(D18*I18,0) -> 0 | K18: =TRUNC(E18+G18+I18,-1) -> 0 | L18: =ROUNDUP(F18+H18+J18,0) -> 0 | AV18: 0
D19: 0 | E19: 0 | F19: =ROUNDUP(D19*E19,0) -> 0 | G19: 0 | H19: =ROUNDUP(D19*G19,0) -> 0 | I19: 0 | J19: =ROUNDUP(D19*I19,0) -> 0 | K19: =TRUNC(E19+G19+I19,-1) -> 0 | L19: =ROUNDUP(F19+H19+J19,0) -> 0 | AV19: 0
... D29: 0 | E29: 0 | F29: =ROUNDUP(D29*E29,0) -> 0 | G29: 0 | H29: =ROUNDUP(D29*G29,0) -> 0 | I29: 0 | J29: =ROUNDUP(D29*I29,0) -> 0 | K29: =TRUNC(E29+G29+I29,-1) -> 0 | L29: =ROUNDUP(F29+H29+J29,0) -> 0 | AV29: 0
A30: [ 합 계 ] | E30: 0 | F30: =ROUNDUP(SUMIF(Q6:Q29, Q5,F6:F29),0) -> 0 | G30: 0 | H30: =ROUNDUP(SUMIF(Q6:Q29, Q5,H6:H29),0) -> 0 | I30: 0 | J30: =ROUNDUP(SUMIF(Q6:Q29, Q5,J6:J29),0) -> 0 | L30: =F30+H30+J30 -> 0
A31: 0102 경량/금속공사 | Q31: 0102 | R31: 100002 | S31: 0
A32: 경량칸막이신설 | B32: 100형스터드+24K50T그라스울+9.5T 석고2P(양면) | C32: M2 | D32: 25 | K32: =TRUNC(E32+G32+I32,-1) -> 0 | L32: =ROUNDUP(F32+H32+J32,0) -> 0 | N32: =HYPERLINK("#일위대가목록!A6", "ZA0000000002") -> ZA0000000002 | Q32: 0102 | R32: 100002 | S32: 10 | T32: T | U32: F | V32: F | X32: 0 | Y32: 0 | Z32: 0 | AA32: 0 | AB32: 0 | AC32: 0 | AD32: 0 | AE32: 0 | AF32: 0 | AG32: 0 | AH32: 0 | AI32: 3 | AJ32: 0 | AK32: 0 | AL32: 0 | AM32: 0 | AN32: 0 | AO32: 0 | AP32: 0 | AQ32: 0 | AR32: 0 | AS32: 0 | AT32: 0 | AV32: 100
A33: 경량단면벽체신설 | B33: 50형스터드+24K50T폴리에스터+12.5T 석고2P(양면)+차음시트포함(외부면 흘러내림방지 석고1P포함) | C33: M2 | D33: 11 | K33: =TRUNC(E33+G33+I33,-1) -> 0 | L33: =ROUNDUP(F33+H33+J33,0) -> 0 | N33: =HYPERLINK("#일위대가목록!A7", "ZA0000000004") -> ZA0000000004 | Q33: 0102 | R33: 100002 | S33: 15 | T33: T | U33: F | V33: F | X33: 0 | Y33: 0 | Z33: 0 | AA33: 0 | AB33: 0 | AC33: 0 | AD33: 0 | AE33: 0 | AF33: 0 | AG33: 0 | AH33: 0 | AI33: 3 | AJ33: 0 | AK33: 0 | AL33: 0 | AM33: 0 | AN33: 0 | AO33: 0 | AP33: 0 | AQ33: 0 | AR33: 0 | AS33: 0 | AT33: 0 | AV33: 100
A34: 시창신설 | B34: 1800*1200,목재틀+필름마감+10T강화유리+원웨이밀러필름 | C34: 개소 | D34: 2 | K34: =TRUNC(E34+G34+I34,-1) -> 0 | L34: =ROUNDUP(F34+H34+J34,0) -> 0 | N34: =HYPERLINK("#일위대가목록!A8", "ZA0000000003") -> ZA0000000003 | Q34: 0102 | R34: 100002 | S34: 20 | T34: T | U34: F | V34: F | X34: 0 | Y34: 0 | Z34: 0 | AA34: 0 | AB34: 0 | AC34: 0 | AD34: 0 | AE34: 0 | AF34: 0 | AG34: 0 | AH34: 0 | AI34: 3 | AJ34: 0 | AK34: 0 | AL34: 0 | AM34: 0 | AN34: 0 | AO34: 0 | AP34: 0 | AQ34: 0 | AR34: 0 | AS34: 0 | AT34: 0 | AV34: 100
A35: 경량철골천정틀 | B35: M-BAR,일부자재재사용 | C35: M2 | D35: 32 | K35: =TRUNC(E35+G35+I35,-1) -> 0 | L35: =ROUNDUP(F35+H35+J35,0) -> 0 | N35: =HYPERLINK("#일위대가목록!A9", "AJI100300010") -> AJI100300010 | Q35: 0102 | R35: 100002 | S35: 30 | T35: T | U35: F | V35: F | X35: 0 | Y35: 0 | Z35: 0 | AA35: 0 | AB35: 0 | AC35: 0 | AD35: 0 | AE35: 0 | AF35: 0 | AG35: 0 | AH35: 0 | AI35: 3 | AJ35: 0 | AK35: 0 | AL35: 0 | AM35: 0 | AN35: 0 | AO35: 0 | AP35: 0 | AQ35: 0 | AR35: 0 | AS35: 0 | AT35: 0 | AV35: 100
A36: 천장텍스붙임(텍스포함) | B36: 친환경흡음텍스 12*300*600mm,천장틀별도 | C36: M2 | D36: 32 | K36: =TRUNC(E36+G36+I36,-1) -> 0 | L36: =ROUNDUP(F36+H36+J36,0) -> 0 | N36: =HYPERLINK("#일위대가목록!A10", "AE2010000500") -> AE2010000500 | Q36: 0102 | R36: 100002 | S36: 40 | T36: T | U36: F | V36: F | X36: 0 | Y36: 0 | Z36: 0 | AA36: 0 | AB36: 0 | AC36: 0 | AD36: 0 | AE36: 0 | AF36: 0 | AG36: 0 | AH36: 0 | AI36: 3 | AJ36: 0 | AK36: 0 | AL36: 0 | AM36: 0 | AN36: 0 | AO36: 0 | AP36: 0 | AQ36: 0 | AR36: 0 | AS36: 0 | AT36: 0 | AV36: 100
A37: 금속게시판 | B37: 1.6T갈바절곡/프로폰도장+금속기성테두리몰딩+사인물포함 | C37: EA | D37: 2 | K37: =TRUNC(E37+G37+I37,-1) -> 0 | L37: =ROUNDUP(F37+H37+J37,0) -> 0 | N37: =HYPERLINK("#일위대가목록!A11", "ZA0000000005") -> ZA0000000005 | Q37: 0102 | R37: 100002 | S37: 50 | T37: T | U37: F | V37: F | X37: 0 | Y37: 0 | Z37: 0 | AA37: 0 | AB37: 0 | AC37: 0 | AD37: 0 | AE37: 0 | AF37: 0 | AG37: 0 | AH37: 0 | AI37: 3 | AJ37: 0 | AK37: 0 | AL37: 0 | AM37: 0 | AN37: 0 | AO37: 0 | AP37: 0 | AQ37: 0 | AR37: 0 | AS37: 0 | AT37: 0 | AV37: 100
D38: 0 | E38: 0 | F38: =ROUNDUP(D38*E38,0) -> 0 | G38: 0 | H38: =ROUNDUP(D38*G38,0) -> 0 | I38: 0 | J38: =ROUNDUP(D38*I38,0) -> 0 | K38: =TRUNC(E38+G38+I38,-1) -> 0 | L38: =ROUNDUP(F38+H38+J38,0) -> 0 | AV38: 0
D39: 0 | E39: 0 | F39: =ROUNDUP(D39*E39,0) -> 0 | G39: 0 | H39: =ROUNDUP(D39*G39,0) -> 0 | I39: 0 | J39: =ROUNDUP(D39*I39,0) -> 0 | K39: =TRUNC(E39+G39+I39,-1) -> 0 | L39: =ROUNDUP(F39+H39+J39,0) -> 0 | AV39: 0
D40: 0 | E40: 0 | F40: =ROUNDUP(D40*E40,0) -> 0 | G40: 0 | H40: =ROUNDUP(D40*G40,0) -> 0 | I40: 0 | J40: =ROUNDUP(D40*I40,0) -> 0 | K40: =TRUNC(E40+G40+I40,-1) -> 0 | L40: =ROUNDUP(F40+H40+J40,0) -> 0 | AV40: 0
D41: 0 | E41: 0 | F41: =ROUNDUP(D41*E41,0) -> 0 | G41: 0 | H41: =ROUNDUP(D41*G41,0) -> 0 | I41: 0 | J41: =ROUNDUP(D41*I41,0) -> 0 | K41: =TRUNC(E41+G41+I41,-1) -> 0 | L41: =ROUNDUP(F41+H41+J41,0) -> 0 | AV41: 0
D42: 0 | E42: 0 | F42: =ROUNDUP(D42*E42,0) -> 0 | G42: 0 | H42: =ROUNDUP(D42*G42,0) -> 0 | I42: 0 | J42: =ROUNDUP(D42*I42,0) -> 0 | K42: =TRUNC(E42+G42+I42,-1) -> 0 | L42: =ROUNDUP(F42+H42+J42,0) -> 0 | AV42: 0
D43: 0 | E43: 0 | F43: =ROUNDUP(D43*E43,0) -> 0 | G43: 0 | H43: =ROUNDUP(D43*G43,0) -> 0 | I43: 0 | J43: =ROUNDUP(D43*I43,0) -> 0 | K43: =TRUNC(E43+G43+I43,-1) -> 0 | L43: =ROUNDUP(F43+H43+J43,0) -> 0 | AV43: 0
D44: 0 | E44: 0 | F44: =ROUNDUP(D44*E44,0) -> 0 | G44: 0 | H44: =ROUNDUP(D44*G44,0) -> 0 | I44: 0 | J44: =ROUNDUP(D44*I44,0) -> 0 | K44: =TRUNC(E44+G44+I44,-1) -> 0 | L44: =ROUNDUP(F44+H44+J44,0) -> 0 | AV44: 0
D45: 0 | E45: 0 | F45: =ROUNDUP(D45*E45,0) -> 0 | G45: 0 | H45: =ROUNDUP(D45*G45,0) -> 0 | I45: 0 | J45: =ROUNDUP(D45*I45,0) -> 0 | K45: =TRUNC(E45+G45+I45,-1) -> 0 | L45: =ROUNDUP(F45+H45+J45,0) -> 0 | AV45: 0
D46: 0 | E46: 0 | F46: =ROUNDUP(D46*E46,0) -> 0 | G46: 0 | H46: =ROUNDUP(D46*G46,0) -> 0 | I46: 0 | J46: =ROUNDUP(D46*I46,0) -> 0 | K46: =TRUNC(E46+G46+I46,-1) -> 0 | L46: =ROUNDUP(F46+H46+J46,0) -> 0 | AV46: 0
D47: 0 | E47: 0 | F47: =ROUNDUP(D47*E47,0) -> 0 | G47: 0 | H47: =ROUNDUP(D47*G47,0) -> 0 | I47: 0 | J47: =ROUNDUP(D47*I47,0) -> 0 | K47: =TRUNC(E47+G47+I47,-1) -> 0 | L47: =ROUNDUP(F47+H47+J47,0) -> 0 | AV47: 0
D48: 0 | E48: 0 | F48: =ROUNDUP(D48*E48,0) -> 0 | G48: 0 | H48: =ROUNDUP(D48*G48,0) -> 0 | I48: 0 | J48: =ROUNDUP(D48*I48,0) -> 0 | K48: =TRUNC(E48+G48+I48,-1) -> 0 | L48: =ROUNDUP(F48+H48+J48,0) -> 0 | AV48: 0
D49: 0 | E49: 0 | F49: =ROUNDUP(D49*E49,0) -> 0 | G49: 0 | H49: =ROUNDUP(D49*G49,0) -> 0 | I49: 0 | J49: =ROUNDUP(D49*I49,0) -> 0 | K49: =TRUNC(E49+G49+I49,-1) -> 0 | L49: =ROUNDUP(F49+H49+J49,0) -> 0 | AV49: 0
...
