Workbook

Sheet 설계서용지
B1: 설 계 서 용 지
B3: 확 인 | E3: 설 계 | H3: 2025년 9월 일 설 계
D5: 2025학년도
D7: 공 사 명 : | F7: =갑지A!C6 -> 튜링연구소 실험실 공간조정 건축공사
D9: 설계공사금액 : | F9: =" 금"&TEXT(원가계산서!E25, "#,###원")&" (금 "&NUMBERSTRING(원가계산서!E25, 1)&"원)" -> 금원 (금 영원)

Sheet 갑지A
B1: 설 계 서 용 지 (갑 지)
B2: 과장 | E2: 담당 | H2: 검수자 | K2: 설계자
C4: 2025년
C6: 튜링연구소 실험실 공간조정 건축공사
C8: 개 요 : 사용성평가연구센터 실험실 공간조정 공사
C10: 총공사비 :
D12: 도급금액 | E12: 공급가액 | G12: =TEXT(원가계산서!E22, "#,###")
E13: 부가세 | G13: =TEXT(원가계산서!E23, "#,###")
E14: 도급액 | G14: =TEXT(원가계산서!E24, "#,###")
D15: 총 공 사 비 | G15: =TEXT(G14, "#,###")

Sheet 원가계산서
A1: 공 사 원 가 계 산 서
A2: [ 튜링연구소 실험실 공간조정 건축공사 ] | F2: ="금액: 일금 "&NUMBERSTRING(E25,1)&"원정("&TEXT(E25,"#,###원")&")" -> 금액: 일금 영원정(원)
B3: 비 목 | E3: 금 액 | F3: 구 성 비 | G3: 비 고 | H3: A | I3: 8
A4: A10 | B4: 순 공 사 원 가 | C4: 재 료 비 | D4: 직 접 재 료 비 | E4: =TRUNC(공종별집계표!F5, 0) -> 0 | H4: 100 | I4: 직 접 재 료 비 | J4: 0 | K4: 6520476 | L4: 6520476 | M4: 0 | N4: 20120321 | O4: ZZ0000100000
A5: A20 | D5: 간 접 재 료 비 | E5: 0 | H5: 110 | I5: 간 접 재 료 비 | J5: 0 | L5: 0 | M5: 0 | O5: YZA001000000
A6: A30 | D6: 작업설,부산물(△) | E6: 0 | H6: 120 | I6: 작업설,부산물(△) | J6: 0 | L6: 0 | M6: 0 | O6: YZA002000000
A7: AZZ | D7: [ 소 계 ] | E7: =TRUNC(E4+E5-E6, 0) -> 0 | H7: 190 | I7: [ 소 계 ] | J7: 0 | K7: A10+A20-A30 | L7: 6520476 | M7: 0 | O7: YZS001000000
A8: B10 | C8: 노 무 비 | D8: 직 접 노 무 비 | E8: =TRUNC(공종별집계표!H5, 0) -> 0 | H8: 200 | I8: 직 접 노 무 비 | J8: 0 | K8: 12164905 | L8: 12164905 | M8: 0 | O8: ZZA000100000
A9: B20 | D9: 간 접 노 무 비 | E9: =TRUNC(E8*0.06, 0) -> 0 | F9: 직접노무비* 6% | H9: 210 | I9: 간 접 노 무 비 | J9: 6 | K9: B10*%% | L9: 729894 | M9: 0 | O9: ZZA000200000
A10: BZZ | D10: [ 소 계 ] | E10: =TRUNC(E8+E9, 0) -> 0 | H10: 290 | I10: [ 소 계 ] | J10: 0 | K10: B10+B20 | L10: 12894799 | M10: 0 | O10: YZS002000000
A11: C30 | C11: 경 비 | D11: 산출경비(기계경비) | E11: =TRUNC(공종별집계표!J5, 0) -> 0 | H11: 3100 | I11: 산출경비(기계경비) | J11: 0 | K11: 20928 | L11: 20928 | M11: 0 | O11: ZZB000100000
A12: C90 | D12: 산 재 보 험 료 | F12: 노무비*3.56% | G12: 모든 건설공사 | H12: 3300 | I12: 산 재 보 험 료 | J12: 3.56 | K12: BZZ*%% | L12: 459054 | M12: 0 | O12: ZZB110100000
A13: CA0 | D13: 고 용 보 험 료 | F13: 노무비 * 1.01% | G13: [7등급+7등급미만] 130억 미만 ~ 81억(고시금액) 이상 | H13: 3400 | I13: 고 용 보 험 료 | J13: 1.01 | K13: BZZ*%% | L13: 130237 | M13: 0 | O13: ZZB120100000
A14: CH0 | D14: 산업안전보건관리비 | E14: 592515 | F14: (재료비+직노+도급자관급) * 3.11% | G14: 5억미만, 일반건설공사(갑) | H14: 3900 | I14: 산업안전보건관리비 | J14: 2.93 | K14: (AZZ+B10+Q10/1.1)*%% | L14: 547481 | M14: 0 | O14: ZZB300100000
A15: CQ0 | D15: 환경보전비 | F15: (재료비+직노+기계경비) * 0.3% | H15: 4600 | I15: 환경보전비 | J15: 0.3 | K15: (AZZ+B10+C30)*%% | L15: 56118 | M15: 0 | O15: ZZB700100000
A16: CT0 | D16: 기 타 경 비 | E16: =TRUNC((E7+E10)*0.03, 0) -> 0 | F16: (재료비+노무비)*3.0% | H16: 4700 | I16: 기 타 경 비 | J16: 5.2 | K16: (AZZ+BZZ)*%% | L16: 1009594 | M16: 0 | O16: ZZB400100000
A17: CZZ | D17: [ 소 계 ] | H17: 9910 | I17: [ 소 계 ] | J17: 0 | K17: C20+C30+C70+C90+CA0+CB0+CC0+CE0+C60+CH0+CD0+CH3+CH4+CQ0+CT0+CU0+CV0+CW0 | L17: 2223412 | M17: 0 | O17: YZS003000000
A18: DZZ | B18: 계 | E18: =TRUNC(E7+E10+E17, 0) -> 0 | H18: 900710 | I18: 계 | J18: 0 | K18: AZZ+BZZ+CZZ | L18: 21638687 | M18: 0 | O18: YZS004000000
A19: E10 | B19: 일 반 관 리 비 | E19: =TRUNC(E18*0.03, 0) -> 0 | F19: 계 * 3% | H19: 900810 | I19: 일 반 관 리 비 | J19: 3 | K19: DZZ*%% | L19: 649160 | M19: 0 | O19: ZZC000100000
A20: E20 | B20: 이 윤 | E20: =TRUNC((E10+E17+E19)*0.1, 0) -> 0 | F20: (노무비+경비+일반관리비) * 10% | H20: 900820 | I20: 이 윤 | J20: 10 | K20: (BZZ+CZZ+E10)*%% | L20: 1576737 | M20: 0 | O20: ZZD000100000
A21: F70 | B21: 폐기물처리비 | E21: =공종별집계표!L12 -> 0 | H21: 900880 | I21: 폐기물처리비 | J21: 0 | L21: 0 | M21: 0 | O21: YZD006000000
A22: P10 | B22: 공 급 가 액 | E22: =ROUND(E18+E19+E20+0+0+0+0+0+E21, -5) -> 0 | F22: 만단위 절사 | H22: 900900 | I22: 공 급 가 액 | J22: 0 | K22: DZZ+E10+E20+CE1+F30+F40+F10+F60+F70 | L22: 23864584 | M22: 0 | O22: YZD007000000
A23: P20 | B23: 부 가 가 치 세 | E23: =ROUND(E22*0.1, 0) -> 0 | F23: 공급가액 * 10% | H23: 900920 | I23: 부 가 가 치 세 | J23: 10 | K23: P10*%% | L23: 2386458 | M23: 0 | O23: ZZF000100000
A24: P30 | B24: 도 급 액 | E24: =ROUND(E22+E23, 0) -> 0 | H24: 900990 | I24: 도 급 액 | J24: 0 | K24: P10+P20 | L24: 26251042 | M24: 0 | O24: YZD014000000
A25: W10 | B25: 총 공 사 비 | E25: =TRUNC(E24+0+0+0+0+0+0, 0) -> 0 | H25: 1001100 | I25: 총 공 사 비 | J25: 0 | K25: P30+Q10+Q20+Q30+Q40+Q50+Q60 | L25: 26251042 | M25: 0 | O25: YZS005000000
A26: ZZZ | B26: 결 정 금 액 | E26: 0 | H26: 1001300 | I26: 결 정 금 액 | J26: 0 | L26: 0 | M26: 0 | O26: YZS007000000

Sheet 공종별집계표
A1: 공 종 별 집 계 표
A2: [ 튜링연구소 공간조정 건축공사 ]
A3: 품 목 | B3: 규격 | C3: 단위 | D3: 수량 | E3: 재 료 비 | G3: 노 무 비 | I3: 경 비 | K3: 합 계 | M3: 비 고
E4: 단 가 | F4: 금 액 | G4: 단 가 | H4: 금 액 | I4: 단 가 | J4: 금 액 | K4: 단 가 | L4: 금 액
A5: 01 사용성평가연구센터 실험실 공간조정 공사 | D5: 1 | E5: =F6+F7+F8+F9+F10+F11 -> 0 | F5: =D5*E5 -> 0 | G5: =H6+H7+H8+H9+H10+H11 -> 0 | H5: =D5*G5 -> 0 | I5: =J6+J7+J8+J9+J10+J11 -> 0 | J5: =D5*I5 -> 0 | K5: =E5+G5+I5 -> 0 | L5: =F5+H5+J5 -> 0 | N5: 01 | O5: 100000
A6: 0101 가설공사 | D6: 1 | E6: =공종별내역서!F30 -> 0 | F6: =D6*E6 -> 0 | G6: =공종별내역서!H30 -> 0 | H6: =D6*G6 -> 0 | I6: =공종별내역서!J30 -> 0 | J6: =D6*I6 -> 0 | K6: =E6+G6+I6 -> 0 | L6: =F6+H6+J6 -> 0 | N6: 0101 | O6: 100001
A7: 0102 경량/금속공사 | D7: 1 | E7: =공종별내역서!F56 -> 0 | F7: =D7*E7 -> 0 | G7: =공종별내역서!H56 -> 0 | H7: =D7*G7 -> 0 | I7: =공종별내역서!J56 -> 0 | J7: =D7*I7 -> 0 | K7: =E7+G7+I7 -> 0 | L7: =F7+H7+J7 -> 0 | N7: 0102 | O7: 100002
A8: 0103 목공사 | D8: 1 | E8: =공종별내역서!F82 -> 0 | F8: =D8*E8 -> 0 | G8: =공종별내역서!H82 -> 0 | H8: =D8*G8 -> 0 | I8: =공종별내역서!J82 -> 0 | J8: =D8*I8 -> 0 | K8: =E8+G8+I8 -> 0 | L8: =F8+H8+J8 -> 0 | N8: 0103 | O8: 100003
A9: 0104 수장공사 | D9: 1 | E9: =공종별내역서!F108 -> 0 | F9: =D9*E9 -> 0 | G9: =공종별내역서!H108 -> 0 | H9: =D9*G9 -> 0 | I9: =공종별내역서!J108 -> 0 | J9: =D9*I9 -> 0 | K9: =E9+G9+I9 -> 0 | L9: =F9+H9+J9 -> 0 | N9: 0104 | O9: 100004
A10: 0105 도장공사 | D10: 1 | E10: =공종별내역서!F134 -> 0 | F10: =D10*E10 -> 0 | G10: =공종별내역서!H134 -> 0 | H10: =D10*G10 -> 0 | I10: =공종별내역서!J134 -> 0 | J10: =D10*I10 -> 0 | K10: =E10+G10+I10 -> 0 | L10: =F10+H10+J10 -> 0 | N10: 0105 | O10: 100005
A11: 0106 철거공사 | D11: 1 | E11: =공종별내역서!F160 -> 0 | F11: =D11*E11 -> 0 | G11: =공종별내역서!H160 -> 0 | H11: =D11*G11 -> 0 | I11: =공종별내역서!J160 -> 0 | J11: =D11*I11 -> 0 | K11: =E11+G11+I11 -> 0 | L11: =F11+H11+J11 -> 0 | N11: 0106 | O11: 100008
A12: 0107 폐기물처리비 | D12: 1 | E12: =공종별내역서!F186 -> 0 | F12: =D12*E12 -> 0 | G12: =공종별내역서!H186 -> 0 | H12: =D12*G12 -> 0 | I12: =공종별내역서!J186 -> 0 | J12: =D12*I12 -> 0 | K12: =E12+G12+I12 -> 0 | L12: =F12+H12+J12 -> 0 | M12: 합산제외 | N12: 0107 | O12: 100009 | P12: 6
A29: [ 합 계 ] | F29: =F5 -> 0 | H29: =H5 -> 0 | J29: =J5 -> 0 | L29: =L5 -> 0

Sheet 공종별내역서
A1: 공 종 별 내 역 서
A2: [ 튜링연구소 공간조정 건축공사 ]
A3: 품 목 | B3: 규격 | C3: 단위 | D3: 수량 | E3: 재 료 비 | G3: 노 무 비 | I3: 경 비 | K3: 합 계 | M3: 비 고 | N3: 품목코드 | O3: 변수 | P3: 설정 | Q3: 공종코드 | R3: SEQNO | S3: ITEMSEQNO | T3: 일위 | U3: 단산 | V3: 자재 | W3: 산근 | X3: 손료적용 | Y3: 손료저장 | Z3: 적용률 | AA3: JUK1 | AB3: JUK2 | AC3: JUK3 | AD3: JUK4 | AE3: JUK5 | AF3: JUK6 | AG3: JUK7 | AH3: JUK8 | AI3: JUK9 | AJ3: JUK10 | AK3: JUK11 | AL3: JUK12 | AM3: JUK13 | AN3: JUK14 | AO3: JUK15 | AP3: JUK16 | AQ3: JUK17 | AR3: JUK18 | AS3: JUK19 | AT3: JUK20 | AU3: 메모장 | AV3: 조정률
E4: 단 가 | F4: 금 액 | G4: 단 가 | H4: 금 액 | I4: 단 가 | J4: 금 액 | K4: 단 가 | L4: 금 액
A5: 0101 가설공사 | Q5: 0101 | R5: 100001 | S5: 0
A6: 건축물 현장정리 및 준공청소 | C6: M2 | D6: 43 | K6: =TRUNC(E6+G6+I6,-1) -> 0 | L6: =ROUNDUP(F6+H6+J6,0) -> 0 | N6: =HYPERLINK("#일위대가목록!A4", "ZA0000000000") -> ZA0000000000 | Q6: 0101 | R6: 100001 | S6: 10 | T6: T | U6: F | V6: F | X6: 0 | Y6: 0 | Z6: 0 | AA6: 0 | AB6: 0 | AC6: 0 | AD6: 0 | AE6: 0 | AF6: 0 | AG6: 0 | AH6: 0 | AI6: 2 | AJ6: 0 | AK6: 0 | AL6: 0 | AM6: 0 | AN6: 0 | AO6: 0 | AP6: 0 | AQ6: 0 | AR6: 0 | AS6: 0 | AT6: 0 | AV6: 100
A7: 이동동선 및 주위시설 보양 | B7: 비닐,부직포,틴텐지 외 | C7: 식 | D7: 1 | K7: =TRUNC(E7+G7+I7,-1) -> 0 | L7: =ROUNDUP(F7+H7+J7,0) -> 0 | N7: =HYPERLINK("#일위대가목록!A5", "ZA0000000001") -> ZA0000000001 | Q7: 0101 | R7: 100001 | S7: 20 | T7: T | U7: F | V7: F | X7: 0 | Y7: 0 | Z7: 0 | AA7: 0 | AB7: 0 | AC7: 0 | AD7: 0 | AE7: 0 | AF7: 0 | AG7: 0 | AH7: 0 | AI7: 2 | AJ7: 0 | AK7: 0 | AL7: 0 | AM7: 0 | AN7: 0 | AO7: 0 | AP7: 0 | AQ7: 0 | AR7: 0 | AS7: 0 | AT7: 0 | AV7: 100
D8: 0 | E8: 0 | F8: =ROUNDUP(D8*E8,0) -> 0 | G8: 0 | H8: =ROUNDUP(D8*G8,0) -> 0 | I8: 0 | J8: =ROUNDUP(D8*I8,0) -> 0 | K8: =TRUNC(E8+G8+I8,-1) -> 0 | L8: =ROUNDUP(F8+H8+J8,0) -> 0 | AV8: 0
D9: 0 | E9: 0 | F9: =ROUNDUP(D9*E9,0) -> 0 | G9: 0 | H9: =ROUNDUP(D9*G9,0) -> 0 | I9: 0 | J9: =ROUNDUP(D9*I9,0) -> 0 | K9: =TRUNC(E9+G9+I9,-1) -> 0 | L9: =ROUNDUP(F9+H9+J9,0) -> 0 | AV9: 0
D10: 0 | E10: 0 | F10: =ROUNDUP(D10*E10,0) -> 0 | G10: 0 | H10: =ROUNDUP(D10*G10,0) -> 0 | I10: 0 | J10: =ROUNDUP(D10*I10,0) -> 0 | K10: =TRUNC(E10+G10+I10,-1) -> 0 | L10: =ROUNDUP(F10+H10+J10,0) -> 0 | AV10: 0
D11: 0 | E11: 0 | F11: =ROUNDUP(D11*E11,0) -> 0 | G11: 0 | H11: =ROUNDUP(D11*G11,0) -> 0 | I11: 0 | J11: =ROUNDUP(D11*I11,0) -> 0 | K11: =TRUNC(E11+G11+I11,-1) -> 0 | L11: =ROUNDUP(F11+H11+J11,0) -> 0 | AV11: 0
D12: 0 | E12: 0 | F12: =ROUNDUP(D12*E12,0) -> 0 | G12: 0 | H12: =ROUNDUP(D12*G12,0) -> 0 | I12: 0 | J12: =ROUNDUP(D12*I12,0) -> 0 | K12: =TRUNC(E12+G12+I12,-1) -> 0 | L12: =ROUNDUP(F12+H12+J12,0) -> 0 | AV12: 0
D13: 0 | E13: 0 | F13: =ROUNDUP(D13*E13,0) -> 0 | G13: 0 | H13: =ROUNDUP(D13*G13,0) -> 0 | I13: 0 | J13: =ROUNDUP(D13*I13,0) -> 0 | K13: =TRUNC(E13+G13+I13,-1) -> 0 | L13: =ROUNDUP(F13+H13+J13,0) -> 0 | AV13: 0
D14: 0 | E14: 0 | F14: =ROUNDUP(D14*E14,0) -> 0 | G14: 0 | H14: =ROUNDUP(D14*G14,0) -> 0 | I14: 0 | J14: =ROUNDUP(D14*I14,0) -> 0 | K14: =TRUNC(E14+G14+I14,-1) -> 0 | L14: =ROUNDUP(F14+H14+J14,0) -> 0 | AV14: 0
D15: 0 | E15: 0 | F15: =ROUNDUP(D15*E15,0) -> 0 | G15: 0 | H15: =ROUNDUP(D15*G15,0) -> 0 | I15: 0 | J15: =ROUNDUP(D15*I15,0) -> 0 | K15: =TRUNC(E15+G15+I15,-1) -> 0 | L15: =ROUNDUP(F15+H15+J15,0) -> 0 | AV15: 0
D16: 0 | E16: 0 | F16: =ROUNDUP(D16*E16,0) -> 0 | G16: 0 | H16: =ROUNDUP(D16*G16,0) -> 0 | I16: 0 | J16: =ROUNDUP(D16*I16,0) -> 0 | K16: =TRUNC(E16+G16+I16,-1) -> 0 | L16: =ROUNDUP(F16+H16+J16,0) -> 0 | AV16: 0
D17: 0 | E17: 0 | F17: =ROUNDUP(D17*E17,0) -> 0 | G17: 0 | H17: =ROUNDUP(D17*G17,0) -> 0 | I17: 0 | J17: =ROUNDUP(D17*I17,0) -> 0 | K17: =TRUNC(E17+G17+I17,-1) -> 0 | L17: =ROUNDUP(F17+H17+J17,0) -> 0 | AV17: 0
D18: 0 | E18: 0 | F18: =ROUNDUP(D18*E18,0) -> 0 | G18: 0 | H18: =ROUNDUP(D18*G18,0) -> 0 | I18: 0 | J18: =ROUNDUP(D18*I18,0) -> 0 | K18: =TRUNC(E18+G18+I18,-1) -> 0 | L18: =ROUNDUP(F18+H18+J18,0) -> 0 | AV18: 0
D19: 0 | E19: 0 | F19: =ROUNDUP(D19*E19,0) -> 0 | G19: 0 | H19: =ROUNDUP(D19*G19,0) -> 0 | I19: 0 | J19: =ROUNDUP(D19*I19,0) -> 0 | K19: =TRUNC(E19+G19+I19,-1) -> 0 | L19: =ROUNDUP(F19+H19+J19,0) -> 0 | AV19: 0
... D29: 0 | E29: 0 | F29: =ROUNDUP(D29*E29,0) -> 0 | G29: 0 | H29: =ROUNDUP(D29*G29,0) -> 0 | I29: 0 | J29: =ROUNDUP(D29*I29,0) -> 0 | K29: =TRUNC(E29+G29+I29,-1) -> 0 | L29: =ROUNDUP(F29+H29+J29,0) -> 0 | AV29: 0
A30: [ 합 계 ] | E30: 0 | F30: =ROUNDUP(SUMIF(Q6:Q29, Q5,F6:F29),0) -> 0 | G30: 0 | H30: =ROUNDUP(SUMIF(Q6:Q29, Q5,H6:H29),0) -> 0 | I30: 0 | J30: =ROUNDUP(SUMIF(Q6:Q29, Q5,J6:J29),0) -> 0 | L30: =F30+H30+J30 -> 0
A31: 0102 경량/금속공사 | Q31: 0102 | R31: 100002 | S31: 0
A32: 경량칸막이신설 | B32: 100형스터드+24K50T그라스울+9.5T 석고2P(양면) | C32: M2 | D32: 25 | K32: =TRUNC(E32+G32+I32,-1) -> 0 | L32: =ROUNDUP(F32+H32+J32,0) -> 0 | N32: =HYPERLINK("#일위대가목록!A6", "ZA0000000002") -> ZA0000000002 | Q32: 0102 | R32: 100002 | S32: 10 | T32: T | U32: F | V32: F | X32: 0 | Y32: 0 | Z32: 0 | AA32: 0 | AB32: 0 | AC32: 0 | AD32: 0 | AE32: 0 | AF32: 0 | AG32: 0 | AH32: 0 | AI32: 3 | AJ32: 0 | AK32: 0 | AL32: 0 | AM32: 0 | AN32: 0 | AO32: 0 | AP32: 0 | AQ32: 0 | AR32: 0 | AS32: 0 | AT32: 0 | AV32: 100
A33: 경량단면벽체신설 | B33: 50형스터드+24K50T폴리에스터+12.5T 석고2P(양면)+차음시트포함(외부면 흘러내림방지 석고1P포함) | C33: M2 | D33: 11 | K33: =TRUNC(E33+G33+I33,-1) -> 0 | L33: =ROUNDUP(F33+H33+J33,0) -> 0 | N33: =HYPERLINK("#일위대가목록!A7", "ZA0000000004") -> ZA0000000004 | Q33: 0102 | R33: 100002 | S33: 15 | T33: T | U33: F | V33: F | X33: 0 | Y33: 0 | Z33: 0 | AA33: 0 | AB33: 0 | AC33: 0 | AD33: 0 | AE33: 0 | AF33: 0 | AG33: 0 | AH33: 0 | AI33: 3 | AJ33: 0 | AK33: 0 | AL33: 0 | AM33: 0 | AN33: 0 | AO33: 0 | AP33: 0 | AQ33: 0 | AR33: 0 | AS33: 0 | AT33: 0 | AV33: 100
A34: 시창신설 | B34: 1800*1200,목재틀+필름마감+10T강화유리+원웨이밀러필름 | C34: 개소 | D34: 2 | K34: =TRUNC(E34+G34+I34,-1) -> 0 | L34: =ROUNDUP(F34+H34+J34,0) -> 0 | N34: =HYPERLINK("#일위대가목록!A8", "ZA0000000003") -> ZA0000000003 | Q34: 0102 | R34: 100002 | S34: 20 | T34: T | U34: F | V34: F | X34: 0 | Y34: 0 | Z34: 0 | AA34: 0 | AB34: 0 | AC34: 0 | AD34: 0 | AE34: 0 | AF34: 0 | AG34: 0 | AH34: 0 | AI34: 3 | AJ34: 0 | AK34: 0 | AL34: 0 | AM34: 0 | AN34: 0 | AO34: 0 | AP34: 0 | AQ34: 0 | AR34: 0 | AS34: 0 | AT34: 0 | AV34: 100
A35: 경량철골천정틀 | B35: M-BAR,일부자재재사용 | C35: M2 | D35: 32 | K35: =TRUNC(E35+G35+I35,-1) -> 0 | L35: =ROUNDUP(F35+H35+J35,0) -> 0 | N35: =HYPERLINK("#일위대가목록!A9", "AJI100300010") -> AJI100300010 | Q35: 0102 | R35: 100002 | S35: 30 | T35: T | U35: F | V35: F | X35: 0 | Y35: 0 | Z35: 0 | AA35: 0 | AB35: 0 | AC35: 0 | AD35: 0 | AE35: 0 | AF35: 0 | AG35: 0 | AH35: 0 | AI35: 3 | AJ35: 0 | AK35: 0 | AL35: 0 | AM35: 0 | AN35: 0 | AO35: 0 | AP35: 0 | AQ35: 0 | AR35: 0 | AS35: 0 | AT35: 0 | AV35: 100
A36: 천장텍스붙임(텍스포함) | B36: 친환경흡음텍스 12*300*600mm,천장틀별도 | C36: M2 | D36: 32 | K36: =TRUNC(E36+G36+I36,-1) -> 0 | L36: =ROUNDUP(F36+H36+J36,0) -> 0 | N36: =HYPERLINK("#일위대가목록!A10", "AE2010000500") -> AE2010000500 | Q36: 0102 | R36: 100002 | S36: 40 | T36: T | U36: F | V36: F | X36: 0 | Y36: 0 | Z36: 0 | AA36: 0 | AB36: 0 | AC36: 0 | AD36: 0 | AE36: 0 | AF36: 0 | AG36: 0 | AH36: 0 | AI36: 3 | AJ36: 0 | AK36: 0 | AL36: 0 | AM36: 0 | AN36: 0 | AO36: 0 | AP36: 0 | AQ36: 0 | AR36: 0 | AS36: 0 | AT36: 0 | AV36: 100
A37: 금속게시판 | B37: 1.6T갈바절곡/프로폰도장+금속기성테두리몰딩+사인물포함 | C37: EA | D37: 2 | K37: =TRUNC(E37+G37+I37,-1) -> 0 | L37: =ROUNDUP(F37+H37+J37,0) -> 0 | N37: =HYPERLINK("#일위대가목록!A11", "ZA0000000005") -> ZA0000000005 | Q37: 0102 | R37: 100002 | S37: 50 | T37: T | U37: F | V37: F | X37: 0 | Y37: 0 | Z37: 0 | AA37: 0 | AB37: 0 | AC37: 0 | AD37: 0 | AE37: 0 | AF37: 0 | AG37: 0 | AH37: 0 | AI37: 3 | AJ37: 0 | AK37: 0 | AL37: 0 | AM37: 0 | AN37: 0 | AO37: 0 | AP37: 0 | AQ37: 0 | AR37: 0 | AS37: 0 | AT37: 0 | AV37: 100
D38: 0 | E38: 0 | F38: =ROUNDUP(D38*E38,0) -> 0 | G38: 0 | H38: =ROUNDUP(D38*G38,0) -> 0 | I38: 0 | J38: =ROUNDUP(D38*I38,0) -> 0 | K38: =TRUNC(E38+G38+I38,-1) -> 0 | L38: =ROUNDUP(F38+H38+J38,0) -> 0 | AV38: 0
D39: 0 | E39: 0 | F39: =ROUNDUP(D39*E39,0) -> 0 | G39: 0 | H39: =ROUNDUP(D39*G39,0) -> 0 | I39: 0 | J39: =ROUNDUP(D39*I39,0) -> 0 | K39: =TRUNC(E39+G39+I39,-1) -> 0 | L39: =ROUNDUP(F39+H39+J39,0) -> 0 | AV39: 0
D40: 0 | E40: 0 | F40: =ROUNDUP(D40*E40,0) -> 0 | G40: 0 | H40: =ROUNDUP(D40*G40,0) -> 0 | I40: 0 | J40: =ROUNDUP(D40*I40,0) -> 0 | K40: =TRUNC(E40+G40+I40,-1) -> 0 | L40: =ROUNDUP(F40+H40+J40,0) -> 0 | AV40: 0
D41: 0 | E41: 0 | F41: =ROUNDUP(D41*E41,0) -> 0 | G41: 0 | H41: =ROUNDUP(D41*G41,0) -> 0 | I41: 0 | J41: =ROUNDUP(D41*I41,0) -> 0 | K41: =TRUNC(E41+G41+I41,-1) -> 0 | L41: =ROUNDUP(F41+H41+J41,0) -> 0 | AV41: 0
D42: 0 | E42: 0 | F42: =ROUNDUP(D42*E42,0) -> 0 | G42: 0 | H42: =ROUNDUP(D42*G42,0) -> 0 | I42: 0 | J42: =ROUNDUP(D42*I42,0) -> 0 | K42: =TRUNC(E42+G42+I42,-1) -> 0 | L42: =ROUNDUP(F42+H42+J42,0) -> 0 | AV42: 0
D43: 0 | E43: 0 | F43: =ROUNDUP(D43*E43,0) -> 0 | G43: 0 | H43: =ROUNDUP(D43*G43,0) -> 0 | I43: 0 | J43: =ROUNDUP(D43*I43,0) -> 0 | K43: =TRUNC(E43+G43+I43,-1) -> 0 | L43: =ROUNDUP(F43+H43+J43,0) -> 0 | AV43: 0
D44: 0 | E44: 0 | F44: =ROUNDUP(D44*E44,0) -> 0 | G44: 0 | H44: =ROUNDUP(D44*G44,0) -> 0 | I44: 0 | J44: =ROUNDUP(D44*I44,0) -> 0 | K44: =TRUNC(E44+G44+I44,-1) -> 0 | L44: =ROUNDUP(F44+H44+J44,0) -> 0 | AV44: 0
D45: 0 | E45: 0 | F45: =ROUNDUP(D45*E45,0) -> 0 | G45: 0 | H45: =ROUNDUP(D45*G45,0) -> 0 | I45: 0 | J45: =ROUNDUP(D45*I45,0) -> 0 | K45: =TRUNC(E45+G45+I45,-1) -> 0 | L45: =ROUNDUP(F45+H45+J45,0) -> 0 | AV45: 0
D46: 0 | E46: 0 | F46: =ROUNDUP(D46*E46,0) -> 0 | G46: 0 | H46: =ROUNDUP(D46*G46,0) -> 0 | I46: 0 | J46: =ROUNDUP(D46*I46,0) -> 0 | K46: =TRUNC(E46+G46+I46,-1) -> 0 | L46: =ROUNDUP(F46+H46+J46,0) -> 0 | AV46: 0
D47: 0 | E47: 0 | F47: =ROUNDUP(D47*E47,0) -> 0 | G47: 0 | H47: =ROUNDUP(D47*G47,0) -> 0 | I47: 0 | J47: =ROUNDUP(D47*I47,0) -> 0 | K47: =TRUNC(E47+G47+I47,-1) -> 0 | L47: =ROUNDUP(F47+H47+J47,0) -> 0 | AV47: 0
D48: 0 | E48: 0 | F48: =ROUNDUP(D48*E48,0) -> 0 | G48: 0 | H48: =ROUNDUP(D48*G48,0) -> 0 | I48: 0 | J48: =ROUNDUP(D48*I48,0) -> 0 | K48: =TRUNC(E48+G48+I48,-1) -> 0 | L48: =ROUNDUP(F48+H48+J48,0) -> 0 | AV48: 0
D49: 0 | E49: 0 | F49: =ROUNDUP(D49*E49,0) -> 0 | G49: 0 | H49: =ROUNDUP(D49*G49,0) -> 0 | I49: 0 | J49: =ROUNDUP(D49*I49,0) -> 0 | K49: =TRUNC(E49+G49+I49,-1) -> 0 | L49: =ROUNDUP(F49+H49+J49,0) -> 0 | AV49: 0
... D55: 0 | E55: 0 | F55: =ROUNDUP(D55*E55,0) -> 0 | G55: 0 | H55: =ROUNDUP(D55*G55,0) -> 0 | I55: 0 | J55: =ROUNDUP(D55*I55,0) -> 0 | K55: =TRUNC(E55+G55+I55,-1) -> 0 | L55: =ROUNDUP(F55+H55+J55,0) -> 0 | AV55: 0
A56: [ 합 계 ] | E56: 0 | F56: =ROUNDUP(SUMIF(Q32:Q55, Q31,F32:F55),0) -> 0 | G56: 0 | H56: =ROUNDUP(SUMIF(Q32:Q55, Q31,H32:H55),0) -> 0 | I56: 0 | J56: =ROUNDUP(SUMIF(Q32:Q55, Q31,J32:J55),0) -> 0 | L56: =F56+H56+J56 -> 0
A57: 0103 목공사 | Q57: 0103 | R57: 100003 | S57: 0
A58: 벽체 목제틀설치 | B58: 9TM.D.F(W:100),@450 | C58: M2 | D58: 85 | K58: =TRUNC(E58+G58+I58,-1) -> 0 | L58: =ROUNDUP(F58+H58+J58,0) -> 0 | N58: =HYPERLINK("#일위대가목록!A12", "ZA0000000006") -> ZA0000000006 | Q58: 0103 | R58: 100003 | S58: 10 | T58: T | U58: F | V58: F | X58: 0 | Y58: 0 | Z58: 0 | AA58: 0 | AB58: 0 | AC58: 0 | AD58: 0 | AE58: 0 | AF58: 0 | AG58: 0 | AH58: 0 | AI58: 4 | AJ58: 0 | AK58: 0 | AL58: 0 | AM58: 0 | AN58: 0 | AO58: 0 | AP58: 0 | AQ58: 0 | AR58: 0 | AS58: 0 | AT58: 0 | AV58: 100
A59: 천정 몰딩설치 | B59: 9TM.D.F(W:45)+필름마감 | C59: M | D59: 47 | K59: =TRUNC(E59+G59+I59,-1) -> 0 | L59: =ROUNDUP(F59+H59+J59,0) -> 0 | N59: =HYPERLINK("#일위대가목록!A13", "ZA0000000007") -> ZA0000000007 | Q59: 0103 | R59: 100003 | S59: 20 | T59: T | U59: F | V59: F | X59: 0 | Y59: 0 | Z59: 0 | AA59: 0 | AB59: 0 | AC59: 0 | AD59: 0 | AE59: 0 | AF59: 0 | AG59: 0 | AH59: 0 | AI59: 4 | AJ59: 0 | AK59: 0 | AL59: 0 | AM59: 0 | AN59: 0 | AO59: 0 | AP59: 0 | AQ59: 0 | AR59: 0 | AS59: 0 | AT59: 0 | AV59: 100
A60: 걸레받이 설치 | B60: 9TM.D.F(H:100)+필름마감 | C60: M | D60: 47 | K60: =TRUNC(E60+G60+I60,-1) -> 0 | L60: =ROUNDUP(F60+H60+J60,0) -> 0 | N60: =HYPERLINK("#일위대가목록!A14", "ZA0000000008") -> ZA0000000008 | Q60: 0103 | R60: 100003 | S60: 30 | T60: T | U60: F | V60: F | X60: 0 | Y60: 0 | Z60: 0 | AA60: 0 | AB60: 0 | AC60: 0 | AD60: 0 | AE60: 0 | AF60: 0 | AG60: 0 | AH60: 0 | AI60: 4 | AJ60: 0 | AK60: 0 | AL60: 0 | AM60: 0 | AN60: 0 | AO60: 0 | AP60: 0 | AQ60: 0 | AR60: 0 | AS60: 0 | AT60: 0 | AV60: 100
A61: 벽,띠장설치(미송) | B61: 30*30,@450*600 | C61: M2 | D61: 4.5 | K61: =TRUNC(E61+G61+I61,-1) -> 0 | L61: =ROUNDUP(F61+H61+J61,0) -> 0 | N61: =HYPERLINK("#일위대가목록!A15", "AIB310200000") -> AIB310200000 | Q61: 0103 | R61: 100003 | S61: 40 | T61: T | U61: F | V61: F | X61: 0 | Y61: 0 | Z61: 0 | AA61: 0 | AB61: 0 | AC61: 0 | AD61: 0 | AE61: 0 | AF61: 0 | AG61: 0 | AH61: 0 | AI61: 4 | AJ61: 0 | AK61: 0 | AL61: 0 | AM61: 0 | AN61: 0 | AO61: 0 | AP61: 0 | AQ61: 0 | AR61: 0 | AS61: 0 | AT61: 0 | AV61: 100
A62: 벽체합판 설치 | B62: 보통합판, THK9×1PLY | C62: M2 | D62: 4.5 | K62: =TRUNC(E62+G62+I62,-1) -> 0 | L62: =ROUNDUP(F62+H62+J62,0) -> 0 | N62: =HYPERLINK("#일위대가목록!A16", "AD3030200700") -> AD3030200700 | Q62: 0103 | R62: 100003 | S62: 50 | T62: T | U62: F | V62: F | X62: 0 | Y62: 0 | Z62: 0 | AA62: 0 | AB62: 0 | AC62: 0 | AD62: 0 | AE62: 0 | AF62: 0 | AG62: 0 | AH62: 0 | AI62: 4 | AJ62: 0 | AK62: 0 | AL62: 0 | AM62: 0 | AN62: 0 | AO62: 0 | AP62: 0 | AQ62: 0 | AR62: 0 | AS62: 0 | AT62: 0 | AV62: 100
A63: 벽, MDF붙임 | B63: 중밀도섬유판, THK9×1PLY | C63: M2 | D63: 1.5 | K63: =TRUNC(E63+G63+I63,-1) -> 0 | L63: =ROUNDUP(F63+H63+J63,0) -> 0 | N63: =HYPERLINK("#일위대가목록!A17", "AOC114001009") -> AOC114001009 | Q63: 0103 | R63: 100003 | S63: 60 | T63: T | U63: F | V63: F | X63: 0 | Y63: 0 | Z63: 0 | AA63: 0 | AB63: 0 | AC63: 0 | AD63: 0 | AE63: 0 | AF63: 0 | AG63: 0 | AH63: 0 | AI63: 4 | AJ63: 0 | AK63: 0 | AL63: 0 | AM63: 0 | AN63: 0 | AO63: 0 | AP63: 0 | AQ63: 0 | AR63: 0 | AS63: 0 | AT63: 0 | AV63: 100
D64: 0 | E64: 0 | F64: =ROUNDUP(D64*E64,0) -> 0 | G64: 0 | H64: =ROUNDUP(D64*G64,0) -> 0 | I64: 0 | J64: =ROUNDUP(D64*I64,0) -> 0 | K64: =TRUNC(E64+G64+I64,-1) -> 0 | L64: =ROUNDUP(F64+H64+J64,0) -> 0 | AV64: 0
D65: 0 | E65: 0 | F65: =ROUNDUP(D65*E65,0) -> 0 | G65: 0 | H65: =ROUNDUP(D65*G65,0) -> 0 | I65: 0 | J65: =ROUNDUP(D65*I65,0) -> 0 | K65: =TRUNC(E65+G65+I65,-1) -> 0 | L65: =ROUNDUP(F65+H65+J65,0) -> 0 | AV65: 0
D66: 0 | E66: 0 | F66: =ROUNDUP(D66*E66,0) -> 0 | G66: 0 | H66: =ROUNDUP(D66*G66,0) -> 0 | I66: 0 | J66: =ROUNDUP(D66*I66,0) -> 0 | K66: =TRUNC(E66+G66+I66,-1) -> 0 | L66: =ROUNDUP(F66+H66+J66,0) -> 0 | AV66: 0
D67: 0 | E67: 0 | F67: =ROUNDUP(D67*E67,0) -> 0 | G67: 0 | H67: =ROUNDUP(D67*G67,0) -> 0 | I67: 0 | J67: =ROUNDUP(D67*I67,0) -> 0 | K67: =TRUNC(E67+G67+I67,-1) -> 0 | L67: =ROUNDUP(F67+H67+J67,0) -> 0 | AV67: 0
D68: 0 | E68: 0 | F68: =ROUNDUP(D68*E68,0) -> 0 | G68: 0 | H68: =ROUNDUP(D68*G68,0) -> 0 | I68: 0 | J68: =ROUNDUP(D68*I68,0) -> 0 | K68: =TRUNC(E68+G68+I68,-1) -> 0 | L68: =ROUNDUP(F68+H68+J68,0) -> 0 | AV68: 0
D69: 0 | E69: 0 | F69: =ROUNDUP(D69*E69,0) -> 0 | G69: 0 | H69: =ROUNDUP(D69*G69,0) -> 0 | I69: 0 | J69: =ROUNDUP(D69*I69,0) -> 0 | K69: =TRUNC(E69+G69+I69,-1) -> 0 | L69: =ROUNDUP(F69+H69+J69,0) -> 0 | AV69: 0
D70: 0 | E70: 0 | F70: =ROUNDUP(D70*E70,0) -> 0 | G70: 0 | H70: =ROUNDUP(D70*G70,0) -> 0 | I70: 0 | J70: =ROUNDUP(D70*I70,0) -> 0 | K70: =TRUNC(E70+G70+I70,-1) -> 0 | L70: =ROUNDUP(F70+H70+J70,0) -> 0 | AV70: 0
D71: 0 | E71: 0 | F71: =ROUNDUP(D71*E71,0) -> 0 | G71: 0 | H71: =ROUNDUP(D71*G71,0) -> 0 | I71: 0 | J71: =ROUNDUP(D71*I71,0) -> 0 | K71: =TRUNC(E71+G71+I71,-1) -> 0 | L71: =ROUNDUP(F71+H71+J71,0) -> 0 | AV71: 0
D72: 0 | E72: 0 | F72: =ROUNDUP(D72*E72,0) -> 0 | G72: 0 | H72: =ROUNDUP(D72*G72,0) -> 0 | I72: 0 | J72: =ROUNDUP(D72*I72,0) -> 0 | K72: =TRUNC(E72+G72+I72,-1) -> 0 | L72: =ROUNDUP(F72+H72+J72,0) -> 0 | AV72: 0
D73: 0 | E73: 0 | F73: =ROUNDUP(D73*E73,0) -> 0 | G73: 0 | H73: =ROUNDUP(D73*G73,0) -> 0 | I73: 0 | J73: =ROUNDUP(D73*I73,0) -> 0 | K73: =TRUNC(E73+G73+I73,-1) -> 0 | L73: =ROUNDUP(F73+H73+J73,0) -> 0 | AV73: 0
D74: 0 | E74: 0 | F74: =ROUNDUP(D74*E74,0) -> 0 | G74: 0 | H74: =ROUNDUP(D74*G74,0) -> 0 | I74: 0 | J74: =ROUNDUP(D74*I74,0) -> 0 | K74: =TRUNC(E74+G74+I74,-1) -> 0 | L74: =ROUNDUP(F74+H74+J74,0) -> 0 | AV74: 0
D75: 0 | E75: 0 | F75: =ROUNDUP(D75*E75,0) -> 0 | G75: 0 | H75: =ROUNDUP(D75*G75,0) -> 0 | I75: 0 | J75: =ROUNDUP(D75*I75,0) -> 0 | K75: =TRUNC(E75+G75+I75,-1) -> 0 | L75: =ROUNDUP(F75+H75+J75,0) -> 0 | AV75: 0
... D81: 0 | E81: 0 | F81: =ROUNDUP(D81*E81,0) -> 0 | G81: 0 | H81: =ROUNDUP(D81*G81,0) -> 0 | I81: 0 | J81: =ROUNDUP(D81*I81,0) -> 0 | K81: =TRUNC(E81+G81+I81,-1) -> 0 | L81: =ROUNDUP(F81+H81+J81,0) -> 0 | AV81: 0
A82: [ 합 계 ] | E82: 0 | F82: =ROUNDUP(SUMIF(Q58:Q81, Q57,F58:F81),0) -> 0 | G82: 0 | H82: =ROUNDUP(SUMIF(Q58:Q81, Q57,H58:H81),0) -> 0 | I82: 0 | J82: =ROUNDUP(SUMIF(Q58:Q81, Q57,J58:J81),0) -> 0 | L82: =F82+H82+J82 -> 0
A83: 0104 수장공사 | Q83: 0104 | R83: 100004 | S83: 0
A84: 석고판나사못붙임(바탕용,벽) | B84: 일반9.5mm×2PLY | C84: M2 | D84: 85 | K84: =TRUNC(E84+G84+I84,-1) -> 0 | L84: =ROUNDUP(F84+H84+J84,0) -> 0 | N84: =HYPERLINK("#일위대가목록!A18", "AE3010200200") -> AE3010200200 | Q84: 0104 | R84: 100004 | S84: 10 | T84: T | U84: F | V84: F | X84: 0 | Y84: 0 | Z84: 0 | AA84: 0 | AB84: 0 | AC84: 0 | AD84: 0 | AE84: 0 | AF84: 0 | AG84: 0 | AH84: 0 | AI84: 5 | AJ84: 0 | AK84: 0 | AL84: 0 | AM84: 0 | AN84: 0 | AO84: 0 | AP84: 0 | AQ84: 0 | AR84: 0 | AS84: 0 | AT84: 0 | AV84: 100
A85: 데코타일붙임 | B85: 600*600*3.0mm (왁스무) | C85: M2 | D85: 43 | K85: =TRUNC(E85+G85+I85,-1) -> 0 | L85: =ROUNDUP(F85+H85+J85,0) -> 0 | N85: =HYPERLINK("#일위대가목록!A19", "AOA112400100") -> AOA112400100 | Q85: 0104 | R85: 100004 | S85: 20 | T85: T | U85: F | V85: F | X85: 0 | Y85: 0 | Z85: 0 | AA85: 0 | AB85: 0 | AC85: 0 | AD85: 0 | AE85: 0 | AF85: 0 | AG85: 0 | AH85: 0 | AI85: 5 | AJ85: 0 | AK85: 0 | AL85: 0 | AM85: 0 | AN85: 0 | AO85: 0 | AP85: 0 | AQ85: 0 | AR85: 0 | AS85: 0 | AT85: 0 | AV85: 100
A86: 친환경교육시설용바닥재 | B86: 재료분리대, AL | C86: M | D86: 3 | K86: =TRUNC(E86+G86+I86,-1) -> 0 | L86: =ROUNDUP(F86+H86+J86,0) -> 0 | M86: (주)강산이엔지 | N86: =HYPERLINK("#단가대비표!B43", "813I0K0000000401") -> 813I0K0000000401 | Q86: 0104 | R86: 100004 | S86: 30 | T86: F | U86: F | V86: T | X86: 0 | Y86: 0 | Z86: 0 | AA86: 0 | AB86: 0 | AC86: 0 | AD86: 0 | AE86: 0 | AF86: 0 | AG86: 0 | AH86: 0 | AI86: 5 | AJ86: 0 | AK86: 0 | AL86: 0 | AM86: 0 | AN86: 0 | AO86: 0 | AP86: 0 | AQ86: 0 | AR86: 0 | AS86: 0 | AT86: 0 | AV86: 100
A87: 유리에칭필름 | B87: 유리엣칭효과, 비산방지, 엠보싱 | C87: M2 | D87: 7 | K87: =TRUNC(E87+G87+I87,-1) -> 0 | L87: =ROUNDUP(F87+H87+J87,0) -> 0 | N87: =HYPERLINK("#단가대비표!B16", "3014151121870519") -> 3014151121870519 | Q87: 0104 | R87: 100004 | S87: 40 | T87: F | U87: F | V87: T | X87: 0 | Y87: 0 | Z87: 0 | AA87: 0 | AB87: 0 | AC87: 0 | AD87: 0 | AE87: 0 | AF87: 0 | AG87: 0 | AH87: 0 | AI87: 5 | AJ87: 0 | AK87: 0 | AL87: 0 | AM87: 0 | AN87: 0 | AO87: 0 | AP87: 0 | AQ87: 0 | AR87: 0 | AS87: 0 | AT87: 0 | AV87: 100
D88: 0 | E88: 0 | F88: =ROUNDUP(D88*E88,0) -> 0 | G88: 0 | H88: =ROUNDUP(D88*G88,0) -> 0 | I88: 0 | J88: =ROUNDUP(D88*I88,0) -> 0 | K88: =TRUNC(E88+G88+I88,-1) -> 0 | L88: =ROUNDUP(F88+H88+J88,0) -> 0 | AV88: 0
D89: 0 | E89: 0 | F89: =ROUNDUP(D89*E89,0) -> 0 | G89: 0 | H89: =ROUNDUP(D89*G89,0) -> 0 | I89: 0 | J89: =ROUNDUP(D89*I89,0) -> 0 | K89: =TRUNC(E89+G89+I89,-1) -> 0 | L89: =ROUNDUP(F89+H89+J89,0) -> 0 | AV89: 0
D90: 0 | E90: 0 | F90: =ROUNDUP(D90*E90,0) -> 0 | G90: 0 | H90: =ROUNDUP(D90*G90,0) -> 0 | I90: 0 | J90: =ROUNDUP(D90*I90,0) -> 0 | K90: =TRUNC(E90+G90+I90,-1) -> 0 | L90: =ROUNDUP(F90+H90+J90,0) -> 0 | AV90: 0
D91: 0 | E91: 0 | F91: =ROUNDUP(D91*E91,0) -> 0 | G91: 0 | H91: =ROUNDUP(D91*G91,0) -> 0 | I91: 0 | J91: =ROUNDUP(D91*I91,0) -> 0 | K91: =TRUNC(E91+G91+I91,-1) -> 0 | L91: =ROUNDUP(F91+H91+J91,0) -> 0 | AV91: 0
D92: 0 | E92: 0 | F92: =ROUNDUP(D92*E92,0) -> 0 | G92: 0 | H92: =ROUNDUP(D92*G92,0) -> 0 | I92: 0 | J92: =ROUNDUP(D92*I92,0) -> 0 | K92: =TRUNC(E92+G92+I92,-1) -> 0 | L92: =ROUNDUP(F92+H92+J92,0) -> 0 | AV92: 0
D93: 0 | E93: 0 | F93: =ROUNDUP(D93*E93,0) -> 0 | G93: 0 | H93: =ROUNDUP(D93*G93,0) -> 0 | I93: 0 | J93: =ROUNDUP(D93*I93,0) -> 0 | K93: =TRUNC(E93+G93+I93,-1) -> 0 | L93: =ROUNDUP(F93+H93+J93,0) -> 0 | AV93: 0
D94: 0 | E94: 0 | F94: =ROUNDUP(D94*E94,0) -> 0 | G94: 0 | H94: =ROUNDUP(D94*G94,0) -> 0 | I94: 0 | J94: =ROUNDUP(D94*I94,0) -> 0 | K94: =TRUNC(E94+G94+I94,-1) -> 0 | L94: =ROUNDUP(F94+H94+J94,0) -> 0 | AV94: 0
D95: 0 | E95: 0 | F95: =ROUNDUP(D95*E95,0) -> 0 | G95: 0 | H95: =ROUNDUP(D95*G95,0) -> 0 | I95: 0 | J95: =ROUNDUP(D95*I95,0) -> 0 | K95: =TRUNC(E95+G95+I95,-1) -> 0 | L95: =ROUNDUP(F95+H95+J95,0) -> 0 | AV95: 0
D96: 0 | E96: 0 | F96: =ROUNDUP(D96*E96,0) -> 0 | G96: 0 | H96: =ROUNDUP(D96*G96,0) -> 0 | I96: 0 | J96: =ROUNDUP(D96*I96,0) -> 0 | K96: =TRUNC(E96+G96+I96,-1) -> 0 | L96: =ROUNDUP(F96+H96+J96,0) -> 0 | AV96: 0
D97: 0 | E97: 0 | F97: =ROUNDUP(D97*E97,0) -> 0 | G97: 0 | H97: =ROUNDUP(D97*G97,0) -> 0 | I97: 0 | J97: =ROUNDUP(D97*I97,0) -> 0 | K97: =TRUNC(E97+G97+I97,-1) -> 0 | L97: =ROUNDUP(F97+H97+J97,0) -> 0 | AV97: 0
D98: 0 | E98: 0 | F98: =ROUNDUP(D98*E98,0) -> 0 | G98: 0 | H98: =ROUNDUP(D98*G98,0) -> 0 | I98: 0 | J98: =ROUNDUP(D98*I98,0) -> 0 | K98: =TRUNC(E98+G98+I98,-1) -> 0 | L98: =ROUNDUP(F98+H98+J98,0) -> 0 | AV98: 0
D99: 0 | E99: 0 | F99: =ROUNDUP(D99*E99,0) -> 0 | G99: 0 | H99: =ROUNDUP(D99*G99,0) -> 0 | I99: 0 | J99: =ROUNDUP(D99*I99,0) -> 0 | K99: =TRUNC(E99+G99+I99,-1) -> 0 | L99: =ROUNDUP(F99+H99+J99,0) -> 0 | AV99: 0
... D107: 0 | E107: 0 | F107: =ROUNDUP(D107*E107,0) -> 0 | G107: 0 | H107: =ROUNDUP(D107*G107,0) -> 0 | I107: 0 | J107: =ROUNDUP(D107*I107,0) -> 0 | K107: =TRUNC(E107+G107+I107,-1) -> 0 | L107: =ROUNDUP(F107+H107+J107,0) -> 0 | AV107: 0
A108: [ 합 계 ] | E108: 0 | F108: =ROUNDUP(SUMIF(Q84:Q107, Q83,F84:F107),0) -> 0 | G108: 0 | H108: =ROUNDUP(SUMIF(Q84:Q107, Q83,H84:H107),0) -> 0 | I108: 0 | J108: =ROUNDUP(SUMIF(Q84:Q107, Q83,J84:J107),0) -> 0 | L108: =F108+H108+J108 -> 0
A109: 0105 도장공사 | Q109: 0105 | R109: 100005 | S109: 0
A110: 바탕+낙서방지 페인트칠 | B110: 롤러 2회 칠, 석고보드면(올퍼티) | C110: M2 | D110: 135 | K110: =TRUNC(E110+G110+I110,-1) -> 0 | L110: =ROUNDUP(F110+H110+J110,0) -> 0 | N110: =HYPERLINK("#일위대가목록!A20", "ANO000131020") -> ANO000131020 | Q110: 0105 | R110: 100005 | S110: 10 | T110: T | U110: F | V110: F | X110: 0 | Y110: 0 | Z110: 0 | AA110: 0 | AB110: 0 | AC110: 0 | AD110: 0 | AE110: 0 | AF110: 0 | AG110: 0 | AH110: 0 | AI110: 6 | AJ110: 0 | AK110: 0 | AL110: 0 | AM110: 0 | AN110: 0 | AO110: 0 | AP110: 0 | AQ110: 0 | AR110: 0 | AS110: 0 | AT110: 0 | AV110: 100
D111: 0 | E111: 0 | F111: =ROUNDUP(D111*E111,0) -> 0 | G111: 0 | H111: =ROUNDUP(D111*G111,0) -> 0 | I111: 0 | J111: =ROUNDUP(D111*I111,0) -> 0 | K111: =TRUNC(E111+G111+I111,-1) -> 0 | L111: =ROUNDUP(F111+H111+J111,0) -> 0 | AV111: 0
D112: 0 | E112: 0 | F112: =ROUNDUP(D112*E112,0) -> 0 | G112: 0 | H112: =ROUNDUP(D112*G112,0) -> 0 | I112: 0 | J112: =ROUNDUP(D112*I112,0) -> 0 | K112: =TRUNC(E112+G112+I112,-1) -> 0 | L112: =ROUNDUP(F112+H112+J112,0) -> 0 | AV112: 0
D113: 0 | E113: 0 | F113: =ROUNDUP(D113*E113,0) -> 0 | G113: 0 | H113: =ROUNDUP(D113*G113,0) -> 0 | I113: 0 | J113: =ROUNDUP(D113*I113,0) -> 0 | K113: =TRUNC(E113+G113+I113,-1) -> 0 | L113: =ROUNDUP(F113+H113+J113,0) -> 0 | AV113: 0
D114: 0 | E114: 0 | F114: =ROUNDUP(D114*E114,0) -> 0 | G114: 0 | H114: =ROUNDUP(D114*G114,0) -> 0 | I114: 0 | J114: =ROUNDUP(D114*I114,0) -> 0 | K114: =TRUNC(E114+G114+I114,-1) -> 0 | L114: =ROUNDUP(F114+H114+J114,0) -> 0 | AV114: 0
D115: 0 | E115: 0 | F115: =ROUNDUP(D115*E115,0) -> 0 | G115: 0 | H115: =ROUNDUP(D115*G115,0) -> 0 | I115: 0 | J115: =ROUNDUP(D115*I115,0) -> 0 | K115: =TRUNC(E115+G115+I115,-1) -> 0 | L115: =ROUNDUP(F115+H115+J115,0) -> 0 | AV115: 0
D116: 0 | E116: 0 | F116: =ROUNDUP(D116*E116,0) -> 0 | G116: 0 | H116: =ROUNDUP(D116*G116,0) -> 0 | I116: 0 | J116: =ROUNDUP(D116*I116,0) -> 0 | K116: =TRUNC(E116+G116+I116,-1) -> 0 | L116: =ROUNDUP(F116+H116+J116,0) -> 0 | AV116: 0
D117: 0 | E117: 0 | F117: =ROUNDUP(D117*E117,0) -> 0 | G117: 0 | H117: =ROUNDUP(D117*G117,0) -> 0 | I117: 0 | J117: =ROUNDUP(D117*I117,0) -> 0 | K117: =TRUNC(E117+G117+I117,-1) -> 0 | L117: =ROUNDUP(F117+H117+J117,0) -> 0 | AV117: 0
D118: 0 | E118: 0 | F118: =ROUNDUP(D118*E118,0) -> 0 | G118: 0 | H118: =ROUNDUP(D118*G118,0) -> 0 | I118: 0 | J118: =ROUNDUP(D118*I118,0) -> 0 | K118: =TRUNC(E118+G118+I118,-1) -> 0 | L118: =ROUNDUP(F118+H118+J118,0) -> 0 | AV118: 0
D119: 0 | E119: 0 | F119: =ROUNDUP(D119*E119,0) -> 0 | G119: 0 | H119: =ROUNDUP(D119*G119,0) -> 0 | I119: 0 | J119: =ROUNDUP(D119*I119,0) -> 0 | K119: =TRUNC(E119+G119+I119,-1) -> 0 | L119: =ROUNDUP(F119+H119+J119,0) -> 0 | AV119: 0
D120: 0 | E120: 0 | F120: =ROUNDUP(D120*E120,0) -> 0 | G120: 0 | H120: =ROUNDUP(D120*G120,0) -> 0 | I120: 0 | J120: =ROUNDUP(D120*I120,0) -> 0 | K120: =TRUNC(E120+G120+I120,-1) -> 0 | L120: =ROUNDUP(F120+H120+J120,0) -> 0 | AV120: 0
D121: 0 | E121: 0 | F121: =ROUNDUP(D121*E121,0) -> 0 | G121: 0 | H121: =ROUNDUP(D121*G121,0) -> 0 | I121: 0 | J121: =ROUNDUP(D121*I121,0) -> 0 | K121: =TRUNC(E121+G121+I121,-1) -> 0 | L121: =ROUNDUP(F121+H121+J121,0) -> 0 | AV121: 0
D122: 0 | E122: 0 | F122: =ROUNDUP(D122*E122,0) -> 0 | G122: 0 | H122: =ROUNDUP(D122*G122,0) -> 0 | I122: 0 | J122: =ROUNDUP(D122*I122,0) -> 0 | K122: =TRUNC(E122+G122+I122,-1) -> 0 | L122: =ROUNDUP(F122+H122+J122,0) -> 0 | AV122: 0
... D133: 0 | E133: 0 | F133: =ROUNDUP(D133*E133,0) -> 0 | G133: 0 | H133: =ROUNDUP(D133*G133,0) -> 0 | I133: 0 | J133: =ROUNDUP(D133*I133,0) -> 0 | K133: =TRUNC(E133+G133+I133,-1) -> 0 | L133: =ROUNDUP(F133+H133+J133,0) -> 0 | AV133: 0
A134: [ 합 계 ] | E134: 0 | F134: =ROUNDUP(SUMIF(Q110:Q133, Q109,F110:F133),0) -> 0 | G134: 0 | H134: =ROUNDUP(SUMIF(Q110:Q133, Q109,H110:H133),0) -> 0 | I134: 0 | J134: =ROUNDUP(SUMIF(Q110:Q133, Q109,J110:J133),0) -> 0 | L134: =F134+H134+J134 -> 0
A135: 0106 철거공사 | Q135: 0106 | R135: 100008 | S135: 0
A136: 경량철골천정틀 철거 | C136: M2 | D136: 32 | K136: =TRUNC(E136+G136+I136,-1) -> 0 | L136: =ROUNDUP(F136+H136+J136,0) -> 0 | N136: =HYPERLINK("#일위대가목록!A21", "AQA124300001") -> AQA124300001 | Q136: 0106 | R136: 100008 | S136: 10 | T136: T | U136: F | V136: F | X136: 0 | Y136: 0 | Z136: 0 | AA136: 0 | AB136: 0 | AC136: 0 | AD136: 0 | AE136: 0 | AF136: 0 | AG136: 0 | AH136: 0 | AI136: 9 | AJ136: 0 | AK136: 0 | AL136: 0 | AM136: 0 | AN136: 0 | AO136: 0 | AP136: 0 | AQ136: 0 | AR136: 0 | AS136: 0 | AT136: 0 | AV136: 100
...
