Workbook
Name ___LPB1: [1]부하계산서!#REF!
Name ___LPK1: [1]부하계산서!#REF!
Name ___LU1: '[2]부하(성남)'!#REF!
Name ___LU2: '[2]부하(성남)'!#REF!
Name ___LV01: '[2]부하(성남)'!#REF!
Name ___UP1: [1]부하계산서!#REF!
Name ___UP2: [1]부하계산서!#REF!
Name __LP2: #REF!
Name __LPB1: [1]부하계산서!#REF!
Name __LPK1: [1]부하계산서!#REF!
Name __LU1: '[2]부하(성남)'!#REF!
Name __LU2: '[2]부하(성남)'!#REF!
Name __LV01: '[2]부하(성남)'!#REF!
Name __UP1: [1]부하계산서!#REF!
Name __UP2: [1]부하계산서!#REF!
Name _1._PANEL_BD.__LP___1: #REF!
Name _1월: #REF!
Name _2._날_개_벽: #REF!
Name _2월: #REF!
Name _3월: #REF!
Name _4월: #REF!
Name _50억이상: [3]단위수량!#REF!
Name _5억원미만: [3]단위수량!#REF!
Name _5억이상_50억원미만: [3]단위수량!#REF!
Name _5월: #REF!
Name _6월: #REF!
Name _CDT2: #REF!
Name _LP1: #REF!
Name _LP2: #REF!
Name _LPB1: [1]부하계산서!#REF!
Name _LPK1: [1]부하계산서!#REF!
Name _LU1: '[2]부하(성남)'!#REF!
Name _LU2: '[2]부하(성남)'!#REF!
Name _LV01: '[2]부하(성남)'!#REF!
Name _UP1: [1]부하계산서!#REF!
Name _UP2: [1]부하계산서!#REF!
Name \0: #N/A
Name \a: #N/A
Name \c: #N/A
Name \e: #N/A
Name \m: #N/A
Name \p: #N/A
Name \s: #N/A
Name \z: #N/A
Name a: [0]!집
Name AAAA: AAAAA
Name AAAAA: [0]!AAAAA
Name ART: #REF!
Name b: [0]!b
Name CAL: #N/A
Name CALAA: #N/A
Name CALAB: #N/A
Name CALAC: #N/A
Name CALBA: #N/A
Name CALBB: #N/A
Name CALBC: #N/A
Name CALBD: #N/A
Name CALBE: #N/A
Name CALBF: #N/A
Name CALBG: #REF!

Sheet 원가계산서
A1: 공 사 원 가 계 산 서
A2: =공종별집계표!A2 -> 공사명: [대학혁신지원사업]백은관, 취업지원센터 단열창호 교체공사 | F2: ="금액: 일금 "&NUMBERSTRING(E34,1)&"원정("&TEXT(E34,"#,###원")&")" -> 금액: 일금 영원정(원)
B3: 비 목 | E3: 금 액 | F3: 구 성 비 | G3: 비 고
A4: A10 | B4: 순 공 사 원 가 | C4: 재 료 비 | D4: 직 접 재 료 비 | E4: =공종별집계표!F27 -> 0
A5: A20 | D5: 간 접 재 료 비 | E5: 0
A6: AZZ | D6: [ 소 계 ] | E6: =E4+E5 -> 0
A7: B10 | C7: 노 무 비 | D7: 직 접 노 무 비 | E7: =공종별집계표!H27 -> 0
A8: B20 | D8: 간 접 노 무 비
A9: BZZ | D9: [ 소 계 ] | E9: =E7+E8 -> 0
A10: C30 | C10: 경 비 | D10: 기 계 경 비 | E10: =공종별집계표!J27 -> 0
A11: C90 | D11: 산 재 보 험 료 | E11: =E9*3.56% -> 0 | F11: 노무비*3.56%
A12: CA0 | D12: 고 용 보 험 료 | E12: =E9*1.01% -> 0 | F12: 노무비*1.01%
A13: CB0 | D13: 국민 건강 보험료 | E13: 9405968 | F13: 직노*3.545% | G13: 공사기간 30일 이상 적용
A14: CC0 | D14: 국민 연금 보험료 | E14: 11939875 | F14: 직노*4.5% | G14: 30일 이상 적용
A15: CD0 | D15: 노인장기요양보험료 | E15: 1218073 | F15: 건강보험료*12.95% | G15: 30일 이상 적용
A16: CE0 | D16: 퇴직 공제 부금비 | G16: 민간공사 50억이상 적용
A17: CH0 | D17: 산업안전보건관리비 | E17: 14175121 | F17: (재+직노)x2.28%
A18: CH1 | D18: (A)
A19: CH2 | D19: (B)
A20: CQ0 | D20: 환경보전비 | E20: =(E6+E9+E10)*0.5% -> 0 | F20: (재+노+기계경비)x0.5%
A21: CT0 | D21: 기 타 경 비 | E21: =(E6+E9)*5.2% -> 0 | F21: (재+노)*5.2%
A22: CV0 | D22: 하도급지급보증수수료
A23: CW0 | D23: 건설기계대여금지급보증서발급수수료
A24: CZZ | D24: [ 소 계 ]
A25: DZZ | B25: 계
A26: E10 | B26: 일 반 관 리 비 | F26: (재+노+경)x6%
A27: E20 | B27: 이 윤 | F27: (노무비+경비+일반관리비)*10%
A28: F70 | B28: 폐기물처리비
A29: P10 | B29: 공 급 가 액
A30: P20 | B30: 부 가 가 치 세 | F30: 공급가액 * 10%
A31: P30 | B31: 도 급 액
A32: Q10 | B32: 도급자설치 관급자재 | F32: 부가세,조달수수료포함
A33: Q20 | B33: 관급자설치 관급자재 | F33: 부가세,조달수수료포함
A34: W10 | B34: 총 공 사 비

Sheet 공종별집계표
A1: 공 종 별 집 계 표
A2: ='공종별내역서(백은관)'!A2 -> 공사명: [대학혁신지원사업]백은관, 취업지원센터 단열창호 교체공사
A3: 품 목 | B3: 규격 | C3: 단위 | D3: 수량 | E3: 재 료 비 | G3: 노 무 비 | I3: 경 비 | K3: 합 계 | M3: 비 고
E4: 단 가 | F4: 금 액 | G4: 단 가 | H4: 금 액 | I4: 단 가 | J4: 금 액 | K4: 단 가 | L4: 금 액
A5: ='공종별내역서(백은관)'!A5 -> 1. 백은관 창호교체
A6: ='공종별내역서(백은관)'!A6 -> 가. 철거공사 | C6: 식 | D6: 1 | F6: ='공종별내역서(백은관)'!F29 -> 0 | G6: ='공종별내역서(백은관)'!G29 -> 0 | H6: ='공종별내역서(백은관)'!H29 -> 0 | I6: ='공종별내역서(백은관)'!I29 -> 0 | J6: ='공종별내역서(백은관)'!J29 -> 0 | K6: ='공종별내역서(백은관)'!K29 -> 0 | L6: ='공종별내역서(백은관)'!L29 -> 0 | N6: 01 | O6: 100000
A7: ='공종별내역서(백은관)'!A30 -> 나. 창호공사 | C7: 식 | D7: 1 | F7: ='공종별내역서(백은관)'!F53 -> 0 | G7: ='공종별내역서(백은관)'!G53 -> 0 | H7: ='공종별내역서(백은관)'!H53 -> 0 | I7: ='공종별내역서(백은관)'!I53 -> 0 | J7: ='공종별내역서(백은관)'!J53 -> 0 | K7: ='공종별내역서(백은관)'!K53 -> 0 | L7: ='공종별내역서(백은관)'!L53 -> 0 | N7: 0101 | O7: 100001
A8: ='공종별내역서(백은관)'!A54 -> 다. 유리공사 | C8: 식 | D8: 1 | F8: ='공종별내역서(백은관)'!F77 -> 0 | G8: ='공종별내역서(백은관)'!G77 -> 0 | H8: ='공종별내역서(백은관)'!H77 -> 0 | I8: ='공종별내역서(백은관)'!I77 -> 0 | J8: ='공종별내역서(백은관)'!J77 -> 0 | K8: ='공종별내역서(백은관)'!K77 -> 0 | L8: ='공종별내역서(백은관)'!L77 -> 0 | N8: 0102 | O8: 100002
A9: ='공종별내역서(백은관)'!A78 -> 라. 기타공사 | C9: 식 | D9: 1 | F9: ='공종별내역서(백은관)'!F84 -> 0 | G9: ='공종별내역서(백은관)'!G84 -> 0 | H9: ='공종별내역서(백은관)'!H84 -> 0 | I9: ='공종별내역서(백은관)'!I84 -> 0 | J9: ='공종별내역서(백은관)'!J84 -> 0 | K9: ='공종별내역서(백은관)'!K84 -> 0 | L9: ='공종별내역서(백은관)'!L84 -> 0 | N9: 0103 | O9: 100003
A10: ='공종별내역서(백은관)'!A85 -> 마. 폐기물 처리, 운반 | C10: 식 | D10: 1 | F10: ='공종별내역서(백은관)'!F85 -> 0 | G10: ='공종별내역서(백은관)'!G85 -> 0 | H10: ='공종별내역서(백은관)'!H85 -> 0 | J10: ='공종별내역서(백은관)'!J85 -> 0 | L10: ='공종별내역서(백은관)'!L85 -> 0 | N10: 0104 | O10: 100004
A11: ='공종별내역서(취업지원센터)'!A5 -> 2. 취업지원센터 창호교체 | N11: 0105 | O11: 100005
A12: ='공종별내역서(취업지원센터)'!A6 -> 가. 철거공사 | C12: 식 | D12: 1 | F12: ='공종별내역서(취업지원센터)'!F23 -> 0 | G12: ='공종별내역서(취업지원센터)'!G23 -> 0 | H12: ='공종별내역서(취업지원센터)'!H23 -> 0 | I12: ='공종별내역서(취업지원센터)'!I23 -> 0 | J12: ='공종별내역서(취업지원센터)'!J23 -> 0 | K12: ='공종별내역서(취업지원센터)'!K23 -> 0 | L12: ='공종별내역서(취업지원센터)'!L23 -> 0 | N12: 0106 | O12: 100006
A13: ='공종별내역서(취업지원센터)'!A24 -> 나. 창호공사 | C13: 식 | D13: 1 | F13: ='공종별내역서(취업지원센터)'!F41 -> 0 | G13: ='공종별내역서(취업지원센터)'!G41 -> 0 | H13: ='공종별내역서(취업지원센터)'!H41 -> 0 | I13: ='공종별내역서(취업지원센터)'!I41 -> 0 | J13: ='공종별내역서(취업지원센터)'!J41 -> 0 | K13: ='공종별내역서(취업지원센터)'!K41 -> 0 | L13: ='공종별내역서(취업지원센터)'!L41 -> 0 | N13: 0107 | O13: 100007
A14: ='공종별내역서(취업지원센터)'!A42 -> 다. 유리공사 | C14: 식 | D14: 1 | F14: ='공종별내역서(취업지원센터)'!F59 -> 0 | G14: ='공종별내역서(취업지원센터)'!G59 -> 0 | H14: ='공종별내역서(취업지원센터)'!H59 -> 0 | I14: ='공종별내역서(취업지원센터)'!I59 -> 0 | J14: ='공종별내역서(취업지원센터)'!J59 -> 0 | K14: ='공종별내역서(취업지원센터)'!K59 -> 0 | L14: ='공종별내역서(취업지원센터)'!L59 -> 0 | N14: 0108 | O14: 100009
A15: ='공종별내역서(취업지원센터)'!A60 -> 라. 기타공사 | C15: 식 | D15: 1 | F15: ='공종별내역서(취업지원센터)'!F64 -> 0 | G15: ='공종별내역서(취업지원센터)'!G64 -> 0 | H15: ='공종별내역서(취업지원센터)'!H64 -> 0 | I15: ='공종별내역서(취업지원센터)'!I64 -> 0 | J15: ='공종별내역서(취업지원센터)'!J64 -> 0 | K15: ='공종별내역서(취업지원센터)'!K64 -> 0 | L15: ='공종별내역서(취업지원센터)'!L64 -> 0 | N15: 0109 | O15: 100010
A16: ='공종별내역서(취업지원센터)'!A65 -> 마. 폐기물 처리, 운반 | C16: 식 | D16: 1 | F16: ='공종별내역서(취업지원센터)'!F65 -> 0 | G16: ='공종별내역서(취업지원센터)'!G65 -> 0 | H16: ='공종별내역서(취업지원센터)'!H65 -> 0 | J16: ='공종별내역서(취업지원센터)'!J65 -> 0 | L16: ='공종별내역서(취업지원센터)'!L65 -> 0
A27: [ 합 계 ] | F27: =SUM(F6:F26) -> 0 | G27: =SUM(G6:G26) -> 0 | H27: =SUM(H6:H26) -> 0 | J27: =SUM(J12:J14,J6:J8) -> 0 | K27: =SUM(K6:K9) -> 0 | L27: =SUM(L6:L9,L12:L15) -> 0

Sheet 공종별내역서(백은관)
A1: 공 종 별 내 역 서
A2: 공사명: [대학혁신지원사업]백은관, 취업지원센터 단열창호 교체공사
A3: 품 목 | B3: 규격 | C3: 단위 | D3: 수량 | E3: 재 료 비 | G3: 노 무 비 | I3: 경 비 | K3: 합 계 | M3: 비 고
E4: 단 가 | F4: 금 액 | G4: 단 가 | H4: 금 액 | I4: 단 가 | J4: 금 액 | K4: 단 가 | L4: 금 액
A5: 1. 백은관 창호교체
A6: 가. 철거공사
A7: 기존창호철거 1/SW | B7: 6550*900 | C7: 개소 | D7: 4
A8: 기존창호철거 2/SW | B8: 6125*900 | C8: 개소 | D8: 2
A9: 기존창호철거 3/SW | B9: 6100*900 | C9: 개소 | D9: 1
A10: 기존창호철거 4/SW | B10: 3125*900 | C10: 개소 | D10: 2
A11: 기존창호철거 5/SW | B11: 4950*900 | C11: 개소 | D11: 1
A12: 기존창호철거 6/SW | B12: 4800*900 | C12: 개소 | D12: 1
A13: 기존창호철거 7/SW | B13: 4600*900 | C13: 개소 | D13: 2
A14: 기존창호철거 8/SW | B14: 1200*900 | C14: 개소 | D14: 4
A15: 기존창호철거 3/HW | B15: 2700*1800 | C15: 개소 | D15: 31
A16: 기존창호철거 4/HW | B16: 1650*2100 | C16: 개소 | D16: 10
A17: 기존창호철거 5/HW | B17: 1200*2100 | C17: 개소 | D17: 18
A18: 기존창호철거 6/HW | B18: 900*2100 | C18: 개소 | D18: 28
... A27: 기존창호철거 16/HW | B27: 1800*1200 | C27: 개소 | D27: 3
A28: 장비대 | B28: 5TON | C28: 대 | D28: 15 | U28: 1.1
A29: 소계 | N29: 규격 | O29: 면적 | P29: 재료비 | Q29: 유리 | R29: 노무비 | S29: 철거/설치비
A30: 나. 창호공사 | P30: 140000 | Q30: 0.3 | S30: 0.5
A31: 창호신설 1/SW | B31: 6550*900 | C31: 개소 | D31: 4 | N31: 2001670 | O31: =6.55*0.9 -> 5.895 | P31: =$P$30*O31 -> 825300 | Q31: =P31*$Q$30 -> 247590 | R31: =N31-P31-Q31 -> 928780 | S31: =$S$30*R31 -> 464390 | U31: =$U$28*V31 -> 2001670 | V31: 1819700
A32: 창호신설 2/SW | B32: 6125*900 | C32: 개소 | D32: 2 | N32: 1701700 | O32: =6.125*0.9 -> 5.5125 | P32: =$P$30*O32 -> 771750 | Q32: =P32*$Q$30 -> 231525 | R32: =N32-P32-Q32 -> 698425 | S32: =$S$30*R32 -> 349212.5 | U32: =$U$28*V32 -> 1701700 | V32: 1547000
A33: 창호신설 3/SW | B33: 6100*900 | C33: 개소 | D33: 1 | N33: 1694000 | O33: =6.1*0.9 -> 5.49 | P33: =$P$30*O33 -> 768600 | Q33: =P33*$Q$30 -> 230580 | R33: =N33-P33-Q33 -> 694820 | S33: =$S$30*R33 -> 347410 | U33: =$U$28*V33 -> 1694000 | V33: 1540000
A34: 창호신설 4/SW | B34: 3125*900 | C34: 개소 | D34: 2 | N34: 880000 | O34: =3.125*0.9 -> 2.8125 | P34: =$P$30*O34 -> 393750 | Q34: =P34*$Q$30 -> 118125 | R34: =N34-P34-Q34 -> 368125 | S34: =$S$30*R34 -> 184062.5 | U34: =$U$28*V34 -> 880000 | V34: 800000
A35: 창호신설 5/SW | B35: 4950*900 | C35: 개소 | D35: 1 | N35: 1339910 | O35: =4.95*0.9 -> 4.455 | P35: =$P$30*O35 -> 623700 | Q35: =P35*$Q$30 -> 187110 | R35: =N35-P35-Q35 -> 529100 | S35: =$S$30*R35 -> 264550 | U35: =$U$28*V35 -> 1339910 | V35: 1218100
A36: 창호신설 6/SW | B36: 4800*900 | C36: 개소 | D36: 1 | N36: 1331099 | O36: =4.8*0.9 -> 4.32 | P36: =$P$30*O36 -> 604800 | Q36: =P36*$Q$30 -> 181440 | R36: =N36-P36-Q36 -> 544859 | S36: =$S$30*R36 -> 272429.5 | U36: =$U$28*V36 -> 1331099 | V36: 1210090
A37: 창호신설 7/SW | B37: 4600*900 | C37: 개소 | D37: 2 | N37: 1314610 | O37: =4.6*0.9 -> 4.14 | P37: =$P$30*O37 -> 579600 | Q37: =P37*$Q$30 -> 173880 | R37: =N37-P37-Q37 -> 561130 | S37: =$S$30*R37 -> 280565 | U37: =$U$28*V37 -> 1314610 | V37: 1195100
A38: 창호신설 8/SW | B38: 1200*900 | C38: 개소 | D38: 4 | N38: 398970 | O38: =1.2*0.9 -> 1.08 | P38: =$P$30*O38 -> 151200 | Q38: =P38*$Q$30 -> 45360 | R38: =N38-P38-Q38 -> 202410 | S38: =$S$30*R38 -> 101205 | U38: =$U$28*V38 -> 398970 | V38: 362700
A39: 창호신설 3/HW | B39: 2700*1800 | C39: 개소 | D39: 31 | N39: 1103960 | O39: =2.7*1.8 -> 4.86 | P39: =$P$30*O39 -> 680400 | Q39: =P39*$Q$30 -> 204120 | R39: =N39-P39-Q39 -> 219440 | S39: =$S$30*R39 -> 109720 | U39: =$U$28*V39 -> 1103960 | V39: 1003600
A40: 창호신설 4/HW | B40: 1650*2100 | C40: 개소 | D40: 10 | N40: 646360 | O40: =1.65*2.1 -> 3.465 | P40: =$P$30*O40 -> 485100 | Q40: =P40*$Q$30 -> 145530 | R40: =N40-P40-Q40 -> 15730 | S40: =$S$30*R40 -> 7865 | U40: =$U$28*V40 -> 646360 | V40: 587600
A41: 창호신설 5/HW | B41: 1200*2100 | C41: 개소 | D41: 18 | N41: 587730 | O41: =1.2*2.1 -> 2.52 | P41: =$P$30*O41 -> 352800 | Q41: =P41*$Q$30 -> 105840 | R41: =N41-P41-Q41 -> 129090 | S41: =$S$30*R41 -> 64545 | U41: =$U$28*V41 -> 587730 | V41: 534300
A42: 창호신설 6/HW | B42: 900*2100 | C42: 개소 | D42: 28 | N42: 519090 | O42: =0.9*2.1 -> 1.89 | P42: =$P$30*O42 -> 264600 | Q42: =P42*$Q$30 -> 79380 | R42: =N42-P42-Q42 -> 175110 | S42: =$S$30*R42 -> 87555 | U42: =$U$28*V42 -> 519090 | V42: 471900
A43: 창호신설 7/HW | B43: 900*1500 | C43: 개소 | D43: 14 | N43: 494780 | O43: =0.9*1.5 -> 1.35 | P43: =$P$30*O43 -> 189000 | Q43: =P43*$Q$30 -> 56700 | R43: =N43-P43-Q43 -> 249080 | S43: =$S$30*R43 -> 124540 | U43: =$U$28*V43 -> 494780 | V43: 449800
A44: 창호신설 8/HW | B44: 2450*1800 | C44: 개소 | D44: 6 | N44: 1103960 | O44: =2.45*1.8 -> 4.41 | P44: =$P$30*O44 -> 617400 | Q44: =P44*$Q$30 -> 185220 | R44: =N44-P44-Q44 -> 301340 | S44: =$S$30*R44 -> 150670 | U44: =$U$28*V44 -> 1103960 | V44: 1003600
A45: 창호신설 9/HW | B45: 1200*1800 | C45: 개소 | D45: 486 | N45: 554840 | O45: =1.2*1.8 -> 2.16 | P45: =$P$30*O45 -> 302400 | Q45: =P45*$Q$30 -> 90720 | R45: =N45-P45-Q45 -> 161720 | S45: =$S$30*R45 -> 80860 | U45: =$U$28*V45 -> 554840 | V45: 504400
A46: 창호신설 10/HW | B46: 900*1800 | C46: 개소 | D46: 20 | N46: 497640 | O46: =0.9*1.8 -> 1.62 | P46: =$P$30*O46 -> 226800 | Q46: =P46*$Q$30 -> 68040 | R46: =N46-P46-Q46 -> 202800 | S46: =$S$30*R46 -> 101400 | U46: =$U$28*V46 -> 497640 | V46: 452400
A47: 창호신설 11/HW | B47: 1900*1200 | C47: 개소 | D47: 20 | N47: 577720 | O47: =1.9*1.2 -> 2.28 | P47: =$P$30*O47 -> 319200 | Q47: =P47*$Q$30 -> 95760 | R47: =N47-P47-Q47 -> 162760 | S47: =$S$30*R47 -> 81380 | U47: =$U$28*V47 -> 577720 | V47: 525200
A48: 창호신설 13/HW | B48: 1200*900 | C48: 개소 | D48: 14 | N48: 398970 | O48: =1.2*0.9 -> 1.08 | P48: =$P$30*O48 -> 151200 | Q48: =P48*$Q$30 -> 45360 | R48: =N48-P48-Q48 -> 202410 | S48: =$S$30*R48 -> 101205 | U48: =$U$28*V48 -> 398970 | V48: 362700
...

Sheet 공종별내역서(취업지원센터)
A1: 공 종 별 내 역 서
A2: 공사명: [대학혁신지원사업]백은관, 취업지원센터 단열창호 교체공사
A3: 품 목 | B3: 규격 | C3: 단위 | D3: 수량 | E3: 재 료 비 | G3: 노 무 비 | I3: 경 비 | K3: 합 계 | M3: 비 고
E4: 단 가 | F4: 금 액 | G4: 단 가 | H4: 금 액 | I4: 단 가 | J4: 금 액 | K4: 단 가 | L4: 금 액
A5: 2. 취업지원센터 창호교체
A6: 가. 철거공사
A7: 기존창호철거 1/CAW | B7: 3200x1800 | C7: 개소 | D7: 5
A8: 기존창호철거 1A/CAW | B8: 3200x1800 | C8: 개소 | D8: 2
A9: 기존창호철거 2/CAW | B9: 3000x1800 | C9: 개소 | D9: 4
A10: 기존창호철거 2A/CAW | B10: 3000X1800 | C10: 개소 | D10: 2
A11: 기존창호철거 3/CAW | B11: 2000x1800 | C11: 개소 | D11: 7
A12: 기존창호철거 3A/CAW | B12: 2000x1800 | C12: 개소 | D12: 3
A13: 기존창호철거 4/CAW | B13: 1800x1500 | C13: 개소 | D13: 2
A14: 기존창호철거 5/CAW | B14: 1700x1500 | C14: 개소 | D14: 3
A15: 기존창호철거 6/CAW | B15: 1500x1500 | C15: 개소 | D15: 1
A16: 기존창호철거 8/CAW | B16: 1200x1500 | C16: 개소 | D16: 3
A17: 기존창호철거 8A/CAW | B17: 1200x1500 | C17: 개소 | D17: 2
A18: 기존창호철거 9/CAW | B18: 1000x1800 | C18: 개소 | D18: 2
... A22: 장비대 | B22: 5TON | C22: 대 | D22: 2
A23: 소계 | N23: 규격 | O23: 면적 | P23: 재료비 | Q23: 유리 | R23: 노무비 | S23: 철거/설치비
A24: 나. 창호공사 | P24: 140000 | Q24: 0.3 | S24: 0.5
A25: 창호신설 1/CAW | B25: 3200x1800 | C25: 개소 | D25: 5 | N25: 2001670 | O25: =3.2*1.8 -> 5.76 | P25: =$P$24*O25 -> 806400 | Q25: =P25*$Q$24 -> 241920 | R25: =N25-P25-Q25 -> 953350 | S25: =$S$24*R25 -> 476675 | T25: =N25/O25 -> 347512.15
A26: 창호신설 1A/CAW | B26: 3200x1800 | C26: 개소 | D26: 2 | N26: =N25 -> 2001670 | O26: =3.2*1.8 -> 5.76 | P26: =$P$24*O26 -> 806400 | Q26: =P26*$Q$24 -> 241920 | R26: =N26-P26-Q26 -> 953350 | S26: =$S$24*R26 -> 476675
A27: 창호신설 2/CAW | B27: 3000x1800 | C27: 개소 | D27: 4 | N27: =O27*$T$25 -> 1876565.6 | O27: =3*1.8 -> 5.4 | P27: =$P$24*O27 -> 756000 | Q27: =P27*$Q$24 -> 226800 | R27: =N27-P27-Q27 -> 893765.62 | S27: =$S$24*R27 -> 446882.81
A28: 창호신설 2A/CAW | B28: 3000X1800 | C28: 개소 | D28: 2 | N28: =O28*$T$25 -> 1876565.6 | O28: =3*1.8 -> 5.4 | P28: =$P$24*O28 -> 756000 | Q28: =P28*$Q$24 -> 226800 | R28: =N28-P28-Q28 -> 893765.62 | S28: =$S$24*R28 -> 446882.81
A29: 창호신설 3/CAW | B29: 2000x1800 | C29: 개소 | D29: 7 | N29: =O29*$T$25 -> 1251043.8 | O29: =2*1.8 -> 3.6 | P29: =$P$24*O29 -> 504000 | Q29: =P29*$Q$24 -> 151200 | R29: =N29-P29-Q29 -> 595843.75 | S29: =$S$24*R29 -> 297921.88
A30: 창호신설 3A/CAW | B30: 2000x1800 | C30: 개소 | D30: 3 | N30: =O30*$T$25 -> 1251043.8 | O30: =2*1.8 -> 3.6 | P30: =$P$24*O30 -> 504000 | Q30: =P30*$Q$24 -> 151200 | R30: =N30-P30-Q30 -> 595843.75 | S30: =$S$24*R30 -> 297921.88
A31: 창호신설 4/CAW | B31: 1800x1500 | C31: 개소 | D31: 2 | N31: =O31*$T$25 -> 938282.81 | O31: =1.8*1.5 -> 2.7 | P31: =$P$24*O31 -> 378000 | Q31: =P31*$Q$24 -> 113400 | R31: =N31-P31-Q31 -> 446882.81 | S31: =$S$24*R31 -> 223441.41
A32: 창호신설 5/CAW | B32: 1700x1500 | C32: 개소 | D32: 3 | N32: =O32*$T$25 -> 886155.99 | O32: =1.7*1.5 -> 2.55 | P32: =$P$24*O32 -> 357000 | Q32: =P32*$Q$24 -> 107100 | R32: =N32-P32-Q32 -> 422055.99 | S32: =$S$24*R32 -> 211027.99
A33: 창호신설 6/CAW | B33: 1500x1500 | C33: 개소 | D33: 1 | N33: =O33*$T$25 -> 781902.34 | O33: =1.5*1.5 -> 2.25 | P33: =$P$24*O33 -> 315000 | Q33: =P33*$Q$24 -> 94500 | R33: =N33-P33-Q33 -> 372402.34 | S33: =$S$24*R33 -> 186201.17
A34: 창호신설 8/CAW | B34: 1200x1500 | C34: 개소 | D34: 3 | N34: =O34*$T$25 -> 625521.87 | O34: =1.2*1.5 -> 1.8 | P34: =$P$24*O34 -> 252000 | Q34: =P34*$Q$24 -> 75600 | R34: =N34-P34-Q34 -> 297921.87 | S34: =$S$24*R34 -> 148960.94
A35: 창호신설 8A/CAW | B35: 1200x1500 | C35: 개소 | D35: 2 | N35: =O35*$T$25 -> 625521.87 | O35: =1.2*1.5 -> 1.8 | P35: =$P$24*O35 -> 252000 | Q35: =P35*$Q$24 -> 75600 | R35: =N35-P35-Q35 -> 297921.87 | S35: =$S$24*R35 -> 148960.94
A36: 창호신설 9/CAW | B36: 1000x1800 | C36: 개소 | D36: 2 | N36: =O36*$T$25 -> 625521.88 | O36: =1*1.8 -> 1.8 | P36: =$P$24*O36 -> 252000 | Q36: =P36*$Q$24 -> 75600 | R36: =N36-P36-Q36 -> 297921.88 | S36: =$S$24*R36 -> 148960.94
A37: 창호신설 10/CAW | B37: 800x1800 | C37: 개소 | D37: 8 | N37: =O37*$T$25 -> 500417.5 | O37: =0.8*1.8 -> 1.44 | P37: =$P$24*O37 -> 201600 | Q37: =P37*$Q$24 -> 60480 | R37: =N37-P37-Q37 -> 238337.5 | S37: =$S$24*R37 -> 119168.75
A38: 창호신설 10A/CAW | B38: 800x1800 | C38: 개소 | D38: 4 | N38: =O38*$T$25 -> 500417.5 | O38: =0.8*1.8 -> 1.44 | P38: =$P$24*O38 -> 201600 | Q38: =P38*$Q$24 -> 60480 | R38: =N38-P38-Q38 -> 238337.5 | S38: =$S$24*R38 -> 119168.75
A39: 창호신설 11/CAW | B39: 800x1500 | C39: 개소 | D39: 2 | N39: =O39*$T$25 -> 417014.58 | O39: =0.8*1.5 -> 1.2 | P39: =$P$24*O39 -> 168000 | Q39: =P39*$Q$24 -> 50400 | R39: =N39-P39-Q39 -> 198614.58 | S39: =$S$24*R39 -> 99307.292
A40: 장비대 | B40: 5TON | C40: 대 | D40: 2
A41: 소계
A42: 다. 유리공사
A43: 1/CAW | B43: 24mm복층유리(5LE+14AR+5CL) | C43: ㎡ | D43: =O25*D25 -> 28.8
...

Sheet 중기단가목록
A1: 중 기 단 가 목 록
A2: 공사명: 봉경관 240호, 259-1호 공간조정 및 환경개선 공사
A3: 코 드 | B3: 품 명 | C3: 규 격 | D3: 단위 | E3: 재 료 비 | F3: 노 무 비 | G3: 경 비 | H3: 합 계 | I3: 비 고

Sheet 중기단가산출서
A1: 중 기 단 가 산 출 서
A2: 공사명: 봉경관 240호, 259-1호 공간조정 및 환경개선 공사
A3: 산 출 내 역 | B3: 재 료 비 | C3: 노 무 비 | D3: 경 비 | E3: 합 계 | F3: 비 고

Sheet 단가대비표
A1: 단 가 대 비 표
A2: 공사명: 봉경관 240호, 259-1호 공간조정 및 환경개선 공사
A3: 코 드 | B3: 품 목 | C3: 규격 | D3: 단위 | E3: 재 료 비 | V3: 노 무 비 | W3: 경 비 | AF3: 비 고 | AG3: 품목구분 | AH3: 노임구분 | AI3: 소수점처리 | AJ3: 자재구분 | AK3: 재료비 조정률 | AL3: 노무비 조정률 | AM3: 경비 조정률
E4: 조달청가격 | F4: PAGE | G4: 거래가격 | H4: PAGE | I4: 유통물가 | J4: PAGE | K4: 물가자료 | L4: PAGE | M4: 물가정보 | N4: PAGE | O4: 조사가격1 | P4: PAGE | Q4: 조사가격2 | R4: PAGE | S4: 조사가격3 | T4: PAGE | U4: 적용단가 | W4: 조달청가격 | X4: 거래가격 | Y4: 유통물가 | Z4: 물가자료 | AA4: 물가정보 | AB4: 조사가격1 | AC4: 조사가격2 | AD4: 조사가격3 | AE4: 적용단가
A5: 1112200320154876 | B5: 중밀도섬유판 | C5: 중밀도섬유판, 15*1220*2440mm | D5: M2 | E5: 7313 | G5: 10245.9 | H5: 672 | I5: 0 | K5: 0 | M5: 0 | O5: 0 | Q5: 0 | S5: 0 | U5: =ROUND(IF(MIN(E5,G5,I5,K5,M5,O5,Q5,S5)<0, MIN(E5,G5,I5,K5,M5,O5,Q5,S5), SMALL(E5:T5,COUNTIF(E5:T5,0)+1)) * 공사설정!$C$24 / 100*AK5/ 100, 2) -> 7313 | V5: =ROUND(0 * 공사설정!$C$25 / 100*AL5/ 100,2) -> 0 | W5: 0 | X5: 0 | Y5: 0 | Z5: 0 | AA5: 0 | AB5: 0 | AC5: 0 | AD5: 0 | AE5: =ROUND(IF(MIN(W5:AD5)=AVERAGE(W5:AD5), 0, IF(MIN(W5:AD5)<0, MIN(W5:AD5), SMALL(W5:AD5,COUNTIF(W5:AD5,0)+1))) * 공사설정!$C$26 / 100*AM5/ 100,2) -> 0 | AK5: 100 | AL5: 100 | AM5: 100
A6: 1412150420938865 | B6: 크라프트판지 | C6: 크라프트판지, 하드롱지 | D6: M2 | E6: 444 | G6: 3250 | H6: 692 | I6: 0 | K6: 0 | M6: 0 | O6: 0 | Q6: 0 | S6: 0 | U6: =ROUND(IF(MIN(E6,G6,I6,K6,M6,O6,Q6,S6)<0, MIN(E6,G6,I6,K6,M6,O6,Q6,S6), SMALL(E6:T6,COUNTIF(E6:T6,0)+1)) * 공사설정!$C$24 / 100*AK6/ 100, 2) -> 444 | V6: =ROUND(0 * 공사설정!$C$25 / 100*AL6/ 100,2) -> 0 | W6: 0 | X6: 0 | Y6: 0 | Z6: 0 | AA6: 0 | AB6: 0 | AC6: 0 | AD6: 0 | AE6: =ROUND(IF(MIN(W6:AD6)=AVERAGE(W6:AD6), 0, IF(MIN(W6:AD6)<0, MIN(W6:AD6), SMALL(W6:AD6,COUNTIF(W6:AD6,0)+1))) * 공사설정!$C$26 / 100*AM6/ 100,2) -> 0 | AK6: 100 | AL6: 100 | AM6: 100
A7: 2327181220080561 | B7: 연강용피복아크용접봉 | C7: 연강용피복아크용접봉, CR-13, Φ3.2mm | D7: kg | E7: 0 | G7: 4400 | H7: 1326 | I7: 0 | K7: 0 | M7: 0 | O7: 0 | Q7: 0 | S7: 0 | U7: =ROUND(IF(MIN(E7,G7,I7,K7,M7,O7,Q7,S7)<0, MIN(E7,G7,I7,K7,M7,O7,Q7,S7), SMALL(E7:T7,COUNTIF(E7:T7,0)+1)) * 공사설정!$C$24 / 100*AK7/ 100, 2) -> 4400 | V7: =ROUND(0 * 공사설정!$C$25 / 100*AL7/ 100,2) -> 0 | W7: 0 | X7: 0 | Y7: 0 | Z7: 0 | AA7: 0 | AB7: 0 | AC7: 0 | AD7: 0 | AE7: =ROUND(IF(MIN(W7:AD7)=AVERAGE(W7:AD7), 0, IF(MIN(W7:AD7)<0, MIN(W7:AD7), SMALL(W7:AD7,COUNTIF(W7:AD7,0)+1))) * 공사설정!$C$26 / 100*AM7/ 100,2) -> 0 | AK7: 100 | AL7: 100 | AM7: 100
A8: 3010369820141039 | B8: 각재 | C8: 각재, 미송 | D8: 재 | E8: 2512 | G8: 2500 | H8: 149 | I8: 0 | K8: 2400 | L8: 138 | M8: 0 | O8: 0 | Q8: 0 | S8: 0 | U8: =ROUND(IF(MIN(E8,G8,I8,K8,M8,O8,Q8,S8)<0, MIN(E8,G8,I8,K8,M8,O8,Q8,S8), SMALL(E8:T8,COUNTIF(E8:T8,0)+1)) * 공사설정!$C$24 / 100*AK8/ 100, 2) -> 2400 | V8: =ROUND(0 * 공사설정!$C$25 / 100*AL8/ 100,2) -> 0 | W8: 0 | X8: 0 | Y8: 0 | Z8: 0 | AA8: 0 | AB8: 0 | AC8: 0 | AD8: 0 | AE8: =ROUND(IF(MIN(W8:AD8)=AVERAGE(W8:AD8), 0, IF(MIN(W8:AD8)<0, MIN(W8:AD8), SMALL(W8:AD8,COUNTIF(W8:AD8,0)+1))) * 공사설정!$C$26 / 100*AM8/ 100,2) -> 0 | AK8: 100 | AL8: 100 | AM8: 100
A9: 3014150810028412 | B9: 그라스울 | C9: 섬유단열재, 유리솜, 밀도24kg/㎥, 50mm, 유리면매트 | D9: M2 | E9: 3004 | G9: 4280 | H9: 696 | I9: 0 | K9: 9240 | L9: 624 | M9: 0 | O9: 0 | Q9: 0 | S9: 0 | U9: =ROUND(IF(MIN(E9,G9,I9,K9,M9,O9,Q9,S9)<0, MIN(E9,G9,I9,K9,M9,O9,Q9,S9), SMALL(E9:T9,COUNTIF(E9:T9,0)+1)) * 공사설정!$C$24 / 100*AK9/ 100, 2) -> 3004 | V9: =ROUND(0 * 공사설정!$C$25 / 100*AL9/ 100,2) -> 0 | W9: 0 | X9: 0 | Y9: 0 | Z9: 0 | AA9: 0 | AB9: 0 | AC9: 0 | AD9: 0 | AE9: =ROUND(IF(MIN(W9:AD9)=AVERAGE(W9:AD9), 0, IF(MIN(W9:AD9)<0, MIN(W9:AD9), SMALL(W9:AD9,COUNTIF(W9:AD9,0)+1))) * 공사설정!$C$26 / 100*AM9/ 100,2) -> 0 | AK9: 100 | AL9: 100 | AM9: 100
A10: 3016150910027951 | B10: 석고보드 | C10: 석고보드, 평보드, 9.5*900*2400mm(㎡) | D10: M2 | E10: 2870 | G10: 3009.25 | H10: 675 | I10: 0 | K10: 2870.37 | L10: 667 | M10: 3148.14 | N10: 579 | O10: 0 | Q10: 0 | S10: 0 | U10: =ROUND(IF(MIN(E10,G10,I10,K10,M10,O10,Q10,S10)<0, MIN(E10,G10,I10,K10,M10,O10,Q10,S10), SMALL(E10:T10,COUNTIF(E10:T10,0)+1)) * 공사설정!$C$24 / 100*AK10/ 100, 2) -> 2870 | V10: =ROUND(0 * 공사설정!$C$25 / 100*AL10/ 100,2) -> 0 | W10: 0 | X10: 0 | Y10: 0 | Z10: 0 | AA10: 0 | AB10: 0 | AC10: 0 | AD10: 0 | AE10: =ROUND(IF(MIN(W10:AD10)=AVERAGE(W10:AD10), 0, IF(MIN(W10:AD10)<0, MIN(W10:AD10), SMALL(W10:AD10,COUNTIF(W10:AD10,0)+1))) * 공사설정!$C$26 / 100*AM10/ 100,2) -> 0 | AF10: 5.7~8.6kg/m2 | AJ10: 0 | AK10: 100 | AL10: 100 | AM10: 100
A11: 3016150920696281 | B11: 석고보드 | C11: 평보드, 차음, 12.5×900×1800mm(㎡) | D11: m2 | E11: 0 | G11: 4506.17 | H11: 675 | I11: 0 | K11: 0 | M11: 0 | O11: 0 | Q11: 0 | S11: 0 | U11: =ROUND(IF(MIN(E11,G11,I11,K11,M11,O11,Q11,S11)<0, MIN(E11,G11,I11,K11,M11,O11,Q11,S11), SMALL(E11:T11,COUNTIF(E11:T11,0)+1)) * 공사설정!$C$24 / 100*AK11/ 100, 2) -> 4506.17 | V11: =ROUND(0 * 공사설정!$C$25 / 100*AL11/ 100,2) -> 0 | W11: 0 | X11: 0 | Y11: 0 | Z11: 0 | AA11: 0 | AB11: 0 | AC11: 0 | AD11: 0 | AE11: =ROUND(IF(MIN(W11:AD11)=AVERAGE(W11:AD11), 0, IF(MIN(W11:AD11)<0, MIN(W11:AD11), SMALL(W11:AD11,COUNTIF(W11:AD11,0)+1))) * 공사설정!$C$26 / 100*AM11/ 100,2) -> 0 | AK11: 100 | AL11: 100 | AM11: 100
A12: 3016160222517492 | B12: 불연천장재 | C12: 불연천장재, 알루미늄천장재, 루버천장재, 50*50*50, 0.8T | D12: M2 | E12: 7000 | G12: 0 | I12: 0 | K12: 0 | M12: 0 | O12: 0 | Q12: 0 | S12: 0 | U12: =ROUND(IF(MIN(E12,G12,I12,K12,M12,O12,Q12,S12)<0, MIN(E12,G12,I12,K12,M12,O12,Q12,S12), SMALL(E12:T12,COUNTIF(E12:T12,0)+1)) * 공사설정!$C$24 / 100*AK12/ 100, 2) -> 7000 | V12: =ROUND(0 * 공사설정!$C$25 / 100*AL12/ 100,2) -> 0 | W12: 0 | X12: 0 | Y12: 0 | Z12: 0 | AA12: 0 | AB12: 0 | AC12: 0 | AD12: 0 | AE12: =ROUND(IF(MIN(W12:AD12)=AVERAGE(W12:AD12), 0, IF(MIN(W12:AD12)<0, MIN(W12:AD12), SMALL(W12:AD12,COUNTIF(W12:AD12,0)+1))) * 공사설정!$C$26 / 100*AM12/ 100,2) -> 0 | AK12: 100 | AL12: 100 | AM12: 100
A13: 3016160420162624 | B13: 경량철골천장틀 | C13: 경량철골천장틀, M-BAR더블, 50×19×0.5mm | D13: m | E13: 0 | G13: 1160 | H13: 677 | I13: 0 | K13: 1160 | L13: 503 | M13: 910 | N13: 630 | O13: 0 | Q13: 0 | S13: 0 | U13: =ROUND(IF(MIN(E13,G13,I13,K13,M13,O13,Q13,S13)<0, MIN(E13,G13,I13,K13,M13,O13,Q13,S13), SMALL(E13:T13,COUNTIF(E13:T13,0)+1)) * 공사설정!$C$24 / 100*AK13/ 100, 2) -> 910 | V13: =ROUND(0 * 공사설정!$C$25 / 100*AL13/ 100,2) -> 0 | W13: 0 | X13: 0 | Y13: 0 | Z13: 0 | AA13: 0 | AB13: 0 | AC13: 0 | AD13: 0 | AE13: =ROUND(IF(MIN(W13:AD13)=AVERAGE(W13:AD13), 0, IF(MIN(W13:AD13)<0, MIN(W13:AD13), SMALL(W13:AD13,COUNTIF(W13:AD13,0)+1))) * 공사설정!$C$26 / 100*AM13/ 100,2) -> 0 | AK13: 100 | AL13: 100 | AM13: 100
A14: 3016160420162657 | B14: 경량철골천장틀 | C14: 경량철골천장틀, 달대볼트, 상6×1000mm | D14: 개 | E14: 0 | G14: 0 | I14: 0 | K14: 0 | L14: 543 | M14: 860 | N14: 632 | O14: 0 | Q14: 0 | S14: 0 | U14: =ROUND(IF(MIN(E14,G14,I14,K14,M14,O14,Q14,S14)<0, MIN(E14,G14,I14,K14,M14,O14,Q14,S14), SMALL(E14:T14,COUNTIF(E14:T14,0)+1)) * 공사설정!$C$24 / 100*AK14/ 100, 2) -> 860 | V14: =ROUND(0 * 공사설정!$C$25 / 100*AL14/ 100,2) -> 0 | W14: 0 | X14: 0 | Y14: 0 | Z14: 0 | AA14: 0 | AB14: 0 | AC14: 0 | AD14: 0 | AE14: =ROUND(IF(MIN(W14:AD14)=AVERAGE(W14:AD14), 0, IF(MIN(W14:AD14)<0, MIN(W14:AD14), SMALL(W14:AD14,COUNTIF(W14:AD14,0)+1))) * 공사설정!$C$26 / 100*AM14/ 100,2) -> 0 | AK14: 100 | AL14: 100 | AM14: 100
A15: 3016160420162660 | B15: 경량철골천장틀 | C15: 경량철골천장틀, 캐링찬넬, 38×12×1.2mm | D15: m | E15: 0 | G15: 1560 | H15: 677 | I15: 0 | K15: 0 | M15: 1480 | N15: 630 | O15: 0 | Q15: 0 | S15: 0 | U15: =ROUND(IF(MIN(E15,G15,I15,K15,M15,O15,Q15,S15)<0, MIN(E15,G15,I15,K15,M15,O15,Q15,S15), SMALL(E15:T15,COUNTIF(E15:T15,0)+1)) * 공사설정!$C$24 / 100*AK15/ 100, 2) -> 1480 | V15: =ROUND(0 * 공사설정!$C$25 / 100*AL15/ 100,2) -> 0 | W15: 0 | X15: 0 | Y15: 0 | Z15: 0 | AA15: 0 | AB15: 0 | AC15: 0 | AD15: 0 | AE15: =ROUND(IF(MIN(W15:AD15)=AVERAGE(W15:AD15), 0, IF(MIN(W15:AD15)<0, MIN(W15:AD15), SMALL(W15:AD15,COUNTIF(W15:AD15,0)+1))) * 공사설정!$C$26 / 100*AM15/ 100,2) -> 0 | AK15: 100 | AL15: 100 | AM15: 100
A16: 3016160420162661 | B16: 경량철골천장틀 | C16: 경량철골천장틀, 마이너찬넬, 19×10×1.2mm | D16: m | E16: 0 | G16: 980 | H16: 677 | I16: 0 | K16: 980 | L16: 503 | M16: 850 | N16: 630 | O16: 0 | Q16: 0 | S16: 0 | U16: =ROUND(IF(MIN(E16,G16,I16,K16,M16,O16,Q16,S16)<0, MIN(E16,G16,I16,K16,M16,O16,Q16,S16), SMALL(E16:T16,COUNTIF(E16:T16,0)+1)) * 공사설정!$C$24 / 100*AK16/ 100, 2) -> 850 | V16: =ROUND(0 * 공사설정!$C$25 / 100*AL16/ 100,2) -> 0 | W16: 0 | X16: 0 | Y16: 0 | Z16: 0 | AA16: 0 | AB16: 0 | AC16: 0 | AD16: 0 | AE16: =ROUND(IF(MIN(W16:AD16)=AVERAGE(W16:AD16), 0, IF(MIN(W16:AD16)<0, MIN(W16:AD16), SMALL(W16:AD16,COUNTIF(W16:AD16,0)+1))) * 공사설정!$C$26 / 100*AM16/ 100,2) -> 0 | AK16: 100 | AL16: 100 | AM16: 100
A17: 3016160420162662 | B17: 경량철골천장틀 | C17: 경량철골천장틀, 행가및핀, 110×23×18×2.3mm | D17: 조 | E17: 0 | G17: 310 | H17: 677 | I17: 0 | K17: 0 | M17: 310 | N17: 632 | O17: 0 | Q17: 0 | S17: 0 | U17: =ROUND(IF(MIN(E17,G17,I17,K17,M17,O17,Q17,S17)<0, MIN(E17,G17,I17,K17,M17,O17,Q17,S17), SMALL(E17:T17,COUNTIF(E17:T17,0)+1)) * 공사설정!$C$24 / 100*AK17/ 100, 2) -> 310 | V17: =ROUND(0 * 공사설정!$C$25 / 100*AL17/ 100,2) -> 0 | W17: 0 | X17: 0 | Y17: 0 | Z17: 0 | AA17: 0 | AB17: 0 | AC17: 0 | AD17: 0 | AE17: =ROUND(IF(MIN(W17:AD17)=AVERAGE(W17:AD17), 0, IF(MIN(W17:AD17)<0, MIN(W17:AD17), SMALL(W17:AD17,COUNTIF(W17:AD17,0)+1))) * 공사설정!$C$26 / 100*AM17/ 100,2) -> 0 | AK17: 100 | AL17: 100 | AM17: 100
A18: 3016160420162663 | B18: 경량철골천장틀 | C18: 경량철골천장틀, 찬넬크립, 34×34×1.2mm | D18: 조 | E18: 0 | G18: 0 | I18: 0 | K18: 0 | M18: 0 | O18: 111 | Q18: 0 | S18: 0 | U18: =ROUND(IF(MIN(E18,G18,I18,K18,M18,O18,Q18,S18)<0, MIN(E18,G18,I18,K18,M18,O18,Q18,S18), SMALL(E18:T18,COUNTIF(E18:T18,0)+1)) * 공사설정!$C$24 / 100*AK18/ 100, 2) -> 111 | V18: =ROUND(0 * 공사설정!$C$25 / 100*AL18/ 100,2) -> 0 | W18: 0 | X18: 0 | Y18: 0 | Z18: 0 | AA18: 0 | AB18: 0 | AC18: 0 | AD18: 0 | AE18: =ROUND(IF(MIN(W18:AD18)=AVERAGE(W18:AD18), 0, IF(MIN(W18:AD18)<0, MIN(W18:AD18), SMALL(W18:AD18,COUNTIF(W18:AD18,0)+1))) * 공사설정!$C$26 / 100*AM18/ 100,2) -> 0 | AK18: 100 | AL18: 100 | AM18: 100
A19: 3016160420162664 | B19: 경량철골천장틀 | C19: 경량철골천장틀, 캐링조인트, 90×40×13×0.5mm | D19: 조 | E19: 0 | G19: 0 | I19: 0 | K19: 0 | M19: 0 | O19: 107 | Q19: 0 | S19: 0 | U19: =ROUND(IF(MIN(E19,G19,I19,K19,M19,O19,Q19,S19)<0, MIN(E19,G19,I19,K19,M19,O19,Q19,S19), SMALL(E19:T19,COUNTIF(E19:T19,0)+1)) * 공사설정!$C$24 / 100*AK19/ 100, 2) -> 107 | V19: =ROUND(0 * 공사설정!$C$25 / 100*AL19/ 100,2) -> 0 | W19: 0 | X19: 0 | Y19: 0 | Z19: 0 | AA19: 0 | AB19: 0 | AC19: 0 | AD19: 0 | AE19: =ROUND(IF(MIN(W19:AD19)=AVERAGE(W19:AD19), 0, IF(MIN(W19:AD19)<0, MIN(W19:AD19), SMALL(W19:AD19,COUNTIF(W19:AD19,0)+1))) * 공사설정!$C$26 / 100*AM19/ 100,2) -> 0 | AK19: 100 | AL19: 100 | AM19: 100
A20: 3016160420162665 | B20: 경량철골천장틀 | C20: 경량철골천장틀, BAR크립, 더블 | D20: 개 | E20: 0 | G20: 0 | I20: 0 | K20: 0 | M20: 0 | O20: 60 | Q20: 0 | S20: 0 | U20: =ROUND(IF(MIN(E20,G20,I20,K20,M20,O20,Q20,S20)<0, MIN(E20,G20,I20,K20,M20,O20,Q20,S20), SMALL(E20:T20,COUNTIF(E20:T20,0)+1)) * 공사설정!$C$24 / 100*AK20/ 100, 2) -> 60 | V20: =ROUND(0 * 공사설정!$C$25 / 100*AL20/ 100,2) -> 0 | W20: 0 | X20: 0 | Y20: 0 | Z20: 0 | AA20: 0 | AB20: 0 | AC20: 0 | AD20: 0 | AE20: =ROUND(IF(MIN(W20:AD20)=AVERAGE(W20:AD20), 0, IF(MIN(W20:AD20)<0, MIN(W20:AD20), SMALL(W20:AD20,COUNTIF(W20:AD20,0)+1))) * 공사설정!$C$26 / 100*AM20/ 100,2) -> 0 | AK20: 100 | AL20: 100 | AM20: 100
A21: 3016160420162667 | B21: 경량철골천장틀 | C21: 경량철골천장틀, BAR조인트, 더블 | D21: 개 | E21: 0 | G21: 0 | I21: 0 | K21: 0 | M21: 0 | O21: 80 | Q21: 0 | S21: 0 | U21: =ROUND(IF(MIN(E21,G21,I21,K21,M21,O21,Q21,S21)<0, MIN(E21,G21,I21,K21,M21,O21,Q21,S21), SMALL(E21:T21,COUNTIF(E21:T21,0)+1)) * 공사설정!$C$24 / 100*AK21/ 100, 2) -> 80 | V21: =ROUND(0 * 공사설정!$C$25 / 100*AL21/ 100,2) -> 0 | W21: 0 | X21: 0 | Y21: 0 | Z21: 0 | AA21: 0 | AB21: 0 | AC21: 0 | AD21: 0 | AE21: =ROUND(IF(MIN(W21:AD21)=AVERAGE(W21:AD21), 0, IF(MIN(W21:AD21)<0, MIN(W21:AD21), SMALL(W21:AD21,COUNTIF(W21:AD21,0)+1))) * 공사설정!$C$26 / 100*AM21/ 100,2) -> 0 | AK21: 100 | AL21: 100 | AM21: 100
A22: 3016160420162700 | B22: METAL C-RUNNER | C22: 67×40, 0.8T | D22: m | E22: 0 | G22: 2680 | H22: 677 | I22: 0 | K22: 2680 | L22: 503 | M22: 2680 | N22: 632 | O22: 0 | Q22: 0 | S22: 0 | U22: =ROUND(IF(MIN(E22,G22,I22,K22,M22,O22,Q22,S22)<0, MIN(E22,G22,I22,K22,M22,O22,Q22,S22), SMALL(E22:T22,COUNTIF(E22:T22,0)+1)) * 공사설정!$C$24 / 100*AK22/ 100, 2) -> 2680 | V22: =ROUND(0 * 공사설정!$C$25 / 100*AL22/ 100,2) -> 0 | W22: 0 | X22: 0 | Y22: 0 | Z22: 0 | AA22: 0 | AB22: 0 | AC22: 0 | AD22: 0 | AE22: =ROUND(IF(MIN(W22:AD22)=AVERAGE(W22:AD22), 0, IF(MIN(W22:AD22)<0, MIN(W22:AD22), SMALL(W22:AD22,COUNTIF(W22:AD22,0)+1))) * 공사설정!$C$26 / 100*AM22/ 100,2) -> 0 | AK22: 100 | AL22: 100 | AM22: 100
A23: 3016160420162701 | B23: METAL C-STUD | C23: 65×45×0.8T | D23: m | E23: 0 | G23: 3230 | H23: 677 | I23: 0 | K23: 3230 | L23: 503 | M23: 3230 | N23: 632 | O23: 0 | Q23: 0 | S23: 0 | U23: =ROUND(IF(MIN(E23,G23,I23,K23,M23,O23,Q23,S23)<0, MIN(E23,G23,I23,K23,M23,O23,Q23,S23), SMALL(E23:T23,COUNTIF(E23:T23,0)+1)) * 공사설정!$C$24 / 100*AK23/ 100, 2) -> 3230 | V23: =ROUND(0 * 공사설정!$C$25 / 100*AL23/ 100,2) -> 0 | W23: 0 | X23: 0 | Y23: 0 | Z23: 0 | AA23: 0 | AB23: 0 | AC23: 0 | AD23: 0 | AE23: =ROUND(IF(MIN(W23:AD23)=AVERAGE(W23:AD23), 0, IF(MIN(W23:AD23)<0, MIN(W23:AD23), SMALL(W23:AD23,COUNTIF(W23:AD23,0)+1))) * 공사설정!$C$26 / 100*AM23/ 100,2) -> 0 | AK23: 100 | AL23: 100 | AM23: 100
A24: 3016160420162702 | B24: STUD-SPACER | C24: SP-65,75 | D24: 개 | E24: 0 | G24: 0 | I24: 0 | K24: 0 | M24: 0 | O24: 0 | Q24: 0 | S24: 0 | U24: =0*AK24/ 100 -> 0 | V24: =ROUND(0 * 공사설정!$C$25 / 100*AL24/ 100,2) -> 0 | W24: 0 | X24: 0 | Y24: 0 | Z24: 0 | AA24: 0 | AB24: 0 | AC24: 0 | AD24: 0 | AE24: =ROUND(IF(MIN(W24:AD24)=AVERAGE(W24:AD24), 0, IF(MIN(W24:AD24)<0, MIN(W24:AD24), SMALL(W24:AD24,COUNTIF(W24:AD24,0)+1))) * 공사설정!$C$26 / 100*AM24/ 100,2) -> 0 | AK24: 100 | AL24: 100 | AM24: 100
A25: 3016160420162725 | B25: STUD-SPACER | C25: SP-90,125 | D25: 개 | E25: 0 | G25: 0 | I25: 0 | K25: 0 | M25: 0 | O25: 0 | Q25: 0 | S25: 0 | U25: =0*AK25/ 100 -> 0 | V25: =ROUND(0 * 공사설정!$C$25 / 100*AL25/ 100,2) -> 0 | W25: 0 | X25: 0 | Y25: 0 | Z25: 0 | AA25: 0 | AB25: 0 | AC25: 0 | AD25: 0 | AE25: =ROUND(IF(MIN(W25:AD25)=AVERAGE(W25:AD25), 0, IF(MIN(W25:AD25)<0, MIN(W25:AD25), SMALL(W25:AD25,COUNTIF(W25:AD25,0)+1))) * 공사설정!$C$26 / 100*AM25/ 100,2) -> 0 | AK25: 100 | AL25: 100 | AM25: 100
A26: 3016160420162803 | B26: 힐티앙카 | C26: NK-27 | D26: 개 | E26: 0 | G26: 0 | I26: 0 | K26: 0 | M26: 0 | O26: 0 | Q26: 0 | S26: 0 | U26: =0*AK26/ 100 -> 0 | V26: =ROUND(0 * 공사설정!$C$25 / 100*AL26/ 100,2) -> 0 | W26: 0 | X26: 0 | Y26: 0 | Z26: 0 | AA26: 0 | AB26: 0 | AC26: 0 | AD26: 0 | AE26: =ROUND(IF(MIN(W26:AD26)=AVERAGE(W26:AD26), 0, IF(MIN(W26:AD26)<0, MIN(W26:AD26), SMALL(W26:AD26,COUNTIF(W26:AD26,0)+1))) * 공사설정!$C$26 / 100*AM26/ 100,2) -> 0 | AK26: 100 | AL26: 100 | AM26: 100
A27: 3016170120155538 | B27: 타일카펫 | C27: 타일카펫, LOOP, 500×500×7.0mm | D27: M2 | E27: 0 | G27: 31300 | H27: 712 | I27: 0 | K27: 0 | M27: 0 | O27: 0 | Q27: 0 | S27: 0 | U27: =ROUND(IF(MIN(E27,G27,I27,K27,M27,O27,Q27,S27)<0, MIN(E27,G27,I27,K27,M27,O27,Q27,S27), SMALL(E27:T27,COUNTIF(E27:T27,0)+1)) * 공사설정!$C$24 / 100*AK27/ 100, 2) -> 31300 | V27: =ROUND(0 * 공사설정!$C$25 / 100*AL27/ 100,2) -> 0 | W27: 0 | X27: 0 | Y27: 0 | Z27: 0 | AA27: 0 | AB27: 0 | AC27: 0 | AD27: 0 | AE27: =ROUND(IF(MIN(W27:AD27)=AVERAGE(W27:AD27), 0, IF(MIN(W27:AD27)<0, MIN(W27:AD27), SMALL(W27:AD27,COUNTIF(W27:AD27,0)+1))) * 공사설정!$C$26 / 100*AM27/ 100,2) -> 0 | AK27: 100 | AL27: 100 | AM27: 100
A28: 3116201320135000 | B28: 메탈스크류 | C28: Metal Screw #8, Φ4.2 13mm | D28: 개 | E28: 0 | G28: 0 | I28: 0 | K28: 0 | M28: 7.2 | N28: 40 | O28: 0 | Q28: 0 | S28: 0 | U28: =ROUND(IF(MIN(E28,G28,I28,K28,M28,O28,Q28,S28)<0, MIN(E28,G28,I28,K28,M28,O28,Q28,S28), SMALL(E28:T28,COUNTIF(E28:T28,0)+1)) * 공사설정!$C$24 / 100*AK28/ 100, 2) -> 7.2 | V28: =ROUND(0 * 공사설정!$C$25 / 100*AL28/ 100,2) -> 0 | W28: 0 | X28: 0 | Y28: 0 | Z28: 0 | AA28: 0 | AB28: 0 | AC28: 0 | AD28: 0 | AE28: =ROUND(IF(MIN(W28:AD28)=AVERAGE(W28:AD28), 0, IF(MIN(W28:AD28)<0, MIN(W28:AD28), SMALL(W28:AD28,COUNTIF(W28:AD28,0)+1))) * 공사설정!$C$26 / 100*AM28/ 100,2) -> 0 | AK28: 100 | AL28: 100 | AM28: 100
A29: 3119150120139357 | B29: 연마지 | C29: 연마지, #120~180, 230*280mm | D29: 장 | E29: 217 | G29: 3250 | H29: 1337 | I29: 0 | K29: 0 | M29: 0 | O29: 0 | Q29: 0 | S29: 0 | U29: =ROUND(IF(MIN(E29,G29,I29,K29,M29,O29,Q29,S29)<0, MIN(E29,G29,I29,K29,M29,O29,Q29,S29), SMALL(E29:T29,COUNTIF(E29:T29,0)+1)) * 공사설정!$C$24 / 100*AK29/ 100, 2) -> 217 | V29: =ROUND(0 * 공사설정!$C$25 / 100*AL29/ 100,2) -> 0 | W29: 0 | X29: 0 | Y29: 0 | Z29: 0 | AA29: 0 | AB29: 0 | AC29: 0 | AD29: 0 | AE29: =ROUND(IF(MIN(W29:AD29)=AVERAGE(W29:AD29), 0, IF(MIN(W29:AD29)<0, MIN(W29:AD29), SMALL(W29:AD29,COUNTIF(W29:AD29,0)+1))) * 공사설정!$C$26 / 100*AM29/ 100,2) -> 0 | AK29: 100 | AL29: 100 | AM29: 100
A30: 3120160120277510 | B30: 초산비닐계접착제 | C30: 초산비닐계접착제, 비닐타일용 | D30: kg | E30: 2692 | G30: 0 | I30: 0 | K30: 0 | M30: 0 | O30: 0 | Q30: 0 | S30: 0 | U30: =ROUND(IF(MIN(E30,G30,I30,K30,M30,O30,Q30,S30)<0, MIN(E30,G30,I30,K30,M30,O30,Q30,S30), SMALL(E30:T30,COUNTIF(E30:T30,0)+1)) * 공사설정!$C$24 / 100*AK30/ 100, 2) -> 2692 | V30: =ROUND(0 * 공사설정!$C$25 / 100*AL30/ 100,2) -> 0 | W30: 0 | X30: 0 | Y30: 0 | Z30: 0 | AA30: 0 | AB30: 0 | AC30: 0 | AD30: 0 | AE30: =ROUND(IF(MIN(W30:AD30)=AVERAGE(W30:AD30), 0, IF(MIN(W30:AD30)<0, MIN(W30:AD30), SMALL(W30:AD30,COUNTIF(W30:AD30,0)+1))) * 공사설정!$C$26 / 100*AM30/ 100,2) -> 0 | AK30: 100 | AL30: 100 | AM30: 100
A31: 3120160520277439 | B31: 퍼티 | C31: 퍼티, 회색 | D31: L | E31: 4844 | G31: 0 | I31: 0 | K31: 0 | M31: 4849.17 | N31: 496 | O31: 0 | Q31: 0 | S31: 0 | U31: =ROUND(IF(MIN(E31,G31,I31,K31,M31,O31,Q31,S31)<0, MIN(E31,G31,I31,K31,M31,O31,Q31,S31), SMALL(E31:T31,COUNTIF(E31:T31,0)+1)) * 공사설정!$C$24 / 100*AK31/ 100, 2) -> 4844 | V31: =ROUND(0 * 공사설정!$C$25 / 100*AL31/ 100,2) -> 0 | W31: 0 | X31: 0 | Y31: 0 | Z31: 0 | AA31: 0 | AB31: 0 | AC31: 0 | AD31: 0 | AE31: =ROUND(IF(MIN(W31:AD31)=AVERAGE(W31:AD31), 0, IF(MIN(W31:AD31)<0, MIN(W31:AD31), SMALL(W31:AD31,COUNTIF(W31:AD31,0)+1))) * 공사설정!$C$26 / 100*AM31/ 100,2) -> 0 | AF31: 1L=1.55kg | AK31: 100 | AL31: 100 | AM31: 100
A32: 3120160520277601 | B32: 퍼티 | C32: 319퍼티, 회색 | D32: kg | E32: 2306.45 | G32: 0 | I32: 0 | K32: 0 | M32: 0 | O32: 0 | Q32: 0 | S32: 0 | U32: =ROUND(IF(MIN(E32,G32,I32,K32,M32,O32,Q32,S32)<0, MIN(E32,G32,I32,K32,M32,O32,Q32,S32), SMALL(E32:T32,COUNTIF(E32:T32,0)+1)) * 공사설정!$C$24 / 100*AK32/ 100, 2) -> 2306.45 | V32: =ROUND(0 * 공사설정!$C$25 / 100*AL32/ 100,2) -> 0 | W32: 0 | X32: 0 | Y32: 0 | Z32: 0 | AA32: 0 | AB32: 0 | AC32: 0 | AD32: 0 | AE32: =ROUND(IF(MIN(W32:AD32)=AVERAGE(W32:AD32), 0, IF(MIN(W32:AD32)<0, MIN(W32:AD32), SMALL(W32:AD32,COUNTIF(W32:AD32,0)+1))) * 공사설정!$C$26 / 100*AM32/ 100,2) -> 0 | AF32: 1L=1.55kg | AK32: 100 | AL32: 100 | AM32: 100
A33: 3120160520277611 | B33: 퍼티 | C33: 319퍼티, 백색 | D33: kg | E33: 0 | G33: 5675 | H33: 622 | I33: 0 | K33: 0 | M33: 0 | O33: 0 | Q33: 0 | S33: 0 | U33: =ROUND(IF(MIN(E33,G33,I33,K33,M33,O33,Q33,S33)<0, MIN(E33,G33,I33,K33,M33,O33,Q33,S33), SMALL(E33:T33,COUNTIF(E33:T33,0)+1)) * 공사설정!$C$24 / 100*AK33/ 100, 2) -> 5675 | V33: =ROUND(0 * 공사설정!$C$25 / 100*AL33/ 100,2) -> 0 | W33: 0 | X33: 0 | Y33: 0 | Z33: 0 | AA33: 0 | AB33: 0 | AC33: 0 | AD33: 0 | AE33: =ROUND(IF(MIN(W33:AD33)=AVERAGE(W33:AD33), 0, IF(MIN(W33:AD33)<0, MIN(W33:AD33), SMALL(W33:AD33,COUNTIF(W33:AD33,0)+1))) * 공사설정!$C$26 / 100*AM33/ 100,2) -> 0 | AF33: 1L=1.55kg | AK33: 100 | AL33: 100 | AM33: 100
A34: 3121150220276510 | B34: 수성페인트 | C34: 아크로글로시(내부), 낙서방지 | D34: L | E34: 0 | G34: 0 | I34: 0 | K34: 0 | M34: 0 | O34: 3767 | Q34: 0 | S34: 0 | U34: =ROUND(IF(MIN(E34,G34,I34,K34,M34,O34,Q34,S34)<0, MIN(E34,G34,I34,K34,M34,O34,Q34,S34), SMALL(E34:T34,COUNTIF(E34:T34,0)+1)) * 공사설정!$C$24 / 100*AK34/ 100, 2) -> 3767 | V34: =ROUND(0 * 공사설정!$C$25 / 100*AL34/ 100,2) -> 0 | W34: 0 | X34: 0 | Y34: 0 | Z34: 0 | AA34: 0 | AB34: 0 | AC34: 0 | AD34: 0 | AE34: =ROUND(IF(MIN(W34:AD34)=AVERAGE(W34:AD34), 0, IF(MIN(W34:AD34)<0, MIN(W34:AD34), SMALL(W34:AD34,COUNTIF(W34:AD34,0)+1))) * 공사설정!$C$26 / 100*AM34/ 100,2) -> 0 | AK34: 100 | AL34: 100 | AM34: 100
A35: 3121150822073046 | B35: 아크릴수지페인트 | C35: 아크릴수지페인트, KSM6020-2종1급, 흑색 | D35: L | E35: 5593 | G35: 0 | I35: 0 | K35: 0 | M35: 0 | O35: 0 | Q35: 0 | S35: 0 | U35: =ROUND(IF(MIN(E35,G35,I35,K35,M35,O35,Q35,S35)<0, MIN(E35,G35,I35,K35,M35,O35,Q35,S35), SMALL(E35:T35,COUNTIF(E35:T35,0)+1)) * 공사설정!$C$24 / 100*AK35/ 100, 2) -> 5593 | V35: =ROUND(0 * 공사설정!$C$25 / 100*AL35/ 100,2) -> 0 | W35: 0 | X35: 0 | Y35: 0 | Z35: 0 | AA35: 0 | AB35: 0 | AC35: 0 | AD35: 0 | AE35: =ROUND(IF(MIN(W35:AD35)=AVERAGE(W35:AD35), 0, IF(MIN(W35:AD35)<0, MIN(W35:AD35), SMALL(W35:AD35,COUNTIF(W35:AD35,0)+1))) * 공사설정!$C$26 / 100*AM35/ 100,2) -> 0 | AK35: 100 | AL35: 100 | AM35: 100
A36: 3121159722073048 | B36: 조합페인트 | C36: 조합페인트, KSM6020-1종1급, 백색 | D36: L | E36: 6066 | G36: 10556 | H36: 615 | I36: 0 | K36: 12277.8 | L36: 589 | M36: 0 | O36: 0 | Q36: 0 | S36: 0 | U36: =ROUND(IF(MIN(E36,G36,I36,K36,M36,O36,Q36,S36)<0, MIN(E36,G36,I36,K36,M36,O36,Q36,S36), SMALL(E36:T36,COUNTIF(E36:T36,0)+1)) * 공사설정!$C$24 / 100*AK36/ 100, 2) -> 6066 | V36: =ROUND(0 * 공사설정!$C$25 / 100*AL36/ 100,2) -> 0 | W36: 0 | X36: 0 | Y36: 0 | Z36: 0 | AA36: 0 | AB36: 0 | AC36: 0 | AD36: 0 | AE36: =ROUND(IF(MIN(W36:AD36)=AVERAGE(W36:AD36), 0, IF(MIN(W36:AD36)<0, MIN(W36:AD36), SMALL(W36:AD36,COUNTIF(W36:AD36,0)+1))) * 공사설정!$C$26 / 100*AM36/ 100,2) -> 0 | AK36: 100 | AL36: 100 | AM36: 100
A37: 3121180321870998 | B37: 시너 | C37: 시너, KSM6060, 1종 | D37: L | E37: 0 | G37: 3494 | H37: 615 | I37: 0 | K37: 0 | M37: 0 | O37: 0 | Q37: 0 | S37: 0 | U37: =ROUND(IF(MIN(E37,G37,I37,K37,M37,O37,Q37,S37)<0, MIN(E37,G37,I37,K37,M37,O37,Q37,S37), SMALL(E37:T37,COUNTIF(E37:T37,0)+1)) * 공사설정!$C$24 / 100*AK37/ 100, 2) -> 3494 | V37: =ROUND(0 * 공사설정!$C$25 / 100*AL37/ 100,2) -> 0 | W37: 0 | X37: 0 | Y37: 0 | Z37: 0 | AA37: 0 | AB37: 0 | AC37: 0 | AD37: 0 | AE37: =ROUND(IF(MIN(W37:AD37)=AVERAGE(W37:AD37), 0, IF(MIN(W37:AD37)<0, MIN(W37:AD37), SMALL(W37:AD37,COUNTIF(W37:AD37,0)+1))) * 공사설정!$C$26 / 100*AM37/ 100,2) -> 0 | AK37: 100 | AL37: 100 | AM37: 100
A38: 3121180321870999 | B38: 시너 | C38: 시너, KSM6060, 2종 | D38: L | E38: 0 | G38: 3583 | H38: 615 | I38: 0 | K38: 0 | M38: 0 | O38: 0 | Q38: 0 | S38: 0 | U38: =ROUND(IF(MIN(E38,G38,I38,K38,M38,O38,Q38,S38)<0, MIN(E38,G38,I38,K38,M38,O38,Q38,S38), SMALL(E38:T38,COUNTIF(E38:T38,0)+1)) * 공사설정!$C$24 / 100*AK38/ 100, 2) -> 3583 | V38: =ROUND(0 * 공사설정!$C$25 / 100*AL38/ 100,2) -> 0 | W38: 0 | X38: 0 | Y38: 0 | Z38: 0 | AA38: 0 | AB38: 0 | AC38: 0 | AD38: 0 | AE38: =ROUND(IF(MIN(W38:AD38)=AVERAGE(W38:AD38), 0, IF(MIN(W38:AD38)<0, MIN(W38:AD38), SMALL(W38:AD38,COUNTIF(W38:AD38,0)+1))) * 공사설정!$C$26 / 100*AM38/ 100,2) -> 0 | AK38: 100 | AL38: 100 | AM38: 100
A39: 4712181020938865 | B39: 공통자재 | C39: 넝마 | D39: kg | E39: 0 | G39: 0 | I39: 0 | K39: 0 | M39: 0 | O39: 0 | Q39: 0 | S39: 0 | U39: =0*AK39/ 100 -> 0 | V39: =ROUND(0 * 공사설정!$C$25 / 100*AL39/ 100,2) -> 0 | W39: 0 | X39: 0 | Y39: 0 | Z39: 0 | AA39: 0 | AB39: 0 | AC39: 0 | AD39: 0 | AE39: =ROUND(IF(MIN(W39:AD39)=AVERAGE(W39:AD39), 0, IF(MIN(W39:AD39)<0, MIN(W39:AD39), SMALL(W39:AD39,COUNTIF(W39:AD39,0)+1))) * 공사설정!$C$26 / 100*AM39/ 100,2) -> 0 | AK39: 100 | AL39: 100 | AM39: 100
A40: 813A0B0000000391 | B40: 차음시트(댐핑시트) | C40: 2T × 1,000 × 1,000, (주상복합, 아파트, 오피스텔, 공장, 산업단지, 각종기기 소음 차단효과) | D40: m2 | E40: 0 | G40: 0 | I40: 0 | K40: 0 | M40: 12000 | N40: 600 | O40: 0 | Q40: 0 | S40: 0 | U40: =ROUND(IF(MIN(E40,G40,I40,K40,M40,O40,Q40,S40)<0, MIN(E40,G40,I40,K40,M40,O40,Q40,S40), SMALL(E40:T40,COUNTIF(E40:T40,0)+1)) * 공사설정!$C$24 / 100*AK40/ 100, 2) -> 12000 | V40: =ROUND(0 * 공사설정!$C$25 / 100*AL40/ 100,2) -> 0 | W40: 0 | X40: 0 | Y40: 0 | Z40: 0 | AA40: 0 | AB40: 0 | AC40: 0 | AD40: 0 | AE40: =ROUND(IF(MIN(W40:AD40)=AVERAGE(W40:AD40), 0, IF(MIN(W40:AD40)<0, MIN(W40:AD40), SMALL(W40:AD40,COUNTIF(W40:AD40,0)+1))) * 공사설정!$C$26 / 100*AM40/ 100,2) -> 0 | AK40: 100 | AL40: 100 | AM40: 100
...

Sheet 공사설정
A1: 이 Sheet는 수정하지 마십시요
B2: 공사구분 | C2: A
B3: 확정내역 | C3: 원내역
B4: 자재단가적용 | C4: 5
B5: 노무비단가적용 | C5: 5
B6: 경비단가적용 | C6: 5
B7: 품목코드형식 | C7: XXXXXXXXXXXXXXXXX
B8: 내역금액소수점처리 | C8: C | D8: 1
B9: 일위대가내역소수점처리 | C9: C | D9: 3
B10: 단가명 | C10: 조달청가격 | D10: 거래가격 | E10: 유통물가 | F10: 물가자료 | G10: 물가정보 | H10: 조사가격1 | I10: 조사가격2 | J10: 조사가격3 | K10: TTTTTTTT
B11: 환율 | C11: 1071.1 | D11: 0 | E11: 0
B12: 시간당작업량 | C12: R | D12: 5
B13: 1회 사이클시간 | C13: R | D13: 5
B14: 시간당 작업사이클 | C14: R | D14: 4
B15: 일반변수 | C15: C | D15: 6
B16: 시간당 노임산출 계수 | C16: A | D16: 1/8*16/12*25/20 | E16: 1/8*16/12*25/20*24/15 | F16: 1/8*16/12*25/20*12/10 | G16: 1
B17: 재료비 할증 계수 | C17: 1.11 | D17: 1.12
B18: 노무비 할증 계수 | C18: 1 | D18: 1.5 | E18: 1.16 | F18: 1.6 | G18: 1.6 | H18: 1.6 | I18: 1.94 | J18: 1.94 | K18: 1.94 | L18: 1 | M18: 1 | N18: 1
B19: 경비 할증 계수 | C19: 1.25 | D19: 1.071
B20: 내역,일위대가 품명,규격,단위 따로적용
B21: 내역단가 소수점처리 | C21: C | D21: 1
B22: 코드 | C22: 공종구분명 | D22: 원가비목코드
B23: 1 | C23: 미확인 데이터 | D23: 미확인 데이터
B24: 재료비 단가 적용률 | C24: 100
B25: 노무비 단가 적용률 | C25: 100
B26: 경비 단가 적용률 | C26: 100
