Workbook
Name ___LPB1: [1]부하계산서!#REF!
Name ___LPB1: [1]부하계산서!#REF!
Name ___LPB1: [1]부하계산서!#REF!
Name ___LPK1: [1]부하계산서!#REF!
Name ___LPK1: [1]부하계산서!#REF!
Name ___LPK1: [1]부하계산서!#REF!
Name ___LU1: '[2]부하(성남)'!#REF!
Name ___LU1: '[2]부하(성남)'!#REF!
Name ___LU1: '[2]부하(성남)'!#REF!
Name ___LU2: '[2]부하(성남)'!#REF!
Name ___LU2: '[2]부하(성남)'!#REF!
Name ___LU2: '[2]부하(성남)'!#REF!
Name ___LV01: '[2]부하(성남)'!#REF!
Name ___LV01: '[2]부하(성남)'!#REF!
Name ___LV01: '[2]부하(성남)'!#REF!
Name ___UP1: [1]부하계산서!#REF!
Name ___UP1: [1]부하계산서!#REF!
Name ___UP1: [1]부하계산서!#REF!
Name ___UP2: [1]부하계산서!#REF!
Name ___UP2: [1]부하계산서!#REF!
Name ___UP2: [1]부하계산서!#REF!
Name __LP2: #REF!
Name __LP2: #REF!
Name __LP2: #REF!
Name __LPB1: [1]부하계산서!#REF!
Name __LPB1: [1]부하계산서!#REF!
Name __LPB1: [1]부하계산서!#REF!
Name __LPK1: [1]부하계산서!#REF!
Name __LPK1: [1]부하계산서!#REF!
Name __LPK1: [1]부하계산서!#REF!
Name __LU1: '[2]부하(성남)'!#REF!
Name __LU1: '[2]부하(성남)'!#REF!
Name __LU1: '[2]부하(성남)'!#REF!
Name __LU2: '[2]부하(성남)'!#REF!
Name __LU2: '[2]부하(성남)'!#REF!
Name __LU2: '[2]부하(성남)'!#REF!
Name __LV01: '[2]부하(성남)'!#REF!
Name __LV01: '[2]부하(성남)'!#REF!
Name __LV01: '[2]부하(성남)'!#REF!
Name __UP1: [1]부하계산서!#REF!
Name __UP1: [1]부하계산서!#REF!
Name __UP1: [1]부하계산서!#REF!
Name __UP2: [1]부하계산서!#REF!
Name __UP2: [1]부하계산서!#REF!
Name __UP2: [1]부하계산서!#REF!
Name _1._PANEL_BD.__LP___1: #REF!
Name _1._PANEL_BD.__LP___1: #REF!
Name _1._PANEL_BD.__LP___1: #REF!
Name _1월: #REF!
Name _1월: #REF!
Name _2._날_개_벽: #REF!
Name _2._날_개_벽: #REF!
Name _2월: #REF!
Name _2월: #REF!
Name _3월: #REF!
Name _3월: #REF!
Name _4월: #REF!
Name _4월: #REF!
Name _50억이상: [3]단위수량!#REF!
Name _50억이상: [3]단위수량!#REF!

Sheet 원가(약식)
A1: 원 가 계 산 서
A2: ="공 사 명: "&내역!S2 -> 공 사 명: 산학연협력단지 조성사업 모빌리티캠퍼스 내 서편 출입구 설치 공사
A3: 명 칭 | B3: 규 격 | C3: 단 위 | D3: 수 량 | E3: 재 료 비 | G3: 노 무 비 | I3: 경 비 | K3: 계 | M3: 비 고
E4: 단 가 | F4: 금 액 | G4: 단 가 | H4: 금 액 | I4: 단 가 | J4: 금 액 | K4: 단 가 | L4: 금 액
A5: 순 공사비 | F5: =내역!G40 -> 0 | H5: =내역!J40 -> 0 | J5: =내역!M40 -> 0 | L5: =내역!O40 -> 0
A7: 산재보험료 | B7: 노무비*3.8% | L7: =H5*0.038 -> 0
A8: 고용보험료 | B8: 노무비*0.87% | L8: =H5*0.0087 -> 0
A9: 공과잡비 및 이윤 | B9: 0.15 | L9: =L5*B9 -> 0
A11: 소 계 | L11: =SUM(L5:L10) -> 0
A20: 부가가치세 | B20: 0.1 | L20: =L11*B20 -> 0
A22: 합 계 | B22: 만단위절사 | L22: =ROUNDDOWN(L11+L20,-5) -> 0

Sheet 설계서용지
A1: 설 계 서 용 지
A2: 확 인 | E2: 설 계 자 | H2: 2025년 12월 일 설 계
A4: 2025학년도
C6: 공 사 명 : | F6: =내역!S2 -> 산학연협력단지 조성사업 모빌리티캠퍼스 내 서편 출입구 설치 공사
C8: 설계공사금액 : | F8: =원가계산서!D27 -> 0 | G8: =F8 -> 0

Sheet 원가계산서
A1: 공 사 원 가 계 산 서
A2: 공사명: | B2: =내역!S2 -> 산학연협력단지 조성사업 모빌리티캠퍼스 내 서편 출입구 설치 공사
D3: 금액 | E3: 요율 | F3: 구성비 | G3: 비고
A4: 순 공 사 비 | B4: 재료비 | C4: 직접재료비 | D4: =내역!G40 -> 0
C5: 간접재료비
C6: 소 계 | D6: =SUM(D4:D5) -> 0
B7: 노무비 | C7: 직접노무비 | D7: =내역!J40 -> 0
C8: 간접노무비 | D8: =INT(D7*E8) -> 0 | E8: 0.165 | F8: =IF(E8>0," 직접노무비 × "&E8," ") -> 직접노무비 × 0.165
C9: 소 계 | D9: =SUM(D7:D8) -> 0
B10: 경 비 | C10: 기계경비 | D10: =내역!M40 -> 0
C11: 산재보험료 | D11: =INT(D9*E11) -> 0 | E11: 0.0356 | F11: =IF(E11>0," 노무비 × "&E11," ") -> 노무비 × 0.0356
C12: 고용보험료 | D12: =INT(D7*E12) -> 0 | E12: 0.0101 | F12: =IF(E12>0," 직접노무비 × "&E12," ") -> 직접노무비 × 0.0101
C13: 건강보험료 | D13: =IF(E13>0,INT(D7*E13),0) -> 0 | F13: =IF(E13>0," 직접노무비 × "&E13," ")
C14: 연금보험료 | D14: =IF(E14>0,INT(D7*E14),0) -> 0 | F14: =IF(E14>0," 직접노무비 × "&E14," ")
C15: 노인장기요양보험료 | D15: =IF(E15>0,INT(D13*E15),0) -> 0 | F15: =IF(E15>0," 건강보험료 × "&E15," ")
C16: 하도급대금지급보증수수료 | D16: =IF(E16>0,INT((D6+D7+D10)*E16),0) -> 0 | F16: =IF(E16>0," (재료비 + 직접노무비 + 기계경비) × "&E16," ")
C17: 건설기계대여대금지급보증서 | D17: =IF(E17>0,INT((D6+D7+D10)*E17),0) -> 0 | E17: 0.0068 | F17: =IF(E17>0," (재료비 + 직접노무비 + 기계경비) × "&E17," ") -> (재료비 + 직접노무비 + 기계경비) × 0.0068
C18: 산업안전보건관리비 | D18: =INT((D6+D7)*E18) -> 0 | E18: 0.0315 | F18: =IF(E18>0," (재료비 + 직접노무비) × "&E18," ") -> (재료비 + 직접노무비) × 0.0315 | G18: 5억 미만
C19: 환경보전비 | D19: =INT((D6+D7+D10)*E19) -> 0 | E19: 0.008 | F19: =IF(E19>0," (재료비 + 직접노무비 + 기계경비) × "&E19," ") -> (재료비 + 직접노무비 + 기계경비) × 0.008
C20: 기타경비 | D20: =INT((D6+D9)*E20) -> 0 | E20: 0.052 | F20: =IF(E20>0," (재료비 + 노무비) × "&E20," ") -> (재료비 + 노무비) × 0.052
C21: 소 계 | D21: =SUM(D10:D20) -> 0
A22: 합 계 | D22: =D6+D9+D21 -> 0
A23: 일반관리비 | D23: =INT(D22*E23) -> 0 | E23: 0.08 | F23: =IF(E23>0," 합 계 × "&E23," ") -> 합 계 × 0.08
A24: 이 윤 | D24: =INT((D9+D21+D23)*E24) -> 0 | E24: 0.1 | F24: =IF(E24>0," (노무비 + 경비 + 일반관리비) × "&E24," ") -> (노무비 + 경비 + 일반관리비) × 0.1
A25: 총 원 가 | D25: =SUM(D22:D24) -> 0
A26: 부가가치세 | D26: =INT(D25*E26) -> 0 | E26: 0.1 | F26: =" 총 원 가 × "&E26 -> 총 원 가 × 0.1
A27: 총 공 사 비 | D27: =SUM(D25:D26) -> 0

Sheet 내역
A1: 내 역 서
A2: ="공 사 명 : "&S2 -> 공 사 명 : 산학연협력단지 조성사업 모빌리티캠퍼스 내 서편 출입구 설치 공사 | R2: 공사명입력: | S2: 산학연협력단지 조성사업 모빌리티캠퍼스 내 서편 출입구 설치 공사
A3: 명 칭 | B3: 규 격 | C3: 단 위 | D3: 수 량 | F3: 재 료 비 | I3: 노 무 비 | L3: 경 비 | N3: 계 | P3: 비 고
E4: 단 가 | F4: 단 가 | G4: 금 액 | H4: 단 가 | I4: 단 가 | J4: 금 액 | K4: 단 가 | L4: 단 가 | M4: 금 액 | N4: 단 가 | O4: 금 액 | R4: 확 인
A5: 1. 토공 | G5: =SUM(G6:G8) -> 0 | J5: =SUM(J6:J8) -> 0 | M5: =SUM(M6:M8) -> 0 | O5: =SUM(O6:O8) -> 0 | R5: =G5+J5+M5 -> 0 | S5: =IF(O5=R5,"O.K","N.G…!!!") -> O.K
A6: 터파기 및 되메우기 | C6: m3 | D6: 80 | E6: 2500 | G6: =$D6*F6 -> 0 | H6: 6000 | J6: =$D6*I6 -> 0 | M6: =$D6*L6 -> 0 | N6: =F6+I6+L6 -> 0 | O6: =G6+J6+M6 -> 0
A7: 잡석포설 및 다짐 | C7: m3 | D7: 80 | E7: 2500 | G7: =$D7*F7 -> 0 | H7: 6000 | J7: =$D7*I7 -> 0 | M7: =$D7*L7 -> 0 | N7: =F7+I7+L7 -> 0 | O7: =G7+J7+M7 -> 0
A8: 기존지반 정리 및 다짐 | C8: m2 | D8: 400 | E8: 2500 | G8: =$D8*F8 -> 0 | H8: 6000 | J8: =$D8*I8 -> 0 | M8: =$D8*L8 -> 0 | N8: =F8+I8+L8 -> 0 | O8: =G8+J8+M8 -> 0
A10: 2. 구조물공(배수공) | G10: =SUM(G11:G15) -> 0 | J10: =SUM(J11:J15) -> 0 | M10: =SUM(M11:M15) -> 0 | O10: =G10+J10+M10 -> 0 | R10: =G10+J10+M10 -> 0 | S10: =IF(O10=R10,"O.K","N.G…!!!") -> O.K
A11: 흄관 부설 | B11: D500 | C11: 본 | D11: 4 | G11: =$D11*F11 -> 0 | H11: 35000 | J11: =$D11*I11 -> 0 | M11: =$D11*L11 -> 0 | N11: =F11+I11+L11 -> 0 | O11: =G11+J11+M11 -> 0
A12: 면벽 설치 | B12: 조경석 | C12: ton | D12: 20 | G12: =$D12*F12 -> 0 | H12: 35000 | J12: =$D12*I12 -> 0 | M12: =$D12*L12 -> 0 | N12: =F12+I12+L12 -> 0 | O12: =G12+J12+M12 -> 0
A13: 측구수로관 부설 | B13: 관보호공 포함 | C13: m | D13: 10 | G13: =$D13*F13 -> 0 | H13: 35000 | J13: =$D13*I13 -> 0 | M13: =$D13*L13 -> 0 | N13: =F13+I13+L13 -> 0 | O13: =G13+J13+M13 -> 0 | P13: 300*300
A14: PE이중벽관 시공 | B14: D150 | C14: m | D14: 10 | G14: =$D14*F14 -> 0 | H14: 35000 | J14: =$D14*I14 -> 0 | M14: =$D14*L14 -> 0 | N14: =F14+I14+L14 -> 0 | O14: =G14+J14+M14 -> 0
A15: 콘크리트 경계석 설치 | B15: 150×150 | C15: m | D15: 220 | G15: =$D15*F15 -> 0 | H15: 120000 | J15: =$D15*I15 -> 0 | M15: =$D15*L15 -> 0 | N15: =F15+I15+L15 -> 0 | O15: =G15+J15+M15 -> 0
A17: 3. 포장공 | G17: =SUM(G18:G18) -> 0 | J17: =SUM(J18:J18) -> 0 | M17: =SUM(M18:M18) -> 0 | O17: =G17+J17+M17 -> 0
A18: 스톤블럭 설치 | C18: m2 | D18: 240 | G18: =$D18*F18 -> 0 | H18: 35000 | J18: =$D18*I18 -> 0 | M18: =$D18*L18 -> 0 | N18: =F18+I18+L18 -> 0 | O18: =G18+J18+M18 -> 0
A20: 4. 부대공사 | G20: =SUM(G21:G23) -> 0 | J20: =SUM(J21:J23) -> 0 | M20: =SUM(M21:M23) -> 0 | O20: =G20+J20+M20 -> 0
A21: 메쉬휀스 철거 | C21: 식 | D21: 1 | G21: =$D21*F21 -> 0 | H21: 35000 | J21: =$D21*I21 -> 0 | M21: =$D21*L21 -> 0 | N21: =F21+I21+L21 -> 0 | O21: =G21+J21+M21 -> 0
A22: 출입문 신설 | C22: 식 | D22: 1 | G22: =$D22*F22 -> 0 | H22: 120000 | J22: =$D22*I22 -> 0 | M22: =$D22*L22 -> 0 | N22: =F22+I22+L22 -> 0 | O22: =G22+J22+M22 -> 0
A23: 기타 부대공사 | C23: 식 | D23: 1 | G23: =$D23*F23 -> 0 | H23: 120000 | J23: =$D23*I23 -> 0 | M23: =$D23*L23 -> 0 | N23: =F23+I23+L23 -> 0 | O23: =G23+J23+M23 -> 0
A25: 5. 자재비 | G25: =SUM(G26:G36) -> 0 | J25: =SUM(J26:J36) -> 0 | M25: =SUM(M26:M36) -> 0 | O25: =G25+J25+M25 -> 0
A26: 쇄석40mm | C26: m3 | D26: 80 | G26: =$D26*F26 -> 0 | H26: 35000 | J26: =$D26*I26 -> 0 | M26: =$D26*L26 -> 0 | N26: =F26+I26+L26 -> 0 | O26: =G26+J26+M26 -> 0
A27: 혼합골재 | C27: m3 | D27: 50 | G27: =$D27*F27 -> 0 | H27: 35000 | J27: =$D27*I27 -> 0 | M27: =$D27*L27 -> 0 | N27: =F27+I27+L27 -> 0 | O27: =G27+J27+M27 -> 0
A28: 흄관 | C28: 본 | D28: 4 | G28: =$D28*F28 -> 0 | H28: 120000 | J28: =$D28*I28 -> 0 | M28: =$D28*L28 -> 0 | N28: =F28+I28+L28 -> 0 | O28: =G28+J28+M28 -> 0
A29: 측구수로관 | B29: 앵글부착 | C29: 본 | D29: 5 | G29: =$D29*F29 -> 0 | N29: =F29+I29+L29 -> 0 | O29: =G29+J29+M29 -> 0
A30: 중하중 그레이팅 | C30: m | D30: 10 | G30: =$D30*F30 -> 0 | N30: =F30+I30+L30 -> 0 | O30: =G30+J30+M30 -> 0
A31: PE이중벽관 | B31: D150 | C31: 본 | D31: 2 | G31: =$D31*F31 -> 0 | N31: =F31+I31+L31 -> 0 | O31: =G31+J31+M31 -> 0
A32: 스톤블럭 | B32: 회색 | C32: m2 | D32: 240 | G32: =$D32*F32 -> 0 | H32: 120000 | J32: =$D32*I32 -> 0 | M32: =$D32*L32 -> 0 | N32: =F32+I32+L32 -> 0 | O32: =G32+J32+M32 -> 0
A33: 콘크리트경계석 | B33: 150*150 | C33: m | D33: 220 | G33: =$D33*F33 -> 0 | H33: 120000 | J33: =$D33*I33 -> 0 | M33: =$D33*L33 -> 0 | N33: =F33+I33+L33 -> 0 | O33: =G33+J33+M33 -> 0
A34: 조경석 | C34: ton | D34: 20 | G34: =$D34*F34 -> 0 | H34: 120000 | J34: =$D34*I34 -> 0 | M34: =$D34*L34 -> 0 | N34: =F34+I34+L34 -> 0 | O34: =G34+J34+M34 -> 0
A35: 모래 | C35: m3 | D35: 15 | G35: =$D35*F35 -> 0 | H35: 120000 | J35: =$D35*I35 -> 0 | M35: =$D35*L35 -> 0 | N35: =F35+I35+L35 -> 0 | O35: =G35+J35+M35 -> 0
A36: 시멘트 | C36: 식 | D36: 1 | G36: =$D36*F36 -> 0 | H36: 120000 | J36: =$D36*I36 -> 0 | M36: =$D36*L36 -> 0 | N36: =F36+I36+L36 -> 0 | O36: =G36+J36+M36 -> 0
A40: 합 계 | G40: =G5+G10+G17+G20+G25 -> 0 | J40: =J5+J10+J17+J20+J25 -> 0 | M40: =M5+M10+M17+M20+M25 -> 0 | O40: =O5+O10+O17+O20+O25 -> 0 | R40: =SUM(G40:M40) -> 0 | S40: =IF(O40=R40,"O.K","N.G…!!!") -> O.K
F42: 1062
F43: 1788
F44: =SUM(F42:F43) -> 2850
