Workbook
Name __CDT2: #REF!
Name __JJ21: [1]중기일위대가!$J$25
Name __JK21: [1]중기일위대가!$K$25
Name __JN21: [1]중기일위대가!$I$25
Name _CDT2: #REF!
Name _JJ21: [1]중기일위대가!$J$25
Name _JK21: [1]중기일위대가!$K$25
Name _JN21: [1]중기일위대가!$I$25
Name _SUM1: [4]EP0618!#REF!
Name _SUM10: [4]EP0618!#REF!
Name _SUM11: [4]EP0618!#REF!
Name _SUM12: [4]EP0618!#REF!
Name _SUM13: [4]EP0618!#REF!
Name _SUM14: [4]EP0618!#REF!
Name _SUM15: [4]EP0618!#REF!
Name _SUM16: [4]EP0618!#REF!
Name _SUM17: [4]EP0618!#REF!
Name _SUM18: [4]EP0618!#REF!
Name _SUM19: [4]EP0618!#REF!
Name _SUM2: [4]EP0618!#REF!
Name _SUM3: [4]EP0618!#REF!
Name _SUM4: [4]EP0618!#REF!
Name _SUM5: [4]EP0618!#REF!
Name _SUM6: [4]EP0618!#REF!
Name _SUM7: [4]EP0618!#REF!
Name _SUM8: [4]EP0618!#REF!
Name _SUM9: [4]EP0618!#REF!
Name \0: #N/A
Name \a: #N/A
Name \c: #N/A
Name \e: #N/A
Name \m: #N/A
Name \p: #N/A
Name \s: #N/A
Name \z: #N/A
Name a: 공사원가!집
Name a: [0]!집
Name AAA: BlankMacro1
Name AAA: BlankMacro1
Name ART: #REF!
Name bbb: BlankMacro1
Name bbb: BlankMacro1
Name CAL: #N/A
Name CALAA: #N/A
Name CALAB: #N/A
Name CALAC: #N/A
Name CALBA: #N/A
Name CALBB: #N/A
Name CALBC: #N/A
Name CALBD: #N/A
Name CALBE: #N/A
Name CALBF: #N/A
Name CALBG: #REF!
Name CALBH: #N/A
Name CALBI: #N/A
Name CALBJ: #N/A
Name CALBK: #N/A
Name CALBL: #N/A
Name CALCA: #N/A
Name CALCB: #N/A

Sheet 도면표지
B3: 시설안전팀[RISE 4-1] 도심캠퍼스타운(1,2호관) 2차 환경개선 전기공사
B7: 2026. 06.
M15: =TRUNC(((((M9+M10+M11)*G16))*L15),0) -> 0
M16: =TRUNC(((((M9+M10)*G16))*L16),0) -> 0

Sheet 갑지
A2: 설 계 서 용 지 (갑 지)
A4: 과 장 | G4: 검 산 | M4: 심 사 | T4: 설 계 | Z4: 2026 년 06 월 일 설계
C6: 2026년도
A9: =도면표지!B3 -> 시설안전팀[RISE 4-1] 도심캠퍼스타운(1,2호관) 2차 환경개선 전기공사
A12: ◎ 설계내역서 참조
A14: 공 급 가 액 | G14: : | H14: ="일금 " & NUMBERSTRING(W14,1) &"원" -> 일금 영원 | T14: 정 | U14: ( | V14: ￦ | W14: =공사원가!D27 -> 0 | AB14: )
A15: 부 가 가 치 세 | G15: : | H15: ="일금 " & NUMBERSTRING(W15,1) &"원" -> 일금 영원 | T15: 정 | U15: ( | V15: ￦ | W15: =공사원가!D29 -> 0 | AB15: )
A16: 도 급 금 액 | G16: : | H16: ="일금 " & NUMBERSTRING(W16,1) &"원" -> 일금 영원 | T16: 정 | U16: ( | V16: ￦ | W16: =공사원가!D30 -> 0 | AB16: )
A17: 관 급 자 관 급 자 재 비 | G17: : | H17: ="일금 " & NUMBERSTRING(W17,1) &"원" -> 일금 영원 | T17: 정 | U17: ( | V17: ￦ | W17: =공사원가!D31 -> 0 | AB17: )
A18: 도 급 자 관 급 자 재 비 | G18: : | H18: ="일금 " & NUMBERSTRING(W18,1) &"원" -> 일금 영원 | T18: 정 | U18: ( | V18: ￦ | W18: =공사원가!D32 -> 0 | AB18: )
A19: 대 관 업 무 비 | G19: : | H19: ="일금 " & NUMBERSTRING(W19,1) &"원" -> 일금 영원 | T19: 정 | U19: ( | V19: ￦ | W19: =공사원가!D33 -> 0 | AB19: )
A20: 재 해 예 방 기 술 지 도 비 | G20: : | H20: ="일금 " & NUMBERSTRING(W20,1) &"원" -> 일금 영원 | T20: 정 | U20: ( | V20: ￦ | W20: =공사원가!D34 -> 0 | AB20: )
A23: 총 공 사 비 | G23: : | H23: ="일금 " & NUMBERSTRING(W23,1) &"원" -> 일금 영원 | T23: 정 | U23: ( | V23: ￦ | W23: =공사원가!D35 -> 0 | AB23: )

Sheet 공사원가
A1: 공 사 원 가 계 산 서
A2: 공 사 명 : | B2: =도면표지!B3 -> 시설안전팀[RISE 4-1] 도심캠퍼스타운(1,2호관) 2차 환경개선 전기공사 | F2: (단위:원)
A3: 비 목 | C3: 구 분 | D3: 전기공사 | E3: 구 성 비 | F3: 비 고 | G3: 구성비(%)
A4: 순 공 사 원 가 | B4: 재료비 | C4: 직 접 재 료 비 | D4: =공종별집계표!F5 -> 0 | J4: (공종별집계표 연계)
C5: 간 접 재 료 비
C6: 작업부산물(△)
C7: 소 계 | D7: =D4+D6 -> 0
B8: 노무비 | C8: 직 접 노 무 비 | D8: =공종별집계표!H5 -> 0 | J8: (공종별집계표 연계) | K8: 안전관리비(관급 포함/제외 중 적은금액 적용)
C9: 간 접 노 무 비 | D9: =TRUNC((D8*$G$9),0) -> 0 | E9: 직접노무비 * 6.0% | G9: 0.06 | K9: 재료비 | M9: =D4 -> 0
C10: 소 계 | D10: =TRUNC((SUM(D8+D9)),0) -> 0 | K10: 직접인건비 | M10: =D8 -> 0
B11: 경 비 | C11: 기 계 경 비 | D11: =공종별집계표!J5 -> 0 | J11: (공종별집계표 연계) | K11: 관급자재(부가세, 수수료 제외) | M11: =(N12+N13)/1.1 -> 0
C12: 퇴직공제부금비 | D12: =TRUNC(D8*G12) -> 0 | E12: 직접노무비 * 2.3%
C13: 산 재 보 험 료 | D13: =TRUNC((D10*$G$13),0) -> 0 | E13: 노무비 * 3.56% | G13: 0.0356 | O13: 조명
C14: 고 용 보 험 료 | D14: =TRUNC((D10*$G$14),0) -> 0 | E14: 노무비 * 1.01% | G14: 0.0101
C15: 연 금 보 험 료 | D15: =TRUNC((D8*$G$15),0) -> 0 | E15: 직접노무비 * 4.75% | J15: (1개월 미만 제외) | K15: 관급포합 | L15: 1 | M15: =TRUNC(((((M9+M10+M11)*G16))*L15),0) -> 0
C16: 안 전 관 리 비 | D16: =TRUNC((((D7+D8)*$G$16)*$H$16),0) -> 0 | E16: (재료비+직.노) * 3.11 | G16: 0.0311 | H16: 1 | J16: (2천만원이상만 적용) | K16: 관급제외 | L16: 1.2 | M16: =TRUNC(((((M9+M10)*G16))*L16),0) -> 0
C17: 건 강 보 험 료 | D17: =TRUNC((D8*$G$17),0) -> 0 | E17: 직접노무비 * 3.595% | J17: (1개월 미만 제외)
C18: 노인장기요양보험료 | D18: =TRUNC((D17*$G$18),0) -> 0 | E18: 건강보험료 * 13.14% | J18: (1개월 미만 제외)
C19: 기 타 경 비 | D19: =TRUNC(((D7+D10)*$G$19),0) -> 0 | E19: (재료비+노무비) * 3.0% | G19: 0.03
C20: 석 면 분 담 금 | D20: =TRUNC((D10*$G$20),0) -> 0 | E20: 노무비 * 0.006%
C21: 임금채권부담금 | D21: =TRUNC((D10*$G$21),0) -> 0 | E21: 노무비 * 0.09%
C22: 소 계 | D22: =TRUNC((SUM(D11:D21)),0) -> 0
B23: 순공사원가 합계 | D23: =SUM(D7+D10+D22) -> 0
A24: 일 반 관 리 비 | D24: =TRUNC((D23*$G$24),0) -> 0 | E24: 순공사원가 합계 * 3.0% | G24: 0.03 | J24: 금액조정(천단위이하금액)
A25: 이 윤 | D25: =TRUNC((((D10+D22+D24)*$G$25)-J25/1.1),0) -> 0 | E25: (노무비+경비+일.관) * 10% | G25: 0.1
A26: 폐 기 물 처 리 비
A27: 공 급 가 액 | D27: =TRUNC(SUM(D23:D26),0) -> 0
A28: 손해배상보험료(전기공사) | D28: =ROUNDUP(TRUNC((D27)*G28),-3) -> 0 | E28: 공급가액 * 0.26477%
A29: 부 가 가 치 세 | D29: =TRUNC(((D27+D28)*$G$29),-3) -> 0 | E29: 공급가액 * 10% | G29: 0.1
A30: 도 급 액 | D30: =ROUNDDOWN((D27+D28+D29),0) -> 0
A31: 관 급 자 관 급 자 재 비 | J31: (공종별집계표 연계)
A32: 도 급 자 관 급 자 재 비 | J32: (공종별집계표 연계)
A33: 대 관 업 무 비 | J33: (공종별집계표 연계)
A34: 재 해 예 방 기 술 지 도 비 | J34: (공종별집계표 연계)
A35: 총 공 사 비 | D35: =SUM(D30:D34) -> 0
C37: 순공사비 | D37: =SUM(D4+D8+D11) -> 0
C38: 연 면 적
C39: 평당금액

Sheet 공종별집계표
A1: 공 종 별 집 계 표
A2: [ 시설안전팀[RISE 4-1] 도심캠퍼스타운(1,2호관) 2차 환경개선 전기공사 ]
A3: 품 명 | B3: 규 격 | C3: 단위 | D3: 수량 | E3: 재 료 비 | G3: 노 무 비 | I3: 경 비 | K3: 합 계 | M3: 비 고 | N3: 공종코드 | O3: 변수 | P3: 상위공종 | Q3: 공종구분 | R3: 공종레벨 | S3: 공종소계 | T3: 원가계산서 연결금액
E4: 단 가 | F4: 금 액 | G4: 단 가 | H4: 금 액 | I4: 단 가 | J4: 금 액 | K4: 단 가 | L4: 금 액
A5: 01 시설안전팀[RISE 4-1] 도심캠퍼스타운(1,2호관) 2차 환경개선 전기공사 | D5: 1 | E5: =F6+F12 -> 0 | F5: =E5*D5 -> 0 | G5: =H6+H12 -> 0 | H5: =G5*D5 -> 0 | I5: =J6+J12 -> 0 | J5: =I5*D5 -> 0 | K5: =E5+G5+I5 -> 0 | L5: =F5+H5+J5 -> 0 | N5: 01 | R5: 1
A6: 0101 1호관 | D6: 1 | E6: =F7+F8+F9+F10+F11 -> 0 | F6: =E6*D6 -> 0 | G6: =H7+H8+H9+H10+H11 -> 0 | H6: =G6*D6 -> 0 | I6: =J7+J8+J9+J10+J11 -> 0 | J6: =I6*D6 -> 0 | K6: =E6+G6+I6 -> 0 | L6: =F6+H6+J6 -> 0 | N6: 0101 | P6: 01 | R6: 2
A7: 010101 전기간선공사 | D7: 1 | E7: =공종별내역서!F29 -> 0 | F7: =E7*D7 -> 0 | G7: =공종별내역서!H29 -> 0 | H7: =G7*D7 -> 0 | I7: =공종별내역서!J29 -> 0 | J7: =I7*D7 -> 0 | K7: =E7+G7+I7 -> 0 | L7: =F7+H7+J7 -> 0 | N7: 010101 | P7: 0101 | R7: 3
A8: 010102 전등설비공사 | D8: 1 | E8: =공종별내역서!F81 -> 0 | F8: =E8*D8 -> 0 | G8: =공종별내역서!H81 -> 0 | H8: =G8*D8 -> 0 | I8: =공종별내역서!J81 -> 0 | J8: =I8*D8 -> 0 | K8: =E8+G8+I8 -> 0 | L8: =F8+H8+J8 -> 0 | N8: 010102 | P8: 0101 | R8: 3
A9: 010103 전열설비공사 | D9: 1 | E9: =공종별내역서!F107 -> 0 | F9: =E9*D9 -> 0 | G9: =공종별내역서!H107 -> 0 | H9: =G9*D9 -> 0 | I9: =공종별내역서!J107 -> 0 | J9: =I9*D9 -> 0 | K9: =E9+G9+I9 -> 0 | L9: =F9+H9+J9 -> 0 | N9: 010103 | P9: 0101 | R9: 3
A10: 010104 동력설비공사 | D10: 1 | E10: =공종별내역서!F133 -> 0 | F10: =E10*D10 -> 0 | G10: =공종별내역서!H133 -> 0 | H10: =G10*D10 -> 0 | I10: =공종별내역서!J133 -> 0 | J10: =I10*D10 -> 0 | K10: =E10+G10+I10 -> 0 | L10: =F10+H10+J10 -> 0 | N10: 010104 | P10: 0101 | R10: 3
A11: 010105 철거공사 | D11: 1 | E11: =공종별내역서!F159 -> 0 | F11: =E11*D11 -> 0 | G11: =공종별내역서!H159 -> 0 | H11: =G11*D11 -> 0 | I11: =공종별내역서!J159 -> 0 | J11: =I11*D11 -> 0 | K11: =E11+G11+I11 -> 0 | L11: =F11+H11+J11 -> 0 | N11: 010105 | P11: 0101 | R11: 3
A12: 0102 2호관 | D12: 1 | E12: =F13 -> 0 | F12: =E12*D12 -> 0 | G12: =H13 -> 0 | H12: =G12*D12 -> 0 | I12: =J13 -> 0 | J12: =I12*D12 -> 0 | K12: =E12+G12+I12 -> 0 | L12: =F12+H12+J12 -> 0 | N12: 0102 | P12: 01 | R12: 2
A13: 010201 전기공사 | D13: 1 | E13: =공종별내역서!F185 -> 0 | F13: =E13*D13 -> 0 | G13: =공종별내역서!H185 -> 0 | H13: =G13*D13 -> 0 | I13: =공종별내역서!J185 -> 0 | J13: =I13*D13 -> 0 | K13: =E13+G13+I13 -> 0 | L13: =F13+H13+J13 -> 0 | N13: 010201 | P13: 0102 | R13: 3
A29: [ 합 계 ] | F29: =F5 -> 0 | H29: =H5 -> 0 | J29: =J5 -> 0 | L29: =L5 -> 0

Sheet 공종별내역서
A1: [ 시설안전팀[RISE 4-1] 도심캠퍼스타운(1,2호관) 2차 환경개선 전기공사 ]
A2: 품 명 | B2: 규 격 | C2: 단위 | D2: 수량 | E2: 재 료 비 | G2: 노 무 비 | I2: 경 비 | K2: 합 계 | M2: 비 고 | N2: 품목코드 | O2: 변수 | P2: 설정 | Q2: 공종코드 | R2: 일위 | S2: 단산 | T2: 자재 | U2: 손료적용 | V2: 손료저장 | W2: 적용율 | X2: JUK1 | Y2: JUK2 | Z2: JUK3 | AA2: JUK4 | AB2: JUK5 | AC2: JUK6 | AD2: JUK7 | AE2: JUK8 | AF2: JUK9 | AG2: JUK10 | AH2: JUK11 | AI2: JUK12 | AJ2: JUK13 | AK2: JUK14 | AL2: JUK15 | AM2: JUK16 | AN2: JUK17 | AO2: JUK18 | AP2: JUK19 | AQ2: JUK20 | AR2: 자재구분 | AS2: 공종구분 | AT2: 공종레벨 | AU2: 공종+자재 | AV2: 고유번호
E3: 단 가 | F3: 금 액 | G3: 단 가 | H3: 금 액 | I3: 단 가 | J3: 금 액 | K3: 단 가 | L3: 금 액
A4: 010101 전기간선공사 | Q4: 010101
A5: 0.6/1kv 내화케이블(F-FR-8) | B5: 1C*10㎟ | C5: M | D5: 10 | N5: 52DEF2166F1C586E61C685FF6362B4 | Q5: 010101 | R5: T | S5: F | T5: F | AU5: 01010152DEF2166F1C586E61C685FF6362B4 | AV5: 74
A6: 0.6/1kv 내화케이블(F-FR-8) | B6: 1C*35㎟ | C6: M | D6: 108 | N6: 52DEF2166F1C586E61C685FF636F0C | Q6: 010101 | R6: T | S6: F | T6: F | AU6: 01010152DEF2166F1C586E61C685FF636F0C | AV6: 75
A7: 0.6/1kv 내화케이블(F-FR-8) | B7: 4C*10㎟ | C7: M | D7: 28 | N7: 52DEF2166F1C586E61C335BF8C6063 | Q7: 010101 | R7: T | S7: F | T7: F | AU7: 01010152DEF2166F1C586E61C335BF8C6063 | AV7: 76
A8: 난연 비닐절연접지용전선(F-GV)-관내 | B8: 0.6/1kv, 10㎟ | C8: M | D8: 18 | N8: 52DEF2166F03E8D91DC7C5C98068BD | Q8: 010101 | R8: T | S8: F | T8: F | AU8: 01010152DEF2166F03E8D91DC7C5C98068BD | AV8: 77
A9: 난연 비닐절연접지용전선(F-GV)-관내 | B9: 0.6/1kv, 35㎟ | C9: M | D9: 27 | N9: 52DEF2166F03E8D91DC7C5C9806B71 | Q9: 010101 | R9: T | S9: F | T9: F | AU9: 01010152DEF2166F03E8D91DC7C5C9806B71 | AV9: 78
A10: 러그단자 | B10: 동관단자, 1홀, 10㎟ | C10: 개 | D10: 5 | N10: 55B192566AC0C82B2EC6C59AB1681D1A0698B1 | Q10: 010101 | R10: F | S10: F | T10: T | AU10: 01010155B192566AC0C82B2EC6C59AB1681D1A0698B1 | AV10: 80
A11: 동관단자 | B11: 러그단자, 1홀, 35㎟ | C11: EA | D11: 5 | N11: 52DEF2166FBC889A5DB085C24D61C5 | Q11: 010101 | R11: T | S11: F | T11: F | AU11: 01010152DEF2166FBC889A5DB085C24D61C5 | AV11: 79
A12: 파상형경질폴리에틸렌전선관-지중포설 | B12: 40㎜ | C12: M | D12: 16 | N12: 52DEF2166F3F28475331B5E5DB63AE | Q12: 010101 | R12: T | S12: F | T12: F | AU12: 01010152DEF2166F3F28475331B5E5DB63AE | AV12: 81
A13: 1종금속제가요전선관 | B13: 비닐피복, 54mm, 방수 | C13: M | D13: 10 | N13: 52DEF2166F3F2845A67945B6136DDE | Q13: 010101 | R13: T | S13: F | T13: F | AU13: 01010152DEF2166F3F2845A67945B6136DDE | AV13: 82
A14: 풀박스 | B14: 200*200*100mm | C14: 개 | D14: 1 | N14: 52DEF2166FBC8899B52B8528716071 | Q14: 010101 | R14: T | S14: F | T14: F | AU14: 01010152DEF2166FBC8899B52B8528716071 | AV14: 83
A15: 풀박스 | B15: 300*300*150mm | C15: 개 | D15: 2 | N15: 52DEF2166FBC8899B52B8528606E81 | Q15: 010101 | R15: T | S15: F | T15: F | AU15: 01010152DEF2166FBC8899B52B8528606E81 | AV15: 84
A16: 전기위험 표지시트 | B16: 저압용 | C16: M | D16: 16 | N16: 52DEF2166F76D8AD687F95F5D46766 | Q16: 010101 | R16: T | S16: F | T16: F | AU16: 01010152DEF2166F76D8AD687F95F5D46766 | AV16: 85
... A19: 전등분전함 | B19: "LP-B PANEL" | C19: 면 | D19: 1 | N19: 55DD8226DE51C8D825E9C53ED76CFB | Q19: 010101 | R19: T | S19: F | T19: F | AU19: 01010155DD8226DE51C8D825E9C53ED76CFB | AV19: 87
A20: 인력되메우기 | C20: ㎥ | D20: 9.6 | N20: 55DD8226DE24887CBC4A35CF8D60C6 | Q20: 010101 | R20: T | S20: F | T20: F | AU20: 01010155DD8226DE24887CBC4A35CF8D60C6 | AV20: 88
A21: 인력터파기 | B21: 보통토사0∼1m | C21: ㎥ | D21: 9.6 | N21: 55DD8226DE36E87D6508A59F0D6D6D | Q21: 010101 | R21: T | S21: F | T21: F | AU21: 01010155DD8226DE36E87D6508A59F0D6D6D | AV21: 89
A22: 배관용 구멍뚫기(코어드릴)-Con,c | B22: 두께 15cm 이하 ∮150mm, 벽 | C22: 개소 | D22: 2 | N22: 52DEF2665CE5E80E8FB0456A25632A | Q22: 010101 | R22: T | S22: F | T22: F | AU22: 01010152DEF2665CE5E80E8FB0456A25632A | AV22: 90
A23: 1종금속제가요전선관 | B23: 1종금속제가요전선관, 박스커넥터-비닐, 54mm, 방수 | C23: 개 | D23: 2 | N23: 55B192566AD158C84B7AD59BCD66788D0F0EC2 | Q23: 010101 | R23: F | S23: F | T23: T | AU23: 01010155B192566AD158C84B7AD59BCD66788D0F0EC2 | AV23: 91
A29: [ 합 계 ] | N29: TOTAL
A30: 010102 전등설비공사 | Q30: 010102
A31: 0.6/1kv 내화케이블(F-FR-8) | B31: 2C*2.5㎟ | C31: M | D31: 34 | N31: 52DEF2166F1C586E61C5E580C8650F | Q31: 010102 | R31: T | S31: F | T31: F | AU31: 01010252DEF2166F1C586E61C5E580C8650F | AV31: 94
A32: 0.6/1kv 내화케이블(F-FR-8) | B32: 3C*2.5㎟ | C32: M | D32: 182 | N32: 52DEF2166F1C586E61C4C516346E6B | Q32: 010102 | R32: T | S32: F | T32: F | AU32: 01010252DEF2166F1C586E61C4C516346E6B | AV32: 95
A33: 0.6/1kv 내화케이블(F-FR-8) | B33: 4C*2.5㎟ | C33: M | D33: 50 | N33: 52DEF2166F1C586E61C335BF8C6792 | Q33: 010102 | R33: T | S33: F | T33: F | AU33: 01010252DEF2166F1C586E61C335BF8C6792 | AV33: 96
A34: 0.6/1kv 내화케이블(F-FR-8) | B34: 5C*2.5㎟ | C34: M | D34: 17 | N34: 52DEF2166F1C586E61C2154EF06033 | Q34: 010102 | R34: T | S34: F | T34: F | AU34: 01010252DEF2166F1C586E61C2154EF06033 | AV34: 97
A35: 0.6/1kv 내화케이블(F-FR-8) | B35: 6C*2.5㎟ | C35: M | D35: 4 | N35: 52DEF2166F1C586E61C105DFD469BF | Q35: 010102 | R35: T | S35: F | T35: F | AU35: 01010252DEF2166F1C586E61C105DFD469BF | AV35: 98
A36: 아우트렛박스-매입 | B36: 8각 54mm | C36: 개 | D36: 40 | N36: 52DEF2166FBC8899B52AF5CDBB6F21 | Q36: 010102 | R36: T | S36: F | T36: F | AU36: 01010252DEF2166FBC8899B52AF5CDBB6F21 | AV36: 99
A37: 아우트렛박스-매입 | B37: 중형 4각 54㎜ | C37: 개 | D37: 30 | N37: 52DEF2166FBC8899B52AF5CDBB6E1A | Q37: 010102 | R37: T | S37: F | T37: F | AU37: 01010252DEF2166FBC8899B52AF5CDBB6E1A | AV37: 100
A38: 스위치박스-매입 | B38: 1개용 54 mm | C38: 개 | D38: 11 | N38: 52DEF2166FBC8899B52AF5CDA96395 | Q38: 010102 | R38: T | S38: F | T38: F | AU38: 01010252DEF2166FBC8899B52AF5CDA96395 | AV38: 101
A39: 스위치박스-매입 | B39: 2개용 54 mm | C39: 개 | D39: 1 | N39: 52DEF2166FBC8899B52AF5CDA9628F | Q39: 010102 | R39: T | S39: F | T39: F | AU39: 01010252DEF2166FBC8899B52AF5CDA9628F | AV39: 102
A40: 단로 램프 스위치 | B40: 1구 | C40: 개 | D40: 7 | N40: 52DEF2166FBC889B6386454177643B | Q40: 010102 | R40: T | S40: F | T40: F | AU40: 01010252DEF2166FBC889B6386454177643B | AV40: 103
A41: 단로 램프 스위치 | B41: 2구 | C41: 개 | D41: 3 | N41: 52DEF2166FBC889B6386454177643A | Q41: 010102 | R41: T | S41: F | T41: F | AU41: 01010252DEF2166FBC889B6386454177643A | AV41: 104
A42: 단로 램프 스위치 | B42: 3구 | C42: 개 | D42: 2 | N42: 52DEF2166FBC889B63864541776439 | Q42: 010102 | R42: T | S42: F | T42: F | AU42: 01010252DEF2166FBC889B63864541776439 | AV42: 105
... A51: 조명기구"LED6-TYPE" | B51: 원형라인펜던트, LED 40W | C51: 조 | D51: 6 | N51: 52DEF2166FBC889B6381C52DE7644F | Q51: 010102 | R51: T | S51: F | T51: F | AU51: 01010252DEF2166FBC889B6381C52DE7644F | AV51: 114
A52: 조명용RAIL | C52: M | D52: 40 | N52: 55B192566AFC08939AAF0525746723C3DCB558 | Q52: 010102 | R52: F | S52: F | T52: T | AU52: 01010255B192566AFC08939AAF0525746723C3DCB558 | AV52: 115
A53: 배관용 구멍뚫기(코어드릴)-Con,c | B53: 두께 15cm 이하 ∮150mm, 벽 | C53: 개소 | D53: 17 | N53: 52DEF2665CE5E80E8FB0456A25632A | Q53: 010102 | R53: T | S53: F | T53: F | AU53: 01010252DEF2665CE5E80E8FB0456A25632A | AV53: 116
A54: 조명기구 재설치 | B54: 투광등 LED 50W | C54: 개 | D54: 7 | N54: 55DD8226DE5198075CA015B5716E33 | Q54: 010102 | R54: T | S54: F | T54: F | AU54: 01010255DD8226DE5198075CA015B5716E33 | AV54: 117
A55: 조명기구 재설치 | B55: 간접조명(무대등) LED 40W | C55: 개 | D55: 2 | N55: 55DD8226DE5198075CA015B5716E32 | Q55: 010102 | R55: T | S55: F | T55: F | AU55: 01010255DD8226DE5198075CA015B5716E32 | AV55: 118
...
